BEGIN:VCALENDAR
VERSION:2.0
PRODID:-//Contemplative Outreach, Ltd. - ECPv6.15.17.1//NONSGML v1.0//EN
CALSCALE:GREGORIAN
METHOD:PUBLISH
X-ORIGINAL-URL:https://www.contemplativeoutreach.org
X-WR-CALDESC:Events for Contemplative Outreach, Ltd.
REFRESH-INTERVAL;VALUE=DURATION:PT1H
X-Robots-Tag:noindex
X-PUBLISHED-TTL:PT1H
BEGIN:VTIMEZONE
TZID:UTC
BEGIN:STANDARD
TZOFFSETFROM:+0000
TZOFFSETTO:+0000
TZNAME:UTC
DTSTART:20230101T000000
END:STANDARD
END:VTIMEZONE
BEGIN:VEVENT
DTSTART;TZID=UTC:20240315T150000
DTEND;TZID=UTC:20240317T150000
DTSTAMP:20260422T070852
CREATED:20240214T225049Z
LAST-MODIFIED:20240214T225049Z
UID:142008-1710514800-1710687600@www.contemplativeoutreach.org
SUMMARY:11th-Step Retreat
DESCRIPTION:This retreat is for people who participate in any 12-step recovery program to introduce or expand and deepen the experience of contemplative prayer as part of a daily 11th-Step practice ourselves\, in silence\, saying nothing\, asking for nothing\, just being and allowing our Higher Power to be with us. \nThe retreat will offer an environment of solitude and silence in community with time for reflection\, fellowship\, and a 12-step meeting. for those new to contemplative prayer\, the retreat is an introductory Workshop on Centering Prayer in the context of 12-step recover. \nPlease see the link below to register.
URL:https://www.contemplativeoutreach.org/event/11th-step-retreat/
LOCATION:Bethany Retreat Center\, 1031 Germania Rd\, Frenchville\, PA\, 16836\, United States
CATEGORIES:Retreat
ORGANIZER;CN="Nancy Cord-Baran":MAILTO:ncb612@gmail.com
END:VEVENT
BEGIN:VEVENT
DTSTART;TZID=UTC:20240316T090000
DTEND;TZID=UTC:20240316T120000
DTSTAMP:20260422T070852
CREATED:20240110T221638Z
LAST-MODIFIED:20240110T221723Z
UID:140469-1710579600-1710590400@www.contemplativeoutreach.org
SUMMARY:Lent Silent Saturday
DESCRIPTION:During Lent\, this quiet morning\, free from daily activities\, gives participants time for a communal gathering in silence and Centering Prayer. Along with scheduled prayers and contemplative walks is unstructured time for private journaling or reflection\, and enjoyment of the beautiful grounds of Holy Spirit Retreat Center. \nThe day is open to beginners as well as those experienced in contemplative prayer or silent meditation. All are welcome. A brief introduction to Centering Prayer will be offered for those new to the practice. \nRegistration online at hsrcenter.com is appreciated\, but not required.\nA free will offering is gratefully appreciated.\nFor more information contact Marilyn Nobori at centeringprayer@hsrcenter.com or 818-815-4480
URL:https://www.contemplativeoutreach.org/event/lent-silent-saturday/
LOCATION:Holy Spirit Retreat Center\, 4316 Lanai Road\, Encino\, CA\, 91436\, United States
CATEGORIES:Retreat
ATTACH;FMTTYPE=image/jpeg:https://www.contemplativeoutreach.org/wp-content/uploads/2024/01/IMG_3460-scaled-e1704924976374.jpg
ORGANIZER;CN="Marilyn Nobori":MAILTO:centeringprayer@hsrcenter.com
END:VEVENT
END:VCALENDAR