BEGIN:VCALENDAR
VERSION:2.0
PRODID:-//Contemplative Outreach, Ltd. - ECPv6.15.17.1//NONSGML v1.0//EN
CALSCALE:GREGORIAN
METHOD:PUBLISH
X-WR-CALNAME:Contemplative Outreach, Ltd.
X-ORIGINAL-URL:https://www.contemplativeoutreach.org
X-WR-CALDESC:Events for Contemplative Outreach, Ltd.
REFRESH-INTERVAL;VALUE=DURATION:PT1H
X-Robots-Tag:noindex
X-PUBLISHED-TTL:PT1H
BEGIN:VTIMEZONE
TZID:America/Halifax
BEGIN:DAYLIGHT
TZOFFSETFROM:-0400
TZOFFSETTO:-0300
TZNAME:ADT
DTSTART:20230312T060000
END:DAYLIGHT
BEGIN:STANDARD
TZOFFSETFROM:-0300
TZOFFSETTO:-0400
TZNAME:AST
DTSTART:20231105T050000
END:STANDARD
BEGIN:DAYLIGHT
TZOFFSETFROM:-0400
TZOFFSETTO:-0300
TZNAME:ADT
DTSTART:20240310T060000
END:DAYLIGHT
BEGIN:STANDARD
TZOFFSETFROM:-0300
TZOFFSETTO:-0400
TZNAME:AST
DTSTART:20241103T050000
END:STANDARD
BEGIN:DAYLIGHT
TZOFFSETFROM:-0400
TZOFFSETTO:-0300
TZNAME:ADT
DTSTART:20250309T060000
END:DAYLIGHT
BEGIN:STANDARD
TZOFFSETFROM:-0300
TZOFFSETTO:-0400
TZNAME:AST
DTSTART:20251102T050000
END:STANDARD
END:VTIMEZONE
BEGIN:VEVENT
DTSTART;TZID=America/Halifax:20240517T130000
DTEND;TZID=America/Halifax:20240519T130000
DTSTAMP:20260422T013726
CREATED:20240206T181805Z
LAST-MODIFIED:20240407T160147Z
UID:141835-1715950800-1716123600@www.contemplativeoutreach.org
SUMMARY:Centering Prayer Introductory Workshop Retreat
DESCRIPTION:THREE-DAY CENTERING PRAYER RETREAT\nMay 17 – 19\, 2024 \nCENTERING PRAYER INTRODUCTORY RETREAT\n– Learning to improve our conscious contact with the God of our understanding through prayer and meditation together. – \n“Silence is a great common denominator between people and also between us and God. God’s first language is silence.  Everything else is a poor translation. It is by entering into silence that we are best able to hear God.”  Fr. Thomas Keating\nThis retreat offers:  An in-depth experience of silent prayer/meditation; an introduction to Centering Prayer (including its use within an 11th Step Practice); and a presentation on The Human Condition.\nWe have come to believe that true healing can only happen though our conscious connection with a Higher Power.  As we consent to God’s presence and action within us through the Centering Prayer practice\, we open ourselves to the exact healing we most need.\nThis retreat also includes four continuing sessions by Zoom on Saturdays 9:00-10:00 am Eastern Time; dates TBD by attendees.\nThis is an opportunity for deeper union with God through communal sharing of silence and stillness. For those making their first silent retreat\, there will be periods of silent prayer as well as presentations on “The Method” with discussion.  We will also share videos by Fr. Thomas Keating on The Human Condition.\nDetails:  Location is the Sisters of Charity Motherhouse\, 5900 Delhi Road\, Mt. St. Joseph\, OH 45051                           Arrival on May 17 at 3:00pm; Depart on May 19 at 1:30pm.\nRetreat Leaders:  John Orr\, Gina DiGirolamo\, Bill Tonnis – Commissioned Presenters\, Contemplative Outreach\, LTD.\nCost: $250 includes private room w/bath\, all meals\, and a copy of “Open Mind Open Heart” by Thomas Keating. Commuters: $175 – includes all meals and book.  Registration with deposit of $125 or $62.50 respectively required by May 13.  Limited partial scholarships available.\nRegister by mail with the form below or online at co-gcnky.org via the Donate link.  For online registration\, please include information requested in the form below in the comment section of the Donation Page.\nContact Bill Tonnis @ billtonnis2012@gmail.com with questions.\nRegistration by Mail with check payable to Contemplative Outreach of Greater Cincinnati/Northern Kentucky (COGCNKY).  Mail to COGCNKY c/o JOHN ORR\, 5589 Day Drive\, Milford\, OH 45150.  Please print all information and indicate whether staying overnight or commuting.\nName ___________________________ Address ________________________________________ Email____________________________________ Phone ________________________________________ Include a note describing dietary restrictions/mobility limitations with your registration.  Thank you.
URL:https://www.contemplativeoutreach.org/event/weekend-workshop-enrichment/
LOCATION:Sisters of Charity Motherhouse\, 5900 Delhi Road\, Cincinnati\, OH\, 45233\, United States
CATEGORIES:Retreat,Workshop
ATTACH;FMTTYPE=image/jpeg:https://www.contemplativeoutreach.org/wp-content/uploads/2024/02/Intro-Workshop-Capture.jpg
ORGANIZER;CN="Contemplative Outreach of Greater Cincinnati and Northern Kentucky":MAILTO:cogcnky@gmail.com
END:VEVENT
END:VCALENDAR