BEGIN:VCALENDAR
VERSION:2.0
PRODID:-//Contemplative Outreach, Ltd. - ECPv6.15.17.1//NONSGML v1.0//EN
CALSCALE:GREGORIAN
METHOD:PUBLISH
X-ORIGINAL-URL:https://www.contemplativeoutreach.org
X-WR-CALDESC:Events for Contemplative Outreach, Ltd.
REFRESH-INTERVAL;VALUE=DURATION:PT1H
X-Robots-Tag:noindex
X-PUBLISHED-TTL:PT1H
BEGIN:VTIMEZONE
TZID:UTC
BEGIN:STANDARD
TZOFFSETFROM:+0000
TZOFFSETTO:+0000
TZNAME:UTC
DTSTART:20230101T000000
END:STANDARD
END:VTIMEZONE
BEGIN:VEVENT
DTSTART;VALUE=DATE:20240622
DTEND;VALUE=DATE:20240623
DTSTAMP:20260421T235423
CREATED:20240430T194136Z
LAST-MODIFIED:20240430T194136Z
UID:144163-1719014400-1719100799@www.contemplativeoutreach.org
SUMMARY:A Taste of Lectio Divina
DESCRIPTION:A Taste of Lectio Divina \nImagine what your spiritual life would be like if you were able to open yourself to the Word in Scripture\, allowing the Spirit to guide you\, learning about yourself and God’s will for you? \nLectio Divina\, meaning “divine reading”\, is the ancient interactive form of praying with Scripture\, which allows us to explore the Sacred Word’s inner meaning. \nThe workshop will include:\n• An Introduction to the method of Lectio Divina\n• Delving into the “four senses” of Scripture – the literal\, the allegorical\, the moral/behavioral\, and the unitive\n• Practicing the method using passages from the New Testament \nJoin this exploration of sacred texts that help us move from an acquaintance with God to a transformative relationship with the Divine. \nPlease see the link below to register.
URL:https://www.contemplativeoutreach.org/event/a-taste-of-lectio-divina/
LOCATION:Bethany Retreat Center\, 1031 Germania Rd\, Frenchville\, PA\, 16836\, United States
CATEGORIES:Retreat
END:VEVENT
END:VCALENDAR