BEGIN:VCALENDAR
VERSION:2.0
PRODID:-//Contemplative Outreach, Ltd. - ECPv6.15.17.1//NONSGML v1.0//EN
CALSCALE:GREGORIAN
METHOD:PUBLISH
X-WR-CALNAME:Contemplative Outreach, Ltd.
X-ORIGINAL-URL:https://www.contemplativeoutreach.org
X-WR-CALDESC:Events for Contemplative Outreach, Ltd.
REFRESH-INTERVAL;VALUE=DURATION:PT1H
X-Robots-Tag:noindex
X-PUBLISHED-TTL:PT1H
BEGIN:VTIMEZONE
TZID:UTC
BEGIN:STANDARD
TZOFFSETFROM:+0000
TZOFFSETTO:+0000
TZNAME:UTC
DTSTART:20230101T000000
END:STANDARD
END:VTIMEZONE
BEGIN:VEVENT
DTSTART;TZID=UTC:20240811T150000
DTEND;TZID=UTC:20240816T130000
DTSTAMP:20260423T003403
CREATED:20240215T143425Z
LAST-MODIFIED:20240624T170302Z
UID:142017-1723388400-1723813200@www.contemplativeoutreach.org
SUMMARY:Intensive Centering Prayer Retreat
DESCRIPTION:Rooted in the ancient Christian contemplative tradition\, the goal of this form of Christian prayer is to foster a deeper intimacy with Christ through the silence and stillness of contemplative prayer.\nIntensive: An in-depth retreat for those experienced in Centering Prayer. The retreat will facilitate entrance into a more profound level of spiritual practice in an atmosphere of silence\, solitude\, and community. \nA post-intensive retreat: an opportunity to spend extended time in deep silence in community to encourage a more intimate union with God. An intensive Centering Prayer experience is a prerequisite of the post-intensive. \nThis six-day retreat will be an in-depth retreat for those experienced in Centering Prayer. The retreat will facilitate entrance into a more profound level of spiritual practice in an atmosphere of silence\, solitude\, and community with an opportunity to spend extended time in deep silence in community to encourage a more intimate union with God. An existing Centering Prayer practice is a prerequisite for attending this retreat. \nFr. Thomas Keating’s teaching on the Human Condition (videos) will be viewed. As we have experienced\, these videos can be viewed over-and-over again as the spiritual journey continue at deeper levels.
URL:https://www.contemplativeoutreach.org/event/dual-track-centering-prayer-retreat/
LOCATION:Bethany Retreat Center\, 1031 Germania Rd\, Frenchville\, PA\, 16836\, United States
CATEGORIES:Retreat
ORGANIZER;CN="Sister Ruth Ann Madera":MAILTO:bethanyretreatcenter@gmail.com
END:VEVENT
END:VCALENDAR