BEGIN:VCALENDAR
VERSION:2.0
PRODID:-//Contemplative Outreach, Ltd. - ECPv6.15.17.1//NONSGML v1.0//EN
CALSCALE:GREGORIAN
METHOD:PUBLISH
X-ORIGINAL-URL:https://www.contemplativeoutreach.org
X-WR-CALDESC:Events for Contemplative Outreach, Ltd.
REFRESH-INTERVAL;VALUE=DURATION:PT1H
X-Robots-Tag:noindex
X-PUBLISHED-TTL:PT1H
BEGIN:VTIMEZONE
TZID:UTC
BEGIN:STANDARD
TZOFFSETFROM:+0000
TZOFFSETTO:+0000
TZNAME:UTC
DTSTART:20230101T000000
END:STANDARD
END:VTIMEZONE
BEGIN:VEVENT
DTSTART;TZID=UTC:20240823T120000
DTEND;TZID=UTC:20240828T163000
DTSTAMP:20260421T205415
CREATED:20240409T175046Z
LAST-MODIFIED:20240719T004931Z
UID:143652-1724414400-1724862600@www.contemplativeoutreach.org
SUMMARY:The Way of the Heart: A Silent Wisdom Retreat
DESCRIPTION:The Mercy Center Centering Prayer Wisdom Program presents…\nThe Way of the Heart: A Silent Wisdom Retreat\nStarts with lunch at 12pm on August 23\, ends at 4:30pm on August 28\nOnsite at Mercy Center in Burlingame\, California \n“The heart is the place of our origin in which the soul is\, as it were\, coming from the hands of God and waking up to itself.”\n– French Benedictine Henri Lassaux \nThe Way of the Heart is at the center of the Christian Wisdom tradition\, a transformative pilgrimage of the soul. This immersive silent Centering Prayer wisdom retreat is an invitation to enter the cave of our hearts\, to listen deeply to its rhythm\, and open to the guidance we discover within. Engaging the timeless teachings of Christian mystics\, teachers\, and sages\, we invite you to explore the depths of your being and cultivate a profound connection with the divine within and all around. \nThis retreat is ideal for seekers of all backgrounds who are drawn to the contemplative Christian Wisdom tradition and are yearning for a deeper connection with the divine. Whether you are new to contemplative practices or have been on the spiritual path for years\, this retreat offers a sacred space for renewal\, reflection\, and inner transformation. \nJoin us in person at beautiful Mercy Center\, Burlingame\, CA where we will gather to explore the Way of the Heart through the teachings of mystics and the practices of Centering Prayer\, chanting\, Lectio Divina\, guided meditation\, and sacred gestures and movement; all held within the arms of the Great Silence. In this silent Wisdom retreat\, there will be times of group sharing during teaching sessions. \nMinimum of 25 participants needed. \nRetreat Leaders: \nJoy Andrews Hayter\, Ph.D. is a spiritual director whose offerings include Centering Prayer and other contemplative practices of the Christian Wisdom tradition. She is the author of The Cosmic Web: Hope For Our World Through Science and Spirituality. Find out more at joyfulfillment.com. \nHeather Ruce\, M.A. Heather Ruce\, M. A. is a Wisdom Spiritual Director who offers Wisdom Practice Circles\, Retreats\, and Wisdom Schools focused on the expansive Christian Wisdom Tradition. She works within the lineage of Wisdom Teacher Cynthia Bourgeault\, having studied with her for over a decade. Find out more at heatherruce.com. \nCatherine Regan\, Ph.D. is a spiritual director\, retired psychologist\, and adjunct staff member at Mercy Center\, primarily serving on the Centering Prayer team. She has a special interest in participating in the reclamation of the Christian Wisdom tradition and fostering the contemplative practices so urgently needed at this time in our world. \nRegistration closes on August 9\, 2024 \nPlease see the link below to register.
URL:https://www.contemplativeoutreach.org/event/the-way-of-the-heart-a-silent-wisdom-retreat/
LOCATION:Mercy Center Burlingame\, 2300 Adeline Drive\, Burlingame\, CA\, 94010\, United States
CATEGORIES:Retreat
ATTACH;FMTTYPE=image/png:https://www.contemplativeoutreach.org/wp-content/uploads/2024/04/RETREAT-HEADERS-74.png
END:VEVENT
END:VCALENDAR