BEGIN:VCALENDAR
VERSION:2.0
PRODID:-//Contemplative Outreach, Ltd. - ECPv6.15.17.1//NONSGML v1.0//EN
CALSCALE:GREGORIAN
METHOD:PUBLISH
X-WR-CALNAME:Contemplative Outreach, Ltd.
X-ORIGINAL-URL:https://www.contemplativeoutreach.org
X-WR-CALDESC:Events for Contemplative Outreach, Ltd.
REFRESH-INTERVAL;VALUE=DURATION:PT1H
X-Robots-Tag:noindex
X-PUBLISHED-TTL:PT1H
BEGIN:VTIMEZONE
TZID:Europe/Berlin
BEGIN:DAYLIGHT
TZOFFSETFROM:+0100
TZOFFSETTO:+0200
TZNAME:CEST
DTSTART:20230326T010000
END:DAYLIGHT
BEGIN:STANDARD
TZOFFSETFROM:+0200
TZOFFSETTO:+0100
TZNAME:CET
DTSTART:20231029T010000
END:STANDARD
BEGIN:DAYLIGHT
TZOFFSETFROM:+0100
TZOFFSETTO:+0200
TZNAME:CEST
DTSTART:20240331T010000
END:DAYLIGHT
BEGIN:STANDARD
TZOFFSETFROM:+0200
TZOFFSETTO:+0100
TZNAME:CET
DTSTART:20241027T010000
END:STANDARD
BEGIN:DAYLIGHT
TZOFFSETFROM:+0100
TZOFFSETTO:+0200
TZNAME:CEST
DTSTART:20250330T010000
END:DAYLIGHT
BEGIN:STANDARD
TZOFFSETFROM:+0200
TZOFFSETTO:+0100
TZNAME:CET
DTSTART:20251026T010000
END:STANDARD
END:VTIMEZONE
BEGIN:VEVENT
DTSTART;TZID=Europe/Berlin:20240831T090000
DTEND;TZID=Europe/Berlin:20240831T123000
DTSTAMP:20260421T205312
CREATED:20240505T193736Z
LAST-MODIFIED:20240512T101430Z
UID:144298-1725094800-1725107400@www.contemplativeoutreach.org
SUMMARY:Quiet Day with Centering Prayer and Lectio Divina – in German language (Zoom online event)
DESCRIPTION:An diesem Tag gönnen wir uns\, einmal für ein paar Stunden scheinbar nichts zu machen\, wir lassen einfach geschehen. Wir legen die Handys beiseite (falls wir es nicht zum Teilnehmen am Zoom Meeting benötigen)\, lassen den Alltag hinter uns und verbringen die Zeit weitgehend schweigend miteinander. Wir habe Zeit für stille Meditation (Centering Prayer oder eine andere Form des stillen Gebets)\, Meditation mit einem Text (Lectio Divina) und vielleicht auch eine Zeit abseits des Computers in der Natur oder der Umgebung\, in der wir leben.\nWir werden einen ins deutsche übersetzten Text von Thomas Keating lesen aus der Publikation ‘That we may be one – Christliche Non-Dualität’.\nEs sind keine Vorkenntnisse erforderlich\, es erfolgt allerdings keine Einführung in die stille Meditation.\nDer gemeinsame Tag beginnt um 9:00 Uhr und endet gegen 12:30 Uhr. [3:00 am until 6:00 am New York 🙁 ] \nRegistrierung erforderlich bis 12:00 Uhr einen Tag vor dem Event. \nAll times in CET
URL:https://www.contemplativeoutreach.org/event/quiet-day-with-centering-prayer-and-lectio-divina-in-german-language-zoom-online-event/
LOCATION:Internet – Online
CATEGORIES:Retreat
ATTACH;FMTTYPE=image/png:https://www.contemplativeoutreach.org/wp-content/uploads/2024/05/Unbenannt.png
ORGANIZER;CN="Oliver Kintzel/Berlin":MAILTO:oliver.kintzel@centering-prayer-berlin.de
END:VEVENT
END:VCALENDAR