BEGIN:VCALENDAR
VERSION:2.0
PRODID:-//Contemplative Outreach, Ltd. - ECPv6.15.17.1//NONSGML v1.0//EN
CALSCALE:GREGORIAN
METHOD:PUBLISH
X-ORIGINAL-URL:https://www.contemplativeoutreach.org
X-WR-CALDESC:Events for Contemplative Outreach, Ltd.
REFRESH-INTERVAL;VALUE=DURATION:PT1H
X-Robots-Tag:noindex
X-PUBLISHED-TTL:PT1H
BEGIN:VTIMEZONE
TZID:UTC
BEGIN:STANDARD
TZOFFSETFROM:+0000
TZOFFSETTO:+0000
TZNAME:UTC
DTSTART:20230101T000000
END:STANDARD
END:VTIMEZONE
BEGIN:VEVENT
DTSTART;TZID=UTC:20241024T170000
DTEND;TZID=UTC:20241027T140000
DTSTAMP:20260421T170727
CREATED:20240727T025017Z
LAST-MODIFIED:20240727T025017Z
UID:146289-1729789200-1730037600@www.contemplativeoutreach.org
SUMMARY:3-Day Contemplative Retreat
DESCRIPTION:“CONTEMPLATION is the highest expression of a person’s intellectual and spiritual life. It is that life itself\, fully awake\, fully active\, fully aware that it is alive. It is spiritual wonder. It is spontaneous awe at the sacredness of life\, of being. It is gratitude for life\, for awareness and for being.”\n-Thomas Merton \nThe retreat aims to nurture the soul’s thirst for deepening the contemplative journey\, as a path to transformation. \nThis 3-day experience in silence experience includes short daily input sessions to deepen the Centering Prayer method and foster growth in the contemplative path; various periods of Centering Prayer each day; opportunity for spiritual companionship and journaling; and personal time to enjoy the silence inside the monastery and in its surrounding nature. \nIf you have any further question about the retreat\, please do not hesitate to contact through email. It is helpful to have attended a weekend Centering Prayer retreat or the one-day introductory workshop on Centering Prayer. \nPlease register by October 10th\, 2024
URL:https://www.contemplativeoutreach.org/event/3-day-contemplative-retreat/
LOCATION:Sacred Heart Monastery\, Missiezusters Klooster\, 20\, Steyl\, Venlo\, 5935 BX\, Netherlands
CATEGORIES:Retreat
ATTACH;FMTTYPE=image/jpeg:https://www.contemplativeoutreach.org/wp-content/uploads/2024/07/csm_Photo_5_6f5e79406e.jpg
ORGANIZER;CN="Sr. Maria Jose Rebelo%2C SSpS":MAILTO:silence.contemplation.steyl@ssps.de
END:VEVENT
END:VCALENDAR