BEGIN:VCALENDAR
VERSION:2.0
PRODID:-//Contemplative Outreach, Ltd. - ECPv6.15.17.1//NONSGML v1.0//EN
CALSCALE:GREGORIAN
METHOD:PUBLISH
X-ORIGINAL-URL:https://www.contemplativeoutreach.org
X-WR-CALDESC:Events for Contemplative Outreach, Ltd.
REFRESH-INTERVAL;VALUE=DURATION:PT1H
X-Robots-Tag:noindex
X-PUBLISHED-TTL:PT1H
BEGIN:VTIMEZONE
TZID:UTC
BEGIN:STANDARD
TZOFFSETFROM:+0000
TZOFFSETTO:+0000
TZNAME:UTC
DTSTART:20230101T000000
END:STANDARD
END:VTIMEZONE
BEGIN:VTIMEZONE
TZID:America/New_York
BEGIN:DAYLIGHT
TZOFFSETFROM:-0500
TZOFFSETTO:-0400
TZNAME:EDT
DTSTART:20230312T070000
END:DAYLIGHT
BEGIN:STANDARD
TZOFFSETFROM:-0400
TZOFFSETTO:-0500
TZNAME:EST
DTSTART:20231105T060000
END:STANDARD
BEGIN:DAYLIGHT
TZOFFSETFROM:-0500
TZOFFSETTO:-0400
TZNAME:EDT
DTSTART:20240310T070000
END:DAYLIGHT
BEGIN:STANDARD
TZOFFSETFROM:-0400
TZOFFSETTO:-0500
TZNAME:EST
DTSTART:20241103T060000
END:STANDARD
BEGIN:DAYLIGHT
TZOFFSETFROM:-0500
TZOFFSETTO:-0400
TZNAME:EDT
DTSTART:20250309T070000
END:DAYLIGHT
BEGIN:STANDARD
TZOFFSETFROM:-0400
TZOFFSETTO:-0500
TZNAME:EST
DTSTART:20251102T060000
END:STANDARD
END:VTIMEZONE
BEGIN:VEVENT
DTSTART;TZID=UTC:20241205T160000
DTEND;TZID=UTC:20241208T130000
DTSTAMP:20260421T161224
CREATED:20240215T201428Z
LAST-MODIFIED:20240215T201428Z
UID:142025-1733414400-1733662800@www.contemplativeoutreach.org
SUMMARY:Advent Retreat
DESCRIPTION:“Bridges to Contemplative Living” leads participants on a journey toward personal spiritual transformation and a more contemplative and peace-filled life.\nThis retreat is designed for those with an established daily practice of Centering Prayer who wish to deepen the transforming love of God in the midst of silence and solitude.\nThe weekend will include Centering Prayer\, conferences with contemplative dialogue\, personal time\, meals and Sunday liturgy. \nPlease use the link below to register.
URL:https://www.contemplativeoutreach.org/event/advent-retreat/
LOCATION:Bethany Retreat Center\, 1031 Germania Rd\, Frenchville\, PA\, 16836\, United States
CATEGORIES:Retreat
ORGANIZER;CN="Sister Ruth Ann Madera":MAILTO:bethanyretreatcenter@gmail.com
END:VEVENT
BEGIN:VEVENT
DTSTART;TZID=UTC:20241207T083000
DTEND;TZID=UTC:20241207T163000
DTSTAMP:20260421T161224
CREATED:20240612T170924Z
LAST-MODIFIED:20240612T170924Z
UID:145284-1733560200-1733589000@www.contemplativeoutreach.org
SUMMARY:Encountering and Deepening Into God’s Inspiration: A Lectio-Inspired Advent Day of Retreat and Practice - in person and online
DESCRIPTION:Spend an Advent day learning and experiencing how to encounter and deepen into God’s inspiration in sacred scripture and poetry\, art\, music\, yourself\, and your life. Our foundation will be Lectio Divina\, the ancient method of reading\, reflecting\, responding\, and resting in scripture\, and we’ll apply that to poetry as well. We’ll continue with Visio Divina\, praying with an icon created by a local iconographer. Lectio-inspired methods focused on music\, body senses\, and noticing God’s action in our daily lives will round out the day. \nThis program will be offered both in-person and online via Zoom. Information on how to access the program on Zoom will be sent to participants in advance. \nPlease see the link below to register.
URL:https://www.contemplativeoutreach.org/event/encountering-and-deepening-into-gods-inspiration-a-lectio-inspired-advent-day-of-retreat-and-practice-in-person-and-online/
LOCATION:Holy Family Passionist Retreat Center\, 303 Tunxis Road\, West Hartford\, CT\, 6107\, United States
CATEGORIES:Retreat,Workshop
ATTACH;FMTTYPE=image/png:https://www.contemplativeoutreach.org/wp-content/uploads/2024/06/CCE-Advent-Lectio-2024.png
ORGANIZER;CN="Mike  Smoolca":MAILTO:msmoolca@hotmail.com
END:VEVENT
BEGIN:VEVENT
DTSTART;TZID=America/New_York:20241207T093000
DTEND;TZID=America/New_York:20241207T153000
DTSTAMP:20260421T161224
CREATED:20241031T170748Z
LAST-MODIFIED:20241031T170748Z
UID:149613-1733563800-1733585400@www.contemplativeoutreach.org
SUMMARY:Trusting in the Mercy of God
DESCRIPTION:This day-long Centering Prayer retreat will be based on the themes explored in Cynthia Bourgeault’s book Mystical Hope – themes that are both timeless and eminently relevant today. Our time together will be marked by chanting\, silence\, teaching and Centering Prayer.
URL:https://www.contemplativeoutreach.org/event/trusting-in-the-mercy-of-god/
LOCATION:St Paul’s Episcopal Church\, 127 Summer Street\, Lynnfield\, MA\, 01940\, United States
CATEGORIES:Retreat
ATTACH;FMTTYPE=image/jpeg:https://www.contemplativeoutreach.org/wp-content/uploads/2024/10/Trusting-in-the-Mercy-of-God-7-e1730394444675.jpg
ORGANIZER;CN="Henry Schoenfield":MAILTO:info@henryschoenfield.com
END:VEVENT
BEGIN:VEVENT
DTSTART;TZID=America/New_York:20241207T130000
DTEND;TZID=America/New_York:20241207T160000
DTSTAMP:20260421T161224
CREATED:20220330T200659Z
LAST-MODIFIED:20241001T210600Z
UID:122731-1733576400-1733587200@www.contemplativeoutreach.org
SUMMARY:Centering Prayer Half-Day Advent Retreat
DESCRIPTION:Half-Day Centering Prayer Advent Retreat  \nSat\, Dec 7th from 1:00 pm – 4:00 pm Central Time; offered by the Church of Conscious Harmony \nThere will be Centering Prayer\, Lectio Divina\, and Silence & Solitude. All are welcome to participate in this half-day retreat.\nThere is no cost. Donations are joyfully received. For more info and to register\, select the link below.
URL:https://www.contemplativeoutreach.org/event/centering-prayer-half-day-retreat-via-zoom/
LOCATION:Church of Conscious Harmony\, 7406 Newhall Lane\, Austin\, TX\, 78746\, United States
CATEGORIES:Retreat
ORGANIZER;CN="Office Mgr - CCH":MAILTO:officemgr@consciousharmony.org
END:VEVENT
END:VCALENDAR