BEGIN:VCALENDAR
VERSION:2.0
PRODID:-//Contemplative Outreach, Ltd. - ECPv6.15.17.1//NONSGML v1.0//EN
CALSCALE:GREGORIAN
METHOD:PUBLISH
X-WR-CALNAME:Contemplative Outreach, Ltd.
X-ORIGINAL-URL:https://www.contemplativeoutreach.org
X-WR-CALDESC:Events for Contemplative Outreach, Ltd.
REFRESH-INTERVAL;VALUE=DURATION:PT1H
X-Robots-Tag:noindex
X-PUBLISHED-TTL:PT1H
BEGIN:VTIMEZONE
TZID:America/New_York
BEGIN:DAYLIGHT
TZOFFSETFROM:-0500
TZOFFSETTO:-0400
TZNAME:EDT
DTSTART:20230312T070000
END:DAYLIGHT
BEGIN:STANDARD
TZOFFSETFROM:-0400
TZOFFSETTO:-0500
TZNAME:EST
DTSTART:20231105T060000
END:STANDARD
BEGIN:DAYLIGHT
TZOFFSETFROM:-0500
TZOFFSETTO:-0400
TZNAME:EDT
DTSTART:20240310T070000
END:DAYLIGHT
BEGIN:STANDARD
TZOFFSETFROM:-0400
TZOFFSETTO:-0500
TZNAME:EST
DTSTART:20241103T060000
END:STANDARD
BEGIN:DAYLIGHT
TZOFFSETFROM:-0500
TZOFFSETTO:-0400
TZNAME:EDT
DTSTART:20250309T070000
END:DAYLIGHT
BEGIN:STANDARD
TZOFFSETFROM:-0400
TZOFFSETTO:-0500
TZNAME:EST
DTSTART:20251102T060000
END:STANDARD
END:VTIMEZONE
BEGIN:VEVENT
DTSTART;TZID=America/New_York:20241210T140000
DTEND;TZID=America/New_York:20241213T140000
DTSTAMP:20260421T161154
CREATED:20231027T200531Z
LAST-MODIFIED:20231027T200531Z
UID:138455-1733839200-1734098400@www.contemplativeoutreach.org
SUMMARY:Lectio Divina and the Four Senses of Scripture
DESCRIPTION:This Praying Holy Scripture retreat offers presentations based upon Fr. Thomas Keating’s teachings on the deepening levels of faith: the Four Senses of Scripture – literal\, allegorical\, behavioral/moral\, and unitive senses. The presentations teach a contemplative way of listening to and reading Scripture known as the ancient monastic practice of Lectio Divina. During the retreat\, one will experience the interplay of silence and Praying Holy Scripture combined with the rhythm of this Episcopal Benedictine monastic community’s worship and prayer life including Holy Eucharist. This contemplative retreat welcomes those comfortable with silence and yearning to learn this ancient way of praying rather than studying Holy Scripture. \nTuesday check-in is from 2:00 to 5:00 p.m. Vespers begins at 5:00pm. Dinner then follows. Orientation begins at 6:45pm. The retreat concludes with breakfast on the last day with optional attendance at Holy Eucharist. \nCost for the retreat is $430. The retreat fee includes a single room and all meals. Shared single occupancy bathrooms in the hallways. Register by e-mail or phone our Guesthouse Manager\, Donna Mallory at 845-384-6660 ext 1 or at guesthouse@hcmnet.org. \nIf you have questions about the retreat content or which track is best for you\, please contact retreat leader: Leslee Terpay at co-leslee@comcast.net.\nTo find out more about Holy Cross Monastery\, visit their website at: www.holycrossmonastery.com
URL:https://www.contemplativeoutreach.org/event/lectio-divina-and-the-four-senses-of-scripture/
LOCATION:Holy Cross Monastery – New York\, 1615 Route 9W\, West Park\, NY\, 12493\, United States
CATEGORIES:Retreat
ATTACH;FMTTYPE=image/jpeg:https://www.contemplativeoutreach.org/wp-content/uploads/2023/10/IMG_3274.jpg
ORGANIZER;CN="Leslee Anne Terpay":MAILTO:co-leslee@comcast.net
END:VEVENT
END:VCALENDAR