BEGIN:VCALENDAR
VERSION:2.0
PRODID:-//Contemplative Outreach, Ltd. - ECPv6.15.17.1//NONSGML v1.0//EN
CALSCALE:GREGORIAN
METHOD:PUBLISH
X-ORIGINAL-URL:https://www.contemplativeoutreach.org
X-WR-CALDESC:Events for Contemplative Outreach, Ltd.
REFRESH-INTERVAL;VALUE=DURATION:PT1H
X-Robots-Tag:noindex
X-PUBLISHED-TTL:PT1H
BEGIN:VTIMEZONE
TZID:UTC
BEGIN:STANDARD
TZOFFSETFROM:+0000
TZOFFSETTO:+0000
TZNAME:UTC
DTSTART:20230101T000000
END:STANDARD
END:VTIMEZONE
BEGIN:VEVENT
DTSTART;TZID=UTC:20241214T090000
DTEND;TZID=UTC:20241214T120000
DTSTAMP:20260421T141130
CREATED:20240807T122313Z
LAST-MODIFIED:20240810T000620Z
UID:146642-1734166800-1734177600@www.contemplativeoutreach.org
SUMMARY:Advent Silent Saturday
DESCRIPTION:As we enter the season of Advent\, join us for a quiet morning of Centering Prayer and silence. The day is open to beginners as well as those experienced in contemplative prayer or silent meditation. The day provides time for communal Centering Prayer\, a contemplative walk\, and private journaling and reflection\, and ends with a period of Lectio Divina. All are welcome. A brief introduction to Centering Prayer will be offered for those new to the practice. \nFacilitators: Silent Saturday Centering Prayer Team\nA free will offering is gratefully appreciated. \nFor more information\, please email Marilyn Nobori at centeringprayer@hsrcenter.com.\nRegistration online at www.hsrcenter.com is appreciated but not required.\n(Arrive by 8:50 a.m.)\n(Photo by Waldemar\, Unsplash)
URL:https://www.contemplativeoutreach.org/event/advent-silent-saturday-4/
LOCATION:Holy Spirit Retreat Center\, 4316 Lanai Road\, Encino\, CA\, 91436\, United States
CATEGORIES:Retreat
ATTACH;FMTTYPE=image/jpeg:https://www.contemplativeoutreach.org/wp-content/uploads/2024/08/CPDec0923AdvSS-e1723033377146.jpg
ORGANIZER;CN="Marilyn Nobori":MAILTO:centeringprayer@hsrcenter.com
END:VEVENT
END:VCALENDAR