BEGIN:VCALENDAR
VERSION:2.0
PRODID:-//Contemplative Outreach, Ltd. - ECPv6.15.17.1//NONSGML v1.0//EN
CALSCALE:GREGORIAN
METHOD:PUBLISH
X-ORIGINAL-URL:https://www.contemplativeoutreach.org
X-WR-CALDESC:Events for Contemplative Outreach, Ltd.
REFRESH-INTERVAL;VALUE=DURATION:PT1H
X-Robots-Tag:noindex
X-PUBLISHED-TTL:PT1H
BEGIN:VTIMEZONE
TZID:UTC
BEGIN:STANDARD
TZOFFSETFROM:+0000
TZOFFSETTO:+0000
TZNAME:UTC
DTSTART:20240101T000000
END:STANDARD
END:VTIMEZONE
BEGIN:VTIMEZONE
TZID:America/New_York
BEGIN:DAYLIGHT
TZOFFSETFROM:-0500
TZOFFSETTO:-0400
TZNAME:EDT
DTSTART:20240310T070000
END:DAYLIGHT
BEGIN:STANDARD
TZOFFSETFROM:-0400
TZOFFSETTO:-0500
TZNAME:EST
DTSTART:20241103T060000
END:STANDARD
BEGIN:DAYLIGHT
TZOFFSETFROM:-0500
TZOFFSETTO:-0400
TZNAME:EDT
DTSTART:20250309T070000
END:DAYLIGHT
BEGIN:STANDARD
TZOFFSETFROM:-0400
TZOFFSETTO:-0500
TZNAME:EST
DTSTART:20251102T060000
END:STANDARD
BEGIN:DAYLIGHT
TZOFFSETFROM:-0500
TZOFFSETTO:-0400
TZNAME:EDT
DTSTART:20260308T070000
END:DAYLIGHT
BEGIN:STANDARD
TZOFFSETFROM:-0400
TZOFFSETTO:-0500
TZNAME:EST
DTSTART:20261101T060000
END:STANDARD
END:VTIMEZONE
BEGIN:VEVENT
DTSTART;TZID=UTC:20250101T080000
DTEND;TZID=UTC:20250401T170000
DTSTAMP:20260421T143836
CREATED:20240721T030922Z
LAST-MODIFIED:20250306T161912Z
UID:146115-1735718400-1743526800@www.contemplativeoutreach.org
SUMMARY:Contemplative Living II: Daily Life as Prayer – via Zoom
DESCRIPTION:Your life is hidden with Christ in God.\n– Colossians 3:3 \nFurther enrich your contemplative life and embrace the practice of living each day as a form of prayer. In Contemplative Living I (CL I) the focus is on deepening your interior prayer life\, leading to the awareness of God’s presence in all that is. In Contemplative Living II (CL II) the focus shifts towards increased intentionality in how you are living your daily life. You likely have a better understanding of what blocks you in deepening your relationship with God\, others\, and even with yourself. You are now more capable of looking at your part in relationships and what gets in the way of being and becoming the person God created you to be. Building on the contemplative practices learned in CL I\, in CL II you will assess where you are in your life and how you can make choices aligning with your authentic self. \nThe design of Contemplative Living II: Daily Life as Prayer: \nGaining contemplative attitudes and dispositions through \n\nContemplative Listening – a practice of active listening in group spiritual direction\, raising your awareness of the movements of the Divine within you and others.\nContemplative Discernment – a method of going to God with your questions and desires\, allowing the answers to find you\nContemplative Awareness related to Addictions\, Attachments and Aversion – using contemplative discernment to surface habit patterns that have become compulsions that you no longer freely choose\nThe Forgiveness Prayer – a prayer that guides you to follow Jesus’s example to live with hearts open to love\nContemplative Service – a vocation\, a calling\, or a way of life that’s rooted in living a contemplative life\nCommitment to a Contemplative Rule of Life – looking at the rhythm of life you’ve created in this course\, what practices have worked for you and that you will continue to commit to in the ordinary activities of your life\nContemplative Living Communities – the support we receive from community enhances our spiritual journey and is helpful to continue in some way at the end of the course\n\nPlease see the link below for more information and to register.
URL:https://www.contemplativeoutreach.org/event/contemplative-living-ii-daily-life-as-prayer-via-zoom/
LOCATION:Internet – Online
END:VEVENT
BEGIN:VEVENT
DTSTART;TZID=UTC:20250110T170000
DTEND;TZID=UTC:20250117T110000
DTSTAMP:20260421T143836
CREATED:20240815T203623Z
LAST-MODIFIED:20240815T203623Z
UID:146915-1736528400-1737111600@www.contemplativeoutreach.org
SUMMARY:Eight Day Centering Prayer Retreat
DESCRIPTION:Each January\, St. Mary’s Sewanee begins the New Year by hosting eight days of sacred silence in a Centering Prayer Retreat. Guests are invited to participate as either “intensive” (first time attending in a long retreat) or “post-intensive” (experienced in attending long retreats). \nGuests can participate in daily sits\, Holy Eucharist services\, Meditation in Motion classes\, and BodyWork sessions (acupressure). Fresh nutritious meals and daily snacks are provided throughout the week. Opportunities to enjoy the labyrinth\, the meditation garden\, the Turkey Hollow Trail\, or a simple walk down St. Mary’s Lane\, all while experiencing the gifts of holy silence. \nPlease see the link below for more information and to register.
URL:https://www.contemplativeoutreach.org/event/eight-day-centering-prayer-retreat-5/
LOCATION:St. Mary’s Sewanee: The Ayres Center for Spiritual Development\, 770 St. Mary's Lane\, TN\, 37375\, United States
CATEGORIES:Retreat
ATTACH;FMTTYPE=image/jpeg:https://www.contemplativeoutreach.org/wp-content/uploads/2024/08/StMarys_horizontal.small_.jpg
END:VEVENT
BEGIN:VEVENT
DTSTART;TZID=America/New_York:20250110T180000
DTEND;TZID=America/New_York:20250114T110000
DTSTAMP:20260421T143836
CREATED:20200630T005753Z
LAST-MODIFIED:20241223T012531Z
UID:106154-1736532000-1736852400@www.contemplativeoutreach.org
SUMMARY:Centering Prayer 5-Day Renewal Retreat
DESCRIPTION:Centering Prayer 5-Day Retreat \nThis in-person 5-day Centering Prayer Retreat is offered by The Church of Conscious Harmony at the beautiful Cedarbrake Renewal Center in Belton\, Texas.  The schedule will be quite spacious\, with extended free time in silence and solitude. Retreat includes vegetarian meals and private room lodging. The retreat begins with check-in between 4 and 5pm and dinner at 6pm Friday and concludes by 11am Tuesday. Space is limited. \nTo register\, select the link below or call the church office at 512-347-9673.
URL:https://www.contemplativeoutreach.org/event/centering-prayer-one-day-virtual-retreat-wed-july-22nd-900-am-300-pm/
LOCATION:Cedarbrake Renewal Center\, 5602 Hwy 317\, Belton\, TX\, 76513\, United States
CATEGORIES:Retreat
ORGANIZER;CN="Office Mgr - CCH":MAILTO:officemgr@consciousharmony.org
END:VEVENT
END:VCALENDAR