BEGIN:VCALENDAR
VERSION:2.0
PRODID:-//Contemplative Outreach, Ltd. - ECPv6.15.17.1//NONSGML v1.0//EN
CALSCALE:GREGORIAN
METHOD:PUBLISH
X-WR-CALNAME:Contemplative Outreach, Ltd.
X-ORIGINAL-URL:https://www.contemplativeoutreach.org
X-WR-CALDESC:Events for Contemplative Outreach, Ltd.
REFRESH-INTERVAL;VALUE=DURATION:PT1H
X-Robots-Tag:noindex
X-PUBLISHED-TTL:PT1H
BEGIN:VTIMEZONE
TZID:UTC
BEGIN:STANDARD
TZOFFSETFROM:+0000
TZOFFSETTO:+0000
TZNAME:UTC
DTSTART:20240101T000000
END:STANDARD
END:VTIMEZONE
BEGIN:VTIMEZONE
TZID:America/New_York
BEGIN:DAYLIGHT
TZOFFSETFROM:-0500
TZOFFSETTO:-0400
TZNAME:EDT
DTSTART:20240310T070000
END:DAYLIGHT
BEGIN:STANDARD
TZOFFSETFROM:-0400
TZOFFSETTO:-0500
TZNAME:EST
DTSTART:20241103T060000
END:STANDARD
BEGIN:DAYLIGHT
TZOFFSETFROM:-0500
TZOFFSETTO:-0400
TZNAME:EDT
DTSTART:20250309T070000
END:DAYLIGHT
BEGIN:STANDARD
TZOFFSETFROM:-0400
TZOFFSETTO:-0500
TZNAME:EST
DTSTART:20251102T060000
END:STANDARD
BEGIN:DAYLIGHT
TZOFFSETFROM:-0500
TZOFFSETTO:-0400
TZNAME:EDT
DTSTART:20260308T070000
END:DAYLIGHT
BEGIN:STANDARD
TZOFFSETFROM:-0400
TZOFFSETTO:-0500
TZNAME:EST
DTSTART:20261101T060000
END:STANDARD
END:VTIMEZONE
BEGIN:VTIMEZONE
TZID:America/New_York
BEGIN:DAYLIGHT
TZOFFSETFROM:-0500
TZOFFSETTO:-0400
TZNAME:EDT
DTSTART:20240310T070000
END:DAYLIGHT
BEGIN:STANDARD
TZOFFSETFROM:-0400
TZOFFSETTO:-0500
TZNAME:EST
DTSTART:20241103T060000
END:STANDARD
BEGIN:DAYLIGHT
TZOFFSETFROM:-0500
TZOFFSETTO:-0400
TZNAME:EDT
DTSTART:20250309T070000
END:DAYLIGHT
BEGIN:STANDARD
TZOFFSETFROM:-0400
TZOFFSETTO:-0500
TZNAME:EST
DTSTART:20251102T060000
END:STANDARD
BEGIN:DAYLIGHT
TZOFFSETFROM:-0500
TZOFFSETTO:-0400
TZNAME:EDT
DTSTART:20260308T070000
END:DAYLIGHT
BEGIN:STANDARD
TZOFFSETFROM:-0400
TZOFFSETTO:-0500
TZNAME:EST
DTSTART:20261101T060000
END:STANDARD
END:VTIMEZONE
BEGIN:VTIMEZONE
TZID:Europe/Paris
BEGIN:DAYLIGHT
TZOFFSETFROM:+0100
TZOFFSETTO:+0200
TZNAME:CEST
DTSTART:20240331T010000
END:DAYLIGHT
BEGIN:STANDARD
TZOFFSETFROM:+0200
TZOFFSETTO:+0100
TZNAME:CET
DTSTART:20241027T010000
END:STANDARD
BEGIN:DAYLIGHT
TZOFFSETFROM:+0100
TZOFFSETTO:+0200
TZNAME:CEST
DTSTART:20250330T010000
END:DAYLIGHT
BEGIN:STANDARD
TZOFFSETFROM:+0200
TZOFFSETTO:+0100
TZNAME:CET
DTSTART:20251026T010000
END:STANDARD
BEGIN:DAYLIGHT
TZOFFSETFROM:+0100
TZOFFSETTO:+0200
TZNAME:CEST
DTSTART:20260329T010000
END:DAYLIGHT
BEGIN:STANDARD
TZOFFSETFROM:+0200
TZOFFSETTO:+0100
TZNAME:CET
DTSTART:20261025T010000
END:STANDARD
END:VTIMEZONE
BEGIN:VEVENT
DTSTART;TZID=UTC:20250101T080000
DTEND;TZID=UTC:20250401T170000
DTSTAMP:20260421T143654
CREATED:20240721T030922Z
LAST-MODIFIED:20250306T161912Z
UID:146115-1735718400-1743526800@www.contemplativeoutreach.org
SUMMARY:Contemplative Living II: Daily Life as Prayer – via Zoom
DESCRIPTION:Your life is hidden with Christ in God.\n– Colossians 3:3 \nFurther enrich your contemplative life and embrace the practice of living each day as a form of prayer. In Contemplative Living I (CL I) the focus is on deepening your interior prayer life\, leading to the awareness of God’s presence in all that is. In Contemplative Living II (CL II) the focus shifts towards increased intentionality in how you are living your daily life. You likely have a better understanding of what blocks you in deepening your relationship with God\, others\, and even with yourself. You are now more capable of looking at your part in relationships and what gets in the way of being and becoming the person God created you to be. Building on the contemplative practices learned in CL I\, in CL II you will assess where you are in your life and how you can make choices aligning with your authentic self. \nThe design of Contemplative Living II: Daily Life as Prayer: \nGaining contemplative attitudes and dispositions through \n\nContemplative Listening – a practice of active listening in group spiritual direction\, raising your awareness of the movements of the Divine within you and others.\nContemplative Discernment – a method of going to God with your questions and desires\, allowing the answers to find you\nContemplative Awareness related to Addictions\, Attachments and Aversion – using contemplative discernment to surface habit patterns that have become compulsions that you no longer freely choose\nThe Forgiveness Prayer – a prayer that guides you to follow Jesus’s example to live with hearts open to love\nContemplative Service – a vocation\, a calling\, or a way of life that’s rooted in living a contemplative life\nCommitment to a Contemplative Rule of Life – looking at the rhythm of life you’ve created in this course\, what practices have worked for you and that you will continue to commit to in the ordinary activities of your life\nContemplative Living Communities – the support we receive from community enhances our spiritual journey and is helpful to continue in some way at the end of the course\n\nPlease see the link below for more information and to register.
URL:https://www.contemplativeoutreach.org/event/contemplative-living-ii-daily-life-as-prayer-via-zoom/
LOCATION:Internet – Online
END:VEVENT
BEGIN:VEVENT
DTSTART;TZID=UTC:20250123T180000
DTEND;TZID=UTC:20250126T140000
DTSTAMP:20260421T143654
CREATED:20241125T190709Z
LAST-MODIFIED:20241125T190709Z
UID:150416-1737655200-1737900000@www.contemplativeoutreach.org
SUMMARY:Retreat in Iceland with Mary Dwyer
DESCRIPTION:Welcoming Forgiveness \nThis retreat will be in silence with extended periods of Centering Prayer (Contemplative Prayer). Information and support will be available for those that do not know Centering Prayer. \nMary Dwyer will explore with us the dance between the Welcoming Prayer practice and Forgiveness. Soul friending will be available. \nThe Welcoming Prayer is a method of consenting to God’s presence and action in our physical and emotional reactions to events and situations in daily life. The purpose of the Welcoming Prayer is to deepen our relationship with God through consenting in the ordinary activities of our day — “consent-on-the-go.” \nCentering Prayer is a receptive method of Christian silent prayer which deepens our relationship with God\, the Indwelling Presence … a prayer in which we can experience God’s presence within us\, closer than breathing\, closer than thinking\, closer than consciousness itself. \nPrice: 110.000 Icelandic kronas – Room for one / 85.000 Icelandic kronas – Room for two. Food is included. \nThe retreat will be at Hotel Kríunes in the capital area in Iceland. It´s a long weekend from the afternoon of the 23rd of January until midday of the 26th of January. Sr. Arndís G. Bernhardsdóttir Linn and Bylgja Dís Gunnarsdóttir will lead the retreat. For more information send an email to Bylgja: kyrrdarbaen@gmail.com.
URL:https://www.contemplativeoutreach.org/event/retreat-in-iceland-with-mary-dwyer/
LOCATION:Maryland
CATEGORIES:Retreat,Workshop
ATTACH;FMTTYPE=image/jpeg:https://www.contemplativeoutreach.org/wp-content/uploads/2024/11/Kriunes-e1732561615249.jpg
END:VEVENT
BEGIN:VEVENT
DTSTART;TZID=UTC:20250124T170000
DTEND;TZID=UTC:20250126T110000
DTSTAMP:20260421T143654
CREATED:20240815T203814Z
LAST-MODIFIED:20240815T203814Z
UID:146921-1737738000-1737889200@www.contemplativeoutreach.org
SUMMARY:Chatting with the Divine Weekend Retreat
DESCRIPTION:Sr. Marie Tasto wrote that practicing lectio divina “is an experience of being shaped by the Word of God and coming into fullness as the word God created us to be.” You are invited to participate in this experience while surrounded by the quiet beauty of St. Mary’s Sewanee. Although this is not strictly an introductory workshop\, no prior experience of praying in this contemplative manner is necessary. \nParticipants will practice lectio divina in both the more structured scholastic format as well as the monastic format. Both formats invite participants to respond to what the Spirit is stirring up in them\, thereby making manifest the grace and wonder of listening to Scripture as a community. Learn more about the two formats of lectio divina … \nPlease see the link below for more information and to register.
URL:https://www.contemplativeoutreach.org/event/chatting-with-the-divine-weekend-retreat/
LOCATION:St. Mary’s Sewanee: The Ayres Center for Spiritual Development\, 770 St. Mary's Lane\, TN\, 37375\, United States
CATEGORIES:Retreat
ATTACH;FMTTYPE=image/jpeg:https://www.contemplativeoutreach.org/wp-content/uploads/2024/08/StMarys_horizontal.small_-1.jpg
END:VEVENT
BEGIN:VEVENT
DTSTART;VALUE=DATE:20250125
DTEND;VALUE=DATE:20250126
DTSTAMP:20260421T143654
CREATED:20241126T225455Z
LAST-MODIFIED:20250124T170718Z
UID:150573-1737763200-1737849599@www.contemplativeoutreach.org
SUMMARY:Laudato Si’ 10th Anniversary Contemplative Vigil - via Zoom
DESCRIPTION:The Laudato Si’ Movement\, together with the World Community of Christian Contemplation\, Contemplative Outreach\, the Taizé Community\, the Office of the Franciscan Minors for Justice\, Peace and the Integrity of Creation\, and the Assisi Center\, invite you to participate in a 10-hour contemplative vigil to honor the role of contemplation in caring for our common home. \nEach of the 10 hours will be guided by a quotation from Laudato Si’ and the wisdom of leading contemplative communities\, as well as some form of contemplative practice and reflection. \n\nDate: Saturday\, January 25\, 2025\nBegins: 6 am NYC / 11 am London / 12 pm Rome / 2 pm Nairobi / 7pm Manila\n\nVolunteers from the Contemplative Outreach community will speak during the first hour and then host the 10am Eastern time slot (3pm GMT) on Saturday\, January 25\, 2025. The session is entitled\, “The Perils of Pride: Embracing Humility for a Sustainable Future.” \nMore information can be found here including the Zoom link to join. Participate as much or as little as you like.
URL:https://www.contemplativeoutreach.org/event/laudato-si-10th-anniversary-contemplative-vigil/
LOCATION:Internet – Online
CATEGORIES:Retreat,Webcast
ATTACH;FMTTYPE=image/jpeg:https://www.contemplativeoutreach.org/wp-content/uploads/2024/11/EN_Laudato-Si-Anniversary-e1732661516739.jpg
ORGANIZER;CN="Contemplative Outreach Ltd":MAILTO:office@coutreach.org
END:VEVENT
BEGIN:VEVENT
DTSTART;VALUE=DATE:20250125
DTEND;VALUE=DATE:20250127
DTSTAMP:20260421T143654
CREATED:20241205T181856Z
LAST-MODIFIED:20241205T182003Z
UID:150846-1737763200-1737935999@www.contemplativeoutreach.org
SUMMARY:Centering Prayer Summit: The Contemplative Heart of Unity: A Retreat into Oneness through Centering Prayer
DESCRIPTION:In a world where division and disconnection often overshadow our shared humanity\, the call to unity has never been more urgent. \nThe 4th Annual Online Centering Prayer Summit on January 25-26 offers a sacred space to move beyond personal peace to embrace a shared\, universal connection with the Divine and all of creation. Guided by renowned contemplative teachers\, including keynote speaker Cynthia Bourgeault\, we’ll explore how contemplative prayer not only deepens our relationship with God but also weaves us closer to one another\, illuminating our shared journey. \nThrough shared silence and wisdom teachings\, we’ll uncover the Divine thread that connects us all\, revealing the wholeness amidst the fragments. \nFor more about the presenters and schedule\, and to register\, go here.
URL:https://www.contemplativeoutreach.org/event/centering-prayer-summit-the-contemplative-heart-of-unity-a-retreat-into-oneness-through-centering-prayer/
LOCATION:Internet – Online
CATEGORIES:Retreat,Webcast
ATTACH;FMTTYPE=image/jpeg:https://www.contemplativeoutreach.org/wp-content/uploads/2024/12/All-Speakers-CP-Summit2025-e1733422790438.jpg
ORGANIZER;CN="Keith Kristich%2C Closer Than Breath Community":MAILTO:keith@keithkristich.com
END:VEVENT
BEGIN:VEVENT
DTSTART;TZID=Europe/Paris:20250125T080000
DTEND;TZID=Europe/Paris:20250125T170000
DTSTAMP:20260421T143654
CREATED:20241112T000606Z
LAST-MODIFIED:20241112T000606Z
UID:149804-1737792000-1737824400@www.contemplativeoutreach.org
SUMMARY:Quiet Day with Centering Prayer and Lectio Divina – in German language - via Zoom
DESCRIPTION:Centering Prayer Berlin lädt ein: \nAn diesem Tag gönnen wir uns\, einmal für ein paar Stunden scheinbar nichts zu machen\, wir lassen einfach geschehen. Wir legen die Handys beiseite (falls wir es nicht zum Teilnehmen am Zoom Meeting benötigen)\, lassen den Alltag hinter uns und verbringen die Zeit weitgehend schweigend miteinander. Wir habe Zeit für stille Meditation (Centering Prayer oder eine andere Form des stillen Gebets)\, Meditation mit einem Text (Lectio Divina) und vielleicht auch eine Zeit abseits des Computers in der Natur oder der Umgebung\, in der wir leben. \nEs sind keine Vorkenntnisse erforderlich\, es erfolgt allerdings keine Einführung in die stille Meditation.\nDer gemeinsame Tag beginnt um 9:00 Uhr und endet gegen 12:30 Uhr CET. \nRegistrierung erforderlich bis 12:00 Uhr einen Tag vor dem Event. \nAll times in CET
URL:https://www.contemplativeoutreach.org/event/quiet-day-with-centering-prayer-and-lectio-divina-in-german-language-via-zoom/
LOCATION:Internet – Online
CATEGORIES:Retreat
ATTACH;FMTTYPE=image/jpeg:https://www.contemplativeoutreach.org/wp-content/uploads/2024/11/CO_Logo_idR-e1731369945909.jpg
ORGANIZER;CN="Oliver Kintzel/Berlin":MAILTO:oliver.kintzel@centering-prayer-berlin.de
END:VEVENT
BEGIN:VEVENT
DTSTART;TZID=UTC:20250125T083000
DTEND;TZID=UTC:20250125T163000
DTSTAMP:20260421T143654
CREATED:20240612T170815Z
LAST-MODIFIED:20240612T170815Z
UID:145290-1737793800-1737822600@www.contemplativeoutreach.org
SUMMARY:The Body’s Bridge to the Experience of Living in God: Exploring BioSpiritual Focusing in Context of BioSpirituality - in person and online
DESCRIPTION:Two Jesuits\, Fr. Edwin McMahon and Fr. Peter Campbell\, incorporated the embodied practice of Focusing into the larger context of BioSpirituality. Their work opens us to know ourselves as living within the greater Whole\, the Body of Christ. During this day\, we’ll experience BioSpiritual Focusing and explore\, among other things\, the embodied experience of grace and becoming a living expression of love. We’ll learn to reconnect to ourselves\, one another\, and to God\, the Reality in whom we live and move and have our being. \nThis program will be offered both in-person and online via Zoom. Information on how to access the program on Zoom will be sent to participants in advance. \nThis program will include a morning and an afternoon session of Centering Prayer. \nPlease see the link below.
URL:https://www.contemplativeoutreach.org/event/the-bodys-bridge-to-the-experience-of-living-in-god-exploring-biospiritual-focusing-in-context-of-biospirituality-in-person-and-online/
LOCATION:Holy Family Passionist Retreat Center\, 303 Tunxis Road\, West Hartford\, CT\, 6107\, United States
CATEGORIES:Workshop
ATTACH;FMTTYPE=image/png:https://www.contemplativeoutreach.org/wp-content/uploads/2024/06/CCE-Bodys-Bridge.png
ORGANIZER;CN="Mike  Smoolca":MAILTO:msmoolca@hotmail.com
END:VEVENT
BEGIN:VEVENT
DTSTART;TZID=UTC:20250125T090000
DTEND;TZID=UTC:20250125T123000
DTSTAMP:20260421T143654
CREATED:20240807T121906Z
LAST-MODIFIED:20240807T121906Z
UID:146655-1737795600-1737808200@www.contemplativeoutreach.org
SUMMARY:Centering Prayer Introductory Workshop
DESCRIPTION:Contemplative Prayer is God’s personal and unique gift to each of us. If we are open to this gift\, it will profoundly affect our lives and relationship with God\, others\, and the world. Centering Prayer is a form of contemplative prayer. It is a method of prayer that opens us to interior transformation and deeper intimacy with God and others. \nThe workshop includes four presentations and the practice of Centering Prayer.\nPresenters: CP Introductory Workshop Team\nFee: $45 \nFor more information\, please contact Marilyn Nobori at 818-815-4480 or centeringprayer@hsrcenter.com.\nRegister online at www.hsrcenter.com by January 21st with a non-refundable deposit of $10.\n(Arrive by 8:50 a.m.)
URL:https://www.contemplativeoutreach.org/event/centering-prayer-introductory-workshop-18/
LOCATION:Holy Spirit Retreat Center\, 4316 Lanai Road\, Encino\, CA\, 91436\, United States
CATEGORIES:Workshop
ORGANIZER;CN="Marilyn Nobori":MAILTO:centeringprayer@hsrcenter.com
END:VEVENT
END:VCALENDAR