BEGIN:VCALENDAR
VERSION:2.0
PRODID:-//Contemplative Outreach, Ltd. - ECPv6.15.17.1//NONSGML v1.0//EN
CALSCALE:GREGORIAN
METHOD:PUBLISH
X-ORIGINAL-URL:https://www.contemplativeoutreach.org
X-WR-CALDESC:Events for Contemplative Outreach, Ltd.
REFRESH-INTERVAL;VALUE=DURATION:PT1H
X-Robots-Tag:noindex
X-PUBLISHED-TTL:PT1H
BEGIN:VTIMEZONE
TZID:UTC
BEGIN:STANDARD
TZOFFSETFROM:+0000
TZOFFSETTO:+0000
TZNAME:UTC
DTSTART:20240101T000000
END:STANDARD
END:VTIMEZONE
BEGIN:VTIMEZONE
TZID:America/New_York
BEGIN:DAYLIGHT
TZOFFSETFROM:-0500
TZOFFSETTO:-0400
TZNAME:EDT
DTSTART:20240310T070000
END:DAYLIGHT
BEGIN:STANDARD
TZOFFSETFROM:-0400
TZOFFSETTO:-0500
TZNAME:EST
DTSTART:20241103T060000
END:STANDARD
BEGIN:DAYLIGHT
TZOFFSETFROM:-0500
TZOFFSETTO:-0400
TZNAME:EDT
DTSTART:20250309T070000
END:DAYLIGHT
BEGIN:STANDARD
TZOFFSETFROM:-0400
TZOFFSETTO:-0500
TZNAME:EST
DTSTART:20251102T060000
END:STANDARD
BEGIN:DAYLIGHT
TZOFFSETFROM:-0500
TZOFFSETTO:-0400
TZNAME:EDT
DTSTART:20260308T070000
END:DAYLIGHT
BEGIN:STANDARD
TZOFFSETFROM:-0400
TZOFFSETTO:-0500
TZNAME:EST
DTSTART:20261101T060000
END:STANDARD
END:VTIMEZONE
BEGIN:VEVENT
DTSTART;TZID=UTC:20250101T080000
DTEND;TZID=UTC:20250401T170000
DTSTAMP:20260421T091125
CREATED:20240721T030922Z
LAST-MODIFIED:20250306T161912Z
UID:146115-1735718400-1743526800@www.contemplativeoutreach.org
SUMMARY:Contemplative Living II: Daily Life as Prayer – via Zoom
DESCRIPTION:Your life is hidden with Christ in God.\n– Colossians 3:3 \nFurther enrich your contemplative life and embrace the practice of living each day as a form of prayer. In Contemplative Living I (CL I) the focus is on deepening your interior prayer life\, leading to the awareness of God’s presence in all that is. In Contemplative Living II (CL II) the focus shifts towards increased intentionality in how you are living your daily life. You likely have a better understanding of what blocks you in deepening your relationship with God\, others\, and even with yourself. You are now more capable of looking at your part in relationships and what gets in the way of being and becoming the person God created you to be. Building on the contemplative practices learned in CL I\, in CL II you will assess where you are in your life and how you can make choices aligning with your authentic self. \nThe design of Contemplative Living II: Daily Life as Prayer: \nGaining contemplative attitudes and dispositions through \n\nContemplative Listening – a practice of active listening in group spiritual direction\, raising your awareness of the movements of the Divine within you and others.\nContemplative Discernment – a method of going to God with your questions and desires\, allowing the answers to find you\nContemplative Awareness related to Addictions\, Attachments and Aversion – using contemplative discernment to surface habit patterns that have become compulsions that you no longer freely choose\nThe Forgiveness Prayer – a prayer that guides you to follow Jesus’s example to live with hearts open to love\nContemplative Service – a vocation\, a calling\, or a way of life that’s rooted in living a contemplative life\nCommitment to a Contemplative Rule of Life – looking at the rhythm of life you’ve created in this course\, what practices have worked for you and that you will continue to commit to in the ordinary activities of your life\nContemplative Living Communities – the support we receive from community enhances our spiritual journey and is helpful to continue in some way at the end of the course\n\nPlease see the link below for more information and to register.
URL:https://www.contemplativeoutreach.org/event/contemplative-living-ii-daily-life-as-prayer-via-zoom/
LOCATION:Internet – Online
END:VEVENT
BEGIN:VEVENT
DTSTART;VALUE=DATE:20250129
DTEND;VALUE=DATE:20250502
DTSTAMP:20260421T091125
CREATED:20250129T211622Z
LAST-MODIFIED:20250129T212436Z
UID:152758-1738108800-1746143999@www.contemplativeoutreach.org
SUMMARY:Certificate in Contemplative Spiritual Direction
DESCRIPTION:The certificate offering is a 2-year formation and training program for persons who discern a call to the ministry of spiritual direction. Applicants will begin Phase I in July 2025. \nCertificate in Contemplative Spiritual Direction features:\n\nContemplative spiritual formation as the foundation\nA 24-month Focused Program with home-based assignments\nA Cohort Model in a hybrid format (online and residential components)\nFacilitated by seasoned practitioners\nA Supervised Practicum (One-on-One/Peer Group) facilitated by trained supervisors\nUse of the Enneagram in Spiritual Direction for Greater Self-awareness and Spiritual Growth\n\nRead more about the program here. It includes emphasis on Centering Prayer (including a five-day retreat)\, Lectio Divina and the teachings of Thomas Keating. \nApplications Due: May 1\, 2025 \nTo complete the application\, you will need to submit the following. \n\nOne current reference\, including name\, phone number\, and email address.\nA PDF or Word document of your responses to the short essay questions\, found below.\nA non-refundable application fee of $75.\n\nFor any questions\, please email lifelonglearning@ctsnet.edu.
URL:https://www.contemplativeoutreach.org/event/certificate-in-contemplative-spiritual-direction/
LOCATION:Columbia Theological Seminary\, 701 South Columbia Drive\, Decatur\, GA\, 30031\, United States
ATTACH;FMTTYPE=image/png:https://www.contemplativeoutreach.org/wp-content/uploads/2025/01/CSD-4-e1738185865595.png
END:VEVENT
BEGIN:VEVENT
DTSTART;VALUE=DATE:20250314
DTEND;VALUE=DATE:20250316
DTSTAMP:20260421T091125
CREATED:20220125T185006Z
LAST-MODIFIED:20250312T130731Z
UID:121084-1741910400-1742083199@www.contemplativeoutreach.org
SUMMARY:2025 United in Prayer Day
DESCRIPTION:  \nMarch 14-15\, 2025\n33rd Annual United in Prayer Day\nA free\, globally-hosted 18-hour prayer vigil accessible via Zoom\nIn the global unity of silence as God’s first language\,\nwe hold vigil for suffering humanity and all creation\,\nand we honor Thomas Keating’s birthday (March 7)\,\nand the growing presence of Christ among us.\nJoin in silence and community at any time\, as many times as you are able. Each hour will include at least 20 minutes of Centering Prayer and an offering from the hosting group. Some will prayer several or more consecutive hours to create an in-home retreat. \nAs we participate in this community prayer\, let us remember and hold in our hearts all the members of the worldwide Centering Prayer community who do not have access to Zoom/ internet technology including those who live in remote areas and those who are incarcerated. \nNo registration necessary. The event begins on Friday March 14 at 9pm Eastern Time (UTC-4). Note: US clocks move forward on March 9. European clocks do not move forward until March 30\, so during this vigil there is only a four hour time difference between Eastern (New York) Time and GMT. \nClick here to enter the vigil. \n(Please do not enter until the vigil begins.) \nor you may use meeting ID 811 0469 4536\npasscode: silence \nThe current schedule is shown below:\n \n\n\n\n\n \n\n\nUTC -4/ Eastern Time\nHosting Group\nContent planned – all groups will include 20-25 minutes (or more) of Centering Prayer.\n\n\n9 PM Friday March 14\nCO of Philippines\nCP and TBD\n\n\n10 PM Friday March 14\nExtensión Contemplativa Internacional\nCP and TBD\n\n\n11 PM Friday March 14\nCentering Prayer Sydney\nTBD\n\n\nmidnight\nContemplative Outreach of Hawaii\nMoving Welcoming Prayer & CP@sunset\n\n\n1:00 AM\nCO of Korea (Seoul)\nCP and Lectio\n\n\n2:00 AM\nCO of North San Diego\nCP & CP and Video TBD\n\n\n3:00 AM\nGerman-speaking groups\nCP and TBD\n\n\n4:00 AM\nCO South Africa\nCP and the Aramaic Lord’s Prayer\n\n\n5:00 AM\nContemplative Outreach Perth Australia\nCP and Lectio\n\n\n6:00 AM\nContemplative Outreach London\nTBD\n\n\n7:00 AM\nContemplative Outreach Dublin\nCP and reflection\n\n\n8:00 AM\nEuropean Francophone groups\nCP and Lectio\n\n\n9:00 AM\nArmenian Centering Prayer Groups\nCP and Lectio\n\n\n10:00 AM\nCO of Yorkshire and North East (UK)\nCP\, Body Prayer and TBD\n\n\n11:00 AM\nCO of Minnesota\nCP and Visio\n\n\n12:00 PM\nCO of Maryland and Washington\nCP and TBD\n\n\n1:00 PM\nOutside the Walls\nCP and TBD\n\n\n2:00 PM\nCO Greater Cincinnati and Northern Kentucky\nCP and TBD
URL:https://www.contemplativeoutreach.org/event/2025-united-in-prayer-day/
LOCATION:Internet – Online
CATEGORIES:Retreat,Webcast
ORGANIZER;CN="Contemplative Outreach Ltd":MAILTO:office@coutreach.org
END:VEVENT
BEGIN:VEVENT
DTSTART;TZID=UTC:20250314T173000
DTEND;TZID=UTC:20250316T110000
DTSTAMP:20260421T091125
CREATED:20241217T194904Z
LAST-MODIFIED:20250304T180025Z
UID:151196-1741973400-1742122800@www.contemplativeoutreach.org
SUMMARY:11th-Step Retreat
DESCRIPTION:Nancy Cord Baran and Michael Gidlewski invite you to join us in this weekend retreat. It is for people who participate in any 12-step program of recovery and have the intention to improve their meditation practice and enlarge their spiritual life. \nPlease see the link below to register.
URL:https://www.contemplativeoutreach.org/event/11th-step-retreat-3/
LOCATION:Bethany Retreat Center\, 1031 Germania Rd\, Frenchville\, PA\, 16836\, United States
CATEGORIES:Retreat
ORGANIZER;CN="Nancy Cord-Baran":MAILTO:ncb612@gmail.com
END:VEVENT
BEGIN:VEVENT
DTSTART;TZID=America/New_York:20250315T083000
DTEND;TZID=America/New_York:20250315T143000
DTSTAMP:20260421T091125
CREATED:20250205T213849Z
LAST-MODIFIED:20250205T213849Z
UID:152918-1742027400-1742049000@www.contemplativeoutreach.org
SUMMARY:Zoom Silent Saturday with Fr. Bill Sheehan
DESCRIPTION:Virtual Silent Saturday with Fr. Bill Sheehan\nFinding the Place of the Heart March 15 \nContemplative Outreach of Columbus is offering a Silent Saturday. A Silent Saturday provides a few hours that are set aside for Centering Prayer\, Lectio Divina\, spiritual teaching and reflection. “Come rest awhile with the Lord” in preparation for Holy Week. \nFr Bill will discuss “Finding the Place of the Heart…Encouragement to go Deeper” so that we may listen to the Spirit praying in us\, enlivening\, enlightening and guiding us. How can we deepen our awareness that we are all mystics? God has pitched a tent on the fertile soil of our hearts. \nFr. Bill is a priest and member of the Missionary Oblates of Mary Immaculate. He was present at the original Lama retreat in 1983 convened by Fr. Thomas Keating OCSO which founded Contemplative Outreach. He has led countless Centering Prayer workshops and retreats. He also admits to being a follower of the Red Sox and Patriots\, but he is first all a disciple of Jesus Christ. \nExpect that the day will begin at 8:30am and last until 2:30pm. Eastern (New York) Time. Register by sending an email to Bob Gorman at rbrtgorman@protonmail.com and a zoom link will be sent to you a few days in advance. \nThe event is free. Nondeductible donations to Contemplative Outreach of Columbus to cover costs are welcome. They can be sent to the care of Tom Davis at 844 Franklin Ave\, Columbus\, OH 43205.
URL:https://www.contemplativeoutreach.org/event/zoom-silent-saturday-with-fr-bill-sheehan/
LOCATION:Internet – Online
CATEGORIES:Retreat
ORGANIZER;CN="Bob Gorman":MAILTO:rbrtgorman@protonmail.com
END:VEVENT
BEGIN:VEVENT
DTSTART;TZID=UTC:20250315T083000
DTEND;TZID=UTC:20250315T163000
DTSTAMP:20260421T091125
CREATED:20240612T170536Z
LAST-MODIFIED:20240612T170536Z
UID:145303-1742027400-1742056200@www.contemplativeoutreach.org
SUMMARY:Blessed Are the Clean of Heart: Living With Spiritual Integrity in an Age of Fragmentation - in person and online
DESCRIPTION:We will explore Jesus’ invitation to live from an undivided heart and strategies to live in the world with deeper spiritual integrity in an age of fragmentation. We’ll look at the challenge and promise of living fully in God\, and the wisdom to be gleaned from countercultural Christian movements\, including the early Church\, the Desert Fathers and Mothers\, the Franciscan movement\, and the first Jesuits. Mark will draw from his experience living at Metanoia of Vermont\, a lay contemplative homestead in the Benedictine tradition. \nThis program will be offered both in-person and online via Zoom. Information on how to access the program on Zoom will be sent to participants in advance. \nThis program will include a morning and an afternoon session of Centering Prayer. \nPlease see the link below to register.
URL:https://www.contemplativeoutreach.org/event/blessed-are-the-clean-of-heart-living-with-spiritual-integrity-in-an-age-of-fragmentation-in-person-and-online/
LOCATION:Holy Family Passionist Retreat Center\, 303 Tunxis Road\, West Hartford\, CT\, 6107\, United States
CATEGORIES:Workshop
ATTACH;FMTTYPE=image/png:https://www.contemplativeoutreach.org/wp-content/uploads/2024/06/CCE-Clean-of-Heart.png
ORGANIZER;CN="Mike  Smoolca":MAILTO:msmoolca@hotmail.com
END:VEVENT
BEGIN:VEVENT
DTSTART;TZID=UTC:20250315T090000
DTEND;TZID=UTC:20250315T160000
DTSTAMP:20260421T091125
CREATED:20250204T192822Z
LAST-MODIFIED:20250225T214647Z
UID:152892-1742029200-1742054400@www.contemplativeoutreach.org
SUMMARY:Grounding to Bloom
DESCRIPTION:Would you like to “Bloom” –\n– In love\, joy and peace?\n– In patience\, kindness and generosity in relationships?\n– In gentleness\, faithfulness and even self-control?\n– In compassion with justice for others? \nYou Are Invited – to Pause….to Rest…into Stillness…into Quiet \nYou may deepen your Grounding in Divine Presence in order to Bloom via\n* Quiet Stillness;\n* Herbs for overall health;\n* Walking with a Labyrinth or in the sanctuary;\n* Gentle Yoga;\n* Conversing with another about your journey;\n* Reading of Scripture quietly while Listening to the Spirit;\n* Sung Prayer.\nNote: Several of the above items are free time options. \nRegister by email to coneiowa@gmail.com. Include name and phone\, on or before Monday\, March 10.\nA Registration fee of $25 will be received on March 15.\nWestminster Presbyterian Church is at 1301 Kimball Ave\, Waterloo\, IA\, USA. \nFAQs – Frequently Asked Questions \nQ1: Will there be food provided?\nA: Yes\, there will be light snacks and drinks (coffee and tea) available all day. You may wish to bring any other preferred beverage and/or water bottle. A noon lunch will be served\, with the option to accommodate people with special dietary needs. \nQ2: Will silence be a part of the day?\nA: Yes\, part of the day will be embraced by internal and external silence. However\, there will also be ample time for conversation with other retreatants. \nQ3: Can I attend only part of the day?\nA: Yes. We encourage people to attend the whole event; however\, if you can only come for the morning or afternoon\, you are welcome to do so. \nQ4: Will I be expected to share many details of my life?\nA: No. There will be time for introductions with other group members\, but not extensive sharing. If extended sharing is desired\, there will be opportunities to meet one-on-one with one of the leaders. \nQ5: Is Westminster handicap accessible?\nA: Yes. While there are several levels withing the building\, each can be accessed by an elevator in addition to the stairs. However\, most of our activities will be on the main level. \nQ6: Is there anything else I might want to know about Westminster?\nA: Yes. Indoors\, stained glass surrounds the sanctuary\, and could provide a quiet time of reflection on the beauty of its art. Outdoors\, the tree-lined grounds surround a space to commune in nature…weather permitting. \nImage by Steffen Wachsmuth from Pixabay
URL:https://www.contemplativeoutreach.org/event/grounding-to-bloom/
LOCATION:Westminster Presbyterian Church (Iowa)\, 1301 Kimball Ave\, Waterloo\, IA\, 50702\, United States
CATEGORIES:Retreat
ATTACH;FMTTYPE=image/png:https://www.contemplativeoutreach.org/wp-content/uploads/2025/02/Grounding-to-Bloom-new-date.png
ORGANIZER;CN="Contemplative Outreach of Northeast Iowa":MAILTO:CONEiowa@gmail.com
END:VEVENT
END:VCALENDAR