BEGIN:VCALENDAR
VERSION:2.0
PRODID:-//Contemplative Outreach, Ltd. - ECPv6.15.17.1//NONSGML v1.0//EN
CALSCALE:GREGORIAN
METHOD:PUBLISH
X-WR-CALNAME:Contemplative Outreach, Ltd.
X-ORIGINAL-URL:https://www.contemplativeoutreach.org
X-WR-CALDESC:Events for Contemplative Outreach, Ltd.
REFRESH-INTERVAL;VALUE=DURATION:PT1H
X-Robots-Tag:noindex
X-PUBLISHED-TTL:PT1H
BEGIN:VTIMEZONE
TZID:UTC
BEGIN:STANDARD
TZOFFSETFROM:+0000
TZOFFSETTO:+0000
TZNAME:UTC
DTSTART:20240101T000000
END:STANDARD
END:VTIMEZONE
BEGIN:VEVENT
DTSTART;TZID=UTC:20250429T170000
DTEND;TZID=UTC:20250502T120000
DTSTAMP:20260421T042517
CREATED:20240625T173837Z
LAST-MODIFIED:20241011T192944Z
UID:145709-1745946000-1746187200@www.contemplativeoutreach.org
SUMMARY:Centering Prayer Presenter Formation Retreat
DESCRIPTION:This retreat\, facilitated by the Contemplative Outreach Presenter Formation Service Team\, will offer participants an opportunity to be formed as Commissioned Presenters of the Centering Prayer Introductory Workshop. Working with a notebook of materials\, each participant will have ample opportunity to learn the content of the Introductory Workshop and to practice presenting the content to others\, with supportive feedback and guidance. \nAll participants must complete an application prior to registration for this event. To receive an application please contact Rob Carr robcarr924@gmail.com. \nThose individuals with approved applications will receive a link to the Sophia Center for registration. \nRegistration is $400.00 which includes three nights lodging\, all meals and materials. \nSpace is limited. \n 
URL:https://www.contemplativeoutreach.org/event/centering-prayer-presenter-formation-retreat/
LOCATION:Sophia Center\, Atchinson KS\, 751 S 8th St\, Atchison\,KS\, KS\, United States
CATEGORIES:Training
ORGANIZER;CN="Contemplative Outreach Kansas City":MAILTO:robcarr924@gmail.com
END:VEVENT
END:VCALENDAR