BEGIN:VCALENDAR
VERSION:2.0
PRODID:-//Contemplative Outreach, Ltd. - ECPv6.15.17.1//NONSGML v1.0//EN
CALSCALE:GREGORIAN
METHOD:PUBLISH
X-WR-CALNAME:Contemplative Outreach, Ltd.
X-ORIGINAL-URL:https://www.contemplativeoutreach.org
X-WR-CALDESC:Events for Contemplative Outreach, Ltd.
REFRESH-INTERVAL;VALUE=DURATION:PT1H
X-Robots-Tag:noindex
X-PUBLISHED-TTL:PT1H
BEGIN:VTIMEZONE
TZID:America/Chicago
BEGIN:DAYLIGHT
TZOFFSETFROM:-0600
TZOFFSETTO:-0500
TZNAME:CDT
DTSTART:20240310T080000
END:DAYLIGHT
BEGIN:STANDARD
TZOFFSETFROM:-0500
TZOFFSETTO:-0600
TZNAME:CST
DTSTART:20241103T070000
END:STANDARD
BEGIN:DAYLIGHT
TZOFFSETFROM:-0600
TZOFFSETTO:-0500
TZNAME:CDT
DTSTART:20250309T080000
END:DAYLIGHT
BEGIN:STANDARD
TZOFFSETFROM:-0500
TZOFFSETTO:-0600
TZNAME:CST
DTSTART:20251102T070000
END:STANDARD
BEGIN:DAYLIGHT
TZOFFSETFROM:-0600
TZOFFSETTO:-0500
TZNAME:CDT
DTSTART:20260308T080000
END:DAYLIGHT
BEGIN:STANDARD
TZOFFSETFROM:-0500
TZOFFSETTO:-0600
TZNAME:CST
DTSTART:20261101T070000
END:STANDARD
END:VTIMEZONE
BEGIN:VTIMEZONE
TZID:UTC
BEGIN:STANDARD
TZOFFSETFROM:+0000
TZOFFSETTO:+0000
TZNAME:UTC
DTSTART:20240101T000000
END:STANDARD
END:VTIMEZONE
BEGIN:VEVENT
DTSTART;TZID=America/Chicago:20250727T140000
DTEND;TZID=America/Chicago:20250802T130000
DTSTAMP:20260420T232559
CREATED:20250515T195928Z
LAST-MODIFIED:20250515T195928Z
UID:155360-1753624800-1754139600@www.contemplativeoutreach.org
SUMMARY:Seven-Day Centering Prayer Dual Track Intensive/Post Intensive Retreat
DESCRIPTION:This retreat offers two tracks simultaneously: Intensive I and Post-Intensive. For everyone there will be three sets of two 30 minute periods of Centering Prayer daily. \nThe Intensive Retreat provides an opportunity to deepen the practice of Centering Prayer in an atmosphere of profound silence and community support. Centering Prayer is supported with viewing a selection of the Spiritual Journey video series by Fr. Thomas Keating followed by discussion. \nThe Post-Intensive Retreat has no videos and an additional hour of Centering Prayer daily. Throughout the retreat\, we will be in silence. \nLectio Divina will be offered daily. Soul friending with the retreat guides can be scheduled for both tracks. \nRetreat Guides: JoAnne and Bill McElroy \nPlease see the flyer via the link below for more information and registration information.
URL:https://www.contemplativeoutreach.org/event/seven-day-centering-prayer-dual-track-intensive-post-intensive-retreat-2/
LOCATION:Siena Retreat Center\, Racine WI\, 5637 Erie St\, Racine\, WI 53402\, Racine\, WI\, 53402\, United States
CATEGORIES:Retreat
ORGANIZER;CN="Charles Welsh":MAILTO:welshce@gmail.com
END:VEVENT
BEGIN:VEVENT
DTSTART;TZID=UTC:20250802T090000
DTEND;TZID=UTC:20250802T120000
DTSTAMP:20260420T232559
CREATED:20250715T194310Z
LAST-MODIFIED:20250715T194310Z
UID:156378-1754125200-1754136000@www.contemplativeoutreach.org
SUMMARY:Sacred Circle Dance as a Form of Embodied Prayer
DESCRIPTION:“God is not remote from us; . . . on the contrary\, at every moment God awaits us in the activity\, the work to be done\, which every moment brings.”\n-Teilhard de Chardin\, Hymn of the Universe \nIn this in-person half-day retreat we’ll introduce dances from the Sacred Circle Dance tradition as a form of embodied prayer. These simple movements\, done in a group setting\, can help us unite mind\, heart\, and body in a three-centered awareness to deepen our prayer practice. We’ll also use chants and body prayers as other forms of embodied prayer and as vestibules to Centering Prayer. \nPresented by Linda and Dick Hall\, co-coordinators of COMW\, and Suzi Kindervatter\, former COMW team member and veteran teacher of Sacred Circle Dance. \nPlease see the link below to register.
URL:https://www.contemplativeoutreach.org/event/sacred-circle-dance-as-a-form-of-embodied-prayer/
LOCATION:St. John’s Episcopal Church in Georgetown\, 3240 O St NW\, Washington\, DC\, 20007\, United States
CATEGORIES:Retreat
ATTACH;FMTTYPE=image/jpeg:https://www.contemplativeoutreach.org/wp-content/uploads/2025/07/Leaping-water-droplets-1-e1752608573125.jpg
ORGANIZER;CN="Contemplative Outreach of Maryland and Washington %EF%BB%BF(COMW)":MAILTO:info@ContemplativeOutreachofMarylandandWashington.org
END:VEVENT
END:VCALENDAR