BEGIN:VCALENDAR
VERSION:2.0
PRODID:-//Contemplative Outreach, Ltd. - ECPv6.15.17.1//NONSGML v1.0//EN
CALSCALE:GREGORIAN
METHOD:PUBLISH
X-ORIGINAL-URL:https://www.contemplativeoutreach.org
X-WR-CALDESC:Events for Contemplative Outreach, Ltd.
REFRESH-INTERVAL;VALUE=DURATION:PT1H
X-Robots-Tag:noindex
X-PUBLISHED-TTL:PT1H
BEGIN:VTIMEZONE
TZID:UTC
BEGIN:STANDARD
TZOFFSETFROM:+0000
TZOFFSETTO:+0000
TZNAME:UTC
DTSTART:20240101T000000
END:STANDARD
END:VTIMEZONE
BEGIN:VEVENT
DTSTART;VALUE=DATE:20250905
DTEND;VALUE=DATE:20250908
DTSTAMP:20260420T213131
CREATED:20250717T153047Z
LAST-MODIFIED:20250717T153047Z
UID:156451-1757030400-1757289599@www.contemplativeoutreach.org
SUMMARY:Introduction to Centering Prayer
DESCRIPTION:Introduction to Centering Prayer – a weekend workshop.\nSeptember 5 – 7\, 2025 \nFr. Thomas Keating–As silence deepens\, it transforms into Divine Presence in contemplative prayer. This pervasive presence invites us to accept the embrace of Divine Love and the realization of how much God loves us. \nPlease see the link below to register.
URL:https://www.contemplativeoutreach.org/event/introduction-to-centering-prayer-15/
LOCATION:St Gertrude Monastery-Cottonwood\, ID\, 465 Keurterville RD\, Cottonwood\, ID\, 83522\, United States
CATEGORIES:Workshop
ATTACH;FMTTYPE=image/jpeg:https://www.contemplativeoutreach.org/wp-content/uploads/2025/07/FB_IMG_1752764991303.jpg
END:VEVENT
END:VCALENDAR