BEGIN:VCALENDAR
VERSION:2.0
PRODID:-//Contemplative Outreach, Ltd. - ECPv6.15.17.1//NONSGML v1.0//EN
CALSCALE:GREGORIAN
METHOD:PUBLISH
X-WR-CALNAME:Contemplative Outreach, Ltd.
X-ORIGINAL-URL:https://www.contemplativeoutreach.org
X-WR-CALDESC:Events for Contemplative Outreach, Ltd.
REFRESH-INTERVAL;VALUE=DURATION:PT1H
X-Robots-Tag:noindex
X-PUBLISHED-TTL:PT1H
BEGIN:VTIMEZONE
TZID:UTC
BEGIN:STANDARD
TZOFFSETFROM:+0000
TZOFFSETTO:+0000
TZNAME:UTC
DTSTART:20240101T000000
END:STANDARD
END:VTIMEZONE
BEGIN:VEVENT
DTSTART;TZID=UTC:20250901T000000
DTEND;TZID=UTC:20250922T235900
DTSTAMP:20260420T203231
CREATED:20250721T175627Z
LAST-MODIFIED:20250721T175627Z
UID:156498-1756684800-1758585540@www.contemplativeoutreach.org
SUMMARY:Contemplative Living I: Contemplative Practices in Daily Life (Online)
DESCRIPTION:Contemplative Living I: Contemplative Practices in Daily Life (Online)\nSeptember – December 2025 \nI will give you a new heart\, and a new spirit I will put within you.\n– Ezekiel 36:26) \nCourse Description \n“Contemplative life begins when we first step into the silence of our heart. It’s a pilgrimage—a journey that takes us first to the inner reaches of who we really are\, and from there\, into the life we were meant to live.”\n– Julie Saad\, Contemplative Life: Discovering Our Path into the Heart of God \nThis four-month long online course is experiential\, guiding participants to deepen their experience of the abiding presence of God by cultivating their contemplative capacities. Participants will learn and integrate contemplative spiritual practices into daily life within a community of seekers through monthly meetings\, a weekly online prayer chapel\, personal practices\, and monthly Holy Listening Circles (group spiritual direction.) \nContemplative practices are the doorway into the gift of contemplative prayer\, where the journey that begins in the silence of our hearts leads us into the heart of God. As we cultivate contemplative practices in ordinary daily life\, we begin to experience oneness with God and all creation. \nCourse Objectives\nTo establish a daily practice of Centering Prayer\nTo integrate contemplative spiritual practices into daily life\nTo cultivate contemplative attitudes and disposition\nTo foster contemplative listening that comes from a listening heart\, rather than from the ego or mind \nPlease see the link below for more information and to register.
URL:https://www.contemplativeoutreach.org/event/contemplative-living-i-contemplative-practices-in-daily-life-online/
LOCATION:Internet – Online
END:VEVENT
BEGIN:VEVENT
DTSTART;TZID=UTC:20250912T170000
DTEND;TZID=UTC:20250914T130000
DTSTAMP:20260420T203231
CREATED:20250623T153552Z
LAST-MODIFIED:20250623T153552Z
UID:156098-1757696400-1757854800@www.contemplativeoutreach.org
SUMMARY:Centering Prayer Silent Weekend Retreat
DESCRIPTION:Nebraska Contemplative Outreach. Weekend Centering Prayer Silent Retreat\nSeptember 12-14\, 2025 at Saint Benedict Center\, Schuyler Nebraska \nContemplative retreats are one of the most wonderful ways to experience time with God in the present moment. Retreats give you time to spend being aware of God and enjoying God’s presence. \nYou are invited to gather with us for our fall retreat giving time to be present in the beauty of nature\, prayer and solitude\, and to be in a restorative community of silence and stillness. \nWe begin Friday\, Sept. 12th at dinner time and conclude Sunday after the noon meal. \nRegistration includes: 2 nights in a private room\, all meals\, and programming.\nCost $340.00. Registration closes August 29th\, 2025. Website: nebraskacontemplativeoutreach.org \nSaint Benedict Center is a beautiful location (5 miles north of Schuyler NE) that provides walking paths\, Stations of the Cross\, a labyrinth\, hotel-like accommodations and delicious food service. Everything is provided so all you need to do is come with the intention to sit with God and our community and let God do the healing work within. \nRegistration: \n~Paying through PayPal: Submit payment and send an email to cathy.c@cox.net with the following information: name\, address\, phone\, and email. \n~Paying by check: Send a check ($315. which is minus the processing fee) to Nebraska Contemplative Outreach. In care of: Cathy Mann Christiansen 8415 North 52nd Ave\, Omaha NE 68152. Email Cathy when check is sent\, include information listed above. Payment must be received by August 29th\, 2025.
URL:https://www.contemplativeoutreach.org/event/centering-prayer-silent-weekend-retreat-3/
LOCATION:Saint Benedict Center\, 1123 Road I\, Schuyler\, NE\, 68661\, United States
CATEGORIES:Retreat
ORGANIZER;CN="Nebraska Contemplative Outreach":MAILTO:Cathy.c@cox.net
END:VEVENT
END:VCALENDAR