BEGIN:VCALENDAR
VERSION:2.0
PRODID:-//Contemplative Outreach, Ltd. - ECPv6.15.17.1//NONSGML v1.0//EN
CALSCALE:GREGORIAN
METHOD:PUBLISH
X-ORIGINAL-URL:https://www.contemplativeoutreach.org
X-WR-CALDESC:Events for Contemplative Outreach, Ltd.
REFRESH-INTERVAL;VALUE=DURATION:PT1H
X-Robots-Tag:noindex
X-PUBLISHED-TTL:PT1H
BEGIN:VTIMEZONE
TZID:UTC
BEGIN:STANDARD
TZOFFSETFROM:+0000
TZOFFSETTO:+0000
TZNAME:UTC
DTSTART:20240101T000000
END:STANDARD
END:VTIMEZONE
BEGIN:VTIMEZONE
TZID:America/New_York
BEGIN:DAYLIGHT
TZOFFSETFROM:-0500
TZOFFSETTO:-0400
TZNAME:EDT
DTSTART:20240310T070000
END:DAYLIGHT
BEGIN:STANDARD
TZOFFSETFROM:-0400
TZOFFSETTO:-0500
TZNAME:EST
DTSTART:20241103T060000
END:STANDARD
BEGIN:DAYLIGHT
TZOFFSETFROM:-0500
TZOFFSETTO:-0400
TZNAME:EDT
DTSTART:20250309T070000
END:DAYLIGHT
BEGIN:STANDARD
TZOFFSETFROM:-0400
TZOFFSETTO:-0500
TZNAME:EST
DTSTART:20251102T060000
END:STANDARD
BEGIN:DAYLIGHT
TZOFFSETFROM:-0500
TZOFFSETTO:-0400
TZNAME:EDT
DTSTART:20260308T070000
END:DAYLIGHT
BEGIN:STANDARD
TZOFFSETFROM:-0400
TZOFFSETTO:-0500
TZNAME:EST
DTSTART:20261101T060000
END:STANDARD
END:VTIMEZONE
BEGIN:VTIMEZONE
TZID:America/Halifax
BEGIN:DAYLIGHT
TZOFFSETFROM:-0400
TZOFFSETTO:-0300
TZNAME:ADT
DTSTART:20240310T060000
END:DAYLIGHT
BEGIN:STANDARD
TZOFFSETFROM:-0300
TZOFFSETTO:-0400
TZNAME:AST
DTSTART:20241103T050000
END:STANDARD
BEGIN:DAYLIGHT
TZOFFSETFROM:-0400
TZOFFSETTO:-0300
TZNAME:ADT
DTSTART:20250309T060000
END:DAYLIGHT
BEGIN:STANDARD
TZOFFSETFROM:-0300
TZOFFSETTO:-0400
TZNAME:AST
DTSTART:20251102T050000
END:STANDARD
BEGIN:DAYLIGHT
TZOFFSETFROM:-0400
TZOFFSETTO:-0300
TZNAME:ADT
DTSTART:20260308T060000
END:DAYLIGHT
BEGIN:STANDARD
TZOFFSETFROM:-0300
TZOFFSETTO:-0400
TZNAME:AST
DTSTART:20261101T050000
END:STANDARD
END:VTIMEZONE
BEGIN:VEVENT
DTSTART;TZID=UTC:20250901T000000
DTEND;TZID=UTC:20250922T235900
DTSTAMP:20260420T215652
CREATED:20250721T175627Z
LAST-MODIFIED:20250721T175627Z
UID:156498-1756684800-1758585540@www.contemplativeoutreach.org
SUMMARY:Contemplative Living I: Contemplative Practices in Daily Life (Online)
DESCRIPTION:Contemplative Living I: Contemplative Practices in Daily Life (Online)\nSeptember – December 2025 \nI will give you a new heart\, and a new spirit I will put within you.\n– Ezekiel 36:26) \nCourse Description \n“Contemplative life begins when we first step into the silence of our heart. It’s a pilgrimage—a journey that takes us first to the inner reaches of who we really are\, and from there\, into the life we were meant to live.”\n– Julie Saad\, Contemplative Life: Discovering Our Path into the Heart of God \nThis four-month long online course is experiential\, guiding participants to deepen their experience of the abiding presence of God by cultivating their contemplative capacities. Participants will learn and integrate contemplative spiritual practices into daily life within a community of seekers through monthly meetings\, a weekly online prayer chapel\, personal practices\, and monthly Holy Listening Circles (group spiritual direction.) \nContemplative practices are the doorway into the gift of contemplative prayer\, where the journey that begins in the silence of our hearts leads us into the heart of God. As we cultivate contemplative practices in ordinary daily life\, we begin to experience oneness with God and all creation. \nCourse Objectives\nTo establish a daily practice of Centering Prayer\nTo integrate contemplative spiritual practices into daily life\nTo cultivate contemplative attitudes and disposition\nTo foster contemplative listening that comes from a listening heart\, rather than from the ego or mind \nPlease see the link below for more information and to register.
URL:https://www.contemplativeoutreach.org/event/contemplative-living-i-contemplative-practices-in-daily-life-online/
LOCATION:Internet – Online
END:VEVENT
BEGIN:VEVENT
DTSTART;TZID=America/New_York:20250920T083000
DTEND;TZID=America/New_York:20250920T163000
DTSTAMP:20260420T215652
CREATED:20250610T205236Z
LAST-MODIFIED:20250610T205236Z
UID:155867-1758357000-1758385800@www.contemplativeoutreach.org
SUMMARY:The Way of the Heart: InterSpiritual Wisdom and Invitation for Living in Difficult Times
DESCRIPTION:Awakening the heart and experiencing life through the heart center can impact how we live and respond to our current times. For centuries\, Christian\, Jewish\, Sufi and Hindu mystics have been drawn to the heart as our primary source of spiritual perception and connection to wholeness and relationship. Fr. Matthew Wright will weave together teaching and practice from different paths and share inspirations for living in today’s challenging times. The rhythm of teaching\, meditation\, chanting\, and embodiment practices will enrich our ability to be present to these times. \nThis event includes sessions of Centering Prayer. \nPlease see the link below for more information and to register. \n 
URL:https://www.contemplativeoutreach.org/event/the-way-of-the-heart-interspiritual-wisdom-and-invitation-for-living-in-difficult-times/
LOCATION:Holy Family Passionist Retreat Center\, 303 Tunxis Road\, West Hartford\, CT\, 6107\, United States
CATEGORIES:Workshop
ATTACH;FMTTYPE=image/png:https://www.contemplativeoutreach.org/wp-content/uploads/2025/06/CCE-Meditation-Heart.png
ORGANIZER;CN="Mike  Smoolca":MAILTO:msmoolca@hotmail.com
END:VEVENT
BEGIN:VEVENT
DTSTART;TZID=UTC:20250920T090000
DTEND;TZID=UTC:20250920T130000
DTSTAMP:20260420T215653
CREATED:20250728T164105Z
LAST-MODIFIED:20250728T164105Z
UID:156605-1758358800-1758373200@www.contemplativeoutreach.org
SUMMARY:​Meeting God in the Silence: An Introduction to Centering Prayer
DESCRIPTION:Do you have questions about Centering Prayer and whether it is the right practice for you? Are you ready to begin a practice but need help getting started? Are you interested in deepening your current practice and would like a refresher and connection with other practitioners? Join us to learn more about consenting to the presence of God through the practice of Centering Prayer. Let praying without words\, in deep silence and openness\, bring you to a more complete awareness of the Divine Indwelling. \nThis retreat follows the international Contemplative Outreach Ltd. approach\, combining short presentations\, two Centering Prayer practice sessions\, and ample time for questions and discussion. It is open to anyone\, whether you have a longtime Centering Prayer practice or have never tried this form of prayer. There’s enrichment and insight for everyone.\n​\nPlease use the address shown below for your GPS. It is different from the street address. Ample parking is available on-site.​ \nYour registration fee includes snacks and coffee\, tea\, and water. We’ll have vegan and gluten-free options. \nPlease see the link below to register.
URL:https://www.contemplativeoutreach.org/event/meeting-god-in-the-silence-an-introduction-to-centering-prayer-2/
LOCATION:Episcopal Diocese of Maryland\, 3601 N. Charles Street\, Baltimore\, MD\, 21218\, United States
CATEGORIES:Retreat
ATTACH;FMTTYPE=image/jpeg:https://www.contemplativeoutreach.org/wp-content/uploads/2025/07/Copy-of-The-Holy-Trinity-Rublev-cropped-1-e1753720778297.jpg
ORGANIZER;CN="Contemplative Outreach of Maryland and Washington %EF%BB%BF(COMW)":MAILTO:info@ContemplativeOutreachofMarylandandWashington.org
END:VEVENT
BEGIN:VEVENT
DTSTART;TZID=America/Halifax:20250920T093000
DTEND;TZID=America/Halifax:20250920T153000
DTSTAMP:20260420T215653
CREATED:20250905T183316Z
LAST-MODIFIED:20250905T183416Z
UID:157135-1758360600-1758382200@www.contemplativeoutreach.org
SUMMARY:The Enneagram - a Christian Wisdom Approach
DESCRIPTION:From a Wisdom perspective\, the overarching message of Jesus’ teaching is the transformation of our ordinary ego-driven consciousness. In the scriptures\, this is spoken of as stepping into the larger mind\, or putting on the mind of Christ. The Enneagram is a tool based on ancient wisdom that can help us to see the contours of ego — appreciating the strengths and limitations of personality as well as revealing the path for growth and transformation. Through a balance of\nteaching and practice\, this retreat will explore structures of personality that make up the nine different points of the Enneagram. With a greater understanding of how these structures work\, participants will be able to approach the Enneagram as a tool for the transformation of consciousness that Jesus calls us to — a tool that includes and goes beyond the descriptions of the nine types. \nThe program includes sessions of Centering Prayer. \nHenry Schoenfield is a member of the service team for Contemplative Outreach of Boston and a board member and senior student in Cynthia Bourgeault’s Wisdom network\, Wisdom Waypoints. He has studied the Enneagram of personality with Russ Hudson among other teachers and is certified in the Integrative\nEnneagram assessment tool (iEQ9). He is an ordained minister in the United Church of Christ\, a spiritual director\, certified professional coach\, and retreat and workshop facilitator. \nTo register\, email: info@henryschoenfield.com
URL:https://www.contemplativeoutreach.org/event/the-enneagram-a-christian-wisdom-approach/
LOCATION:St Paul’s Episcopal Church\, 127 Summer Street\, Lynnfield\, MA\, 01940\, United States
CATEGORIES:Retreat,Workshop
ATTACH;FMTTYPE=image/jpeg:https://www.contemplativeoutreach.org/wp-content/uploads/2025/09/The-Enneagram-a-Christian-Wisdom-Approach-e1757091744904.jpg
ORGANIZER;CN="Henry Schoenfield":MAILTO:info@henryschoenfield.com
END:VEVENT
END:VCALENDAR