BEGIN:VCALENDAR
VERSION:2.0
PRODID:-//Contemplative Outreach, Ltd. - ECPv6.15.17.1//NONSGML v1.0//EN
CALSCALE:GREGORIAN
METHOD:PUBLISH
X-WR-CALNAME:Contemplative Outreach, Ltd.
X-ORIGINAL-URL:https://www.contemplativeoutreach.org
X-WR-CALDESC:Events for Contemplative Outreach, Ltd.
REFRESH-INTERVAL;VALUE=DURATION:PT1H
X-Robots-Tag:noindex
X-PUBLISHED-TTL:PT1H
BEGIN:VTIMEZONE
TZID:Europe/Berlin
BEGIN:DAYLIGHT
TZOFFSETFROM:+0100
TZOFFSETTO:+0200
TZNAME:CEST
DTSTART:20240331T010000
END:DAYLIGHT
BEGIN:STANDARD
TZOFFSETFROM:+0200
TZOFFSETTO:+0100
TZNAME:CET
DTSTART:20241027T010000
END:STANDARD
BEGIN:DAYLIGHT
TZOFFSETFROM:+0100
TZOFFSETTO:+0200
TZNAME:CEST
DTSTART:20250330T010000
END:DAYLIGHT
BEGIN:STANDARD
TZOFFSETFROM:+0200
TZOFFSETTO:+0100
TZNAME:CET
DTSTART:20251026T010000
END:STANDARD
BEGIN:DAYLIGHT
TZOFFSETFROM:+0100
TZOFFSETTO:+0200
TZNAME:CEST
DTSTART:20260329T010000
END:DAYLIGHT
BEGIN:STANDARD
TZOFFSETFROM:+0200
TZOFFSETTO:+0100
TZNAME:CET
DTSTART:20261025T010000
END:STANDARD
END:VTIMEZONE
BEGIN:VEVENT
DTSTART;TZID=Europe/Berlin:20250927T100000
DTEND;TZID=Europe/Berlin:20250927T140000
DTSTAMP:20260420T213117
CREATED:20250818T210628Z
LAST-MODIFIED:20250818T211034Z
UID:156940-1758967200-1758981600@www.contemplativeoutreach.org
SUMMARY:Introduction to Centering Prayer in German Language – Stille finden mitten im Leben
DESCRIPTION:In den 70er Jahren begannen Thomas Keating und andere den Reichtum der christlichen\, stillen Meditationspraxis (Kontemplation) wiederzuentdecken. Aus diesen Anfängen ist eine Praxis entstanden\, die inzwischen weltweit verbreitet ist und das Gebet der Sammlung (Englisch: Centering Prayer) genannt wird.\nDie praktizierte Stille tut einfach gut und kann heilsam wirken. \nIn diesem Workshop wird das wortlose Gebet der Sammlung (Centering Prayer)\, einer modernen Form des Herzensgebets\, anhand vier einfacher Schritte vorgestellt und eingeübt. \nNeben der Einführung in die Methode gibt es die Gelegenheit Fragen und Austausch. Ein Anfang\, um “beherzt” dem modernen Leben zu begegnen.\nDer Kurs ist kostenlos. \n27.9.2025 in Berlin Steglitz (Paulus-Gemeinde Lichterfelde)\, 10-14:00 Uhr. \nVeranstaltungsort: Dorfkirche der Paulus Gemeinde Berlin Steglitz-Lichterfelde\, Hindenburgdamm 101a\, 12203 Berlin.
URL:https://www.contemplativeoutreach.org/event/introduction-to-centering-prayer-in-german-language-stille-finden-mitten-im-leben/
LOCATION:Maryland
CATEGORIES:Workshop
ATTACH;FMTTYPE=image/jpeg:https://www.contemplativeoutreach.org/wp-content/uploads/2025/08/kreuz_rosette_rot-gold-e1755551174787.jpg
ORGANIZER;CN="Oliver Kintzel/Berlin":MAILTO:oliver.kintzel@centering-prayer-berlin.de
END:VEVENT
END:VCALENDAR