BEGIN:VCALENDAR
VERSION:2.0
PRODID:-//Contemplative Outreach, Ltd. - ECPv6.15.17.1//NONSGML v1.0//EN
CALSCALE:GREGORIAN
METHOD:PUBLISH
X-WR-CALNAME:Contemplative Outreach, Ltd.
X-ORIGINAL-URL:https://www.contemplativeoutreach.org
X-WR-CALDESC:Events for Contemplative Outreach, Ltd.
REFRESH-INTERVAL;VALUE=DURATION:PT1H
X-Robots-Tag:noindex
X-PUBLISHED-TTL:PT1H
BEGIN:VTIMEZONE
TZID:UTC
BEGIN:STANDARD
TZOFFSETFROM:+0000
TZOFFSETTO:+0000
TZNAME:UTC
DTSTART:20240101T000000
END:STANDARD
END:VTIMEZONE
BEGIN:VTIMEZONE
TZID:America/New_York
BEGIN:DAYLIGHT
TZOFFSETFROM:-0500
TZOFFSETTO:-0400
TZNAME:EDT
DTSTART:20240310T070000
END:DAYLIGHT
BEGIN:STANDARD
TZOFFSETFROM:-0400
TZOFFSETTO:-0500
TZNAME:EST
DTSTART:20241103T060000
END:STANDARD
BEGIN:DAYLIGHT
TZOFFSETFROM:-0500
TZOFFSETTO:-0400
TZNAME:EDT
DTSTART:20250309T070000
END:DAYLIGHT
BEGIN:STANDARD
TZOFFSETFROM:-0400
TZOFFSETTO:-0500
TZNAME:EST
DTSTART:20251102T060000
END:STANDARD
BEGIN:DAYLIGHT
TZOFFSETFROM:-0500
TZOFFSETTO:-0400
TZNAME:EDT
DTSTART:20260308T070000
END:DAYLIGHT
BEGIN:STANDARD
TZOFFSETFROM:-0400
TZOFFSETTO:-0500
TZNAME:EST
DTSTART:20261101T060000
END:STANDARD
END:VTIMEZONE
BEGIN:VEVENT
DTSTART;VALUE=DATE:20250924
DTEND;VALUE=DATE:20251001
DTSTAMP:20260420T191330
CREATED:20250505T175125Z
LAST-MODIFIED:20250505T175125Z
UID:155143-1758672000-1759276799@www.contemplativeoutreach.org
SUMMARY:Six-day Post Incarceration Centering Prayer Retreat
DESCRIPTION:Contemplative Outreach Prison Outreach Service Team (COPOST) is partnering with Prison Contemplative Fellowship (PCF) in offering a six-day intensive Centering Prayer retreat in September 2025 in Colorado for those affected by incarceration. \nTo attend it is advised that the participant have a six month or longer practice. Financial support is available. \nYou may find a brochure about the retreat here. \nThe first step is to express interest in the retreat and/or in requesting financial help to attend is to text or call +1 (850) 296-8420 or email hello@praestolari.org
URL:https://www.contemplativeoutreach.org/event/six-day-post-incarceration-centering-prayer-retreat/
LOCATION:Sacred Heart Jesuit Retreat Center\, 4801 North Highway 67\, Sedalia\, CO\, 80135\, United States
CATEGORIES:Retreat
END:VEVENT
BEGIN:VEVENT
DTSTART;TZID=UTC:20250927T110000
DTEND;TZID=UTC:20251004T110000
DTSTAMP:20260420T191330
CREATED:20250318T141112Z
LAST-MODIFIED:20250318T141112Z
UID:153736-1758970800-1759575600@www.contemplativeoutreach.org
SUMMARY:Going Inward: Autumn Rest and Renewal–An Intensive/Post-Intensive 8-Day Centering Prayer Retreat
DESCRIPTION:This intensive/post-intensive retreat\, hosted by Contemplative Outreach of Central Iowa\, will consist of continuous periods of Centering Prayer from before sunrise until the dinner hour\, with breaks for meals. Attendees may participate in as much prayer as they are called to. Short pauses for entering and leaving the silence will be offered every 30 minutes. This grand silence will be bracketed with teaching videos featuring Thomas Keating’s Spiritual Journey Series. Cost is $650*\, which includes room with private bathroom facilities and all meals. A limited number of double occupancy rooms are available for $575. \nThe retreat will be held at the lovely Benet House Retreat Center at St. Mary Monastery\, Rock Island\, Illinois. Built in 2001 as a place apart to seek the Holy\nOne for persons of all faiths\, Benet House offers a setting of peace\, beauty and tranquility. \nVeteran retreat leaders Chris Frantsvog and Paul Witmer look forward to hosting you for this journey into deep silence. \n*The cost of this retreat has been lowered by $200 per participant through a grant from the Contemplative Outreach Divine Economy Fund.
URL:https://www.contemplativeoutreach.org/event/going-inward-autumn-rest-and-renewal-an-intensive-post-intensive-8-day-centering-prayer-retreat/
LOCATION:Benet House Retreat Center\, 2208 88th Avenue W\, Rock Island\, IL\, 61201\, United States
CATEGORIES:Retreat
ATTACH;FMTTYPE=image/jpeg:https://www.contemplativeoutreach.org/wp-content/uploads/2025/03/2025-09-8-day-retreat.jpg
ORGANIZER;CN="Contemplative Outreach of Central Iowa":MAILTO:paulwitmer@msn.com
END:VEVENT
BEGIN:VEVENT
DTSTART;TZID=America/New_York:20250927T140000
DTEND;TZID=America/New_York:20251004T133000
DTSTAMP:20260420T191330
CREATED:20241104T163334Z
LAST-MODIFIED:20241104T163429Z
UID:149690-1758981600-1759584600@www.contemplativeoutreach.org
SUMMARY:Eight-Day Centering Prayer Dual Track Intensive/Post-Intensive Retreat
DESCRIPTION:The eight-day Centering Prayer dual track intensive/post intensive retreat offered from Saturday\, September 27 to Saturday\, October 4\, 2025\, provides an opportunity to deepen the practice of Centering Prayer in an atmosphere of profound silence and community support. The intensive track will follow the Contemplative Outreach guidelines for an intensive retreat including six 30-minute Centering Prayer periods daily plus viewing and faith sharing on Thomas Keating’s human condition teachings. The post Intensive track provides an additional 30 minutes of Centering Prayer with time for daily solitude. \nRetreat leaders: Leslee Anne Terpay and Br. Bernard Delcourt are available for soul-friending. During the retreat\, one will experience integrating as one wishes contemplation and action through silence\, solitude\, community and the rhythm of this Episcopal Benedictine monastic community’s worship and prayer life including daily Holy Eucharist. An established practice of Centering Prayer for at least 6-months is highly recommended. \nCheck-in is from 2:00 to 5:00 p.m. Saturday. Vespers begin at 5:00. Dinner then follows. Orientation begins at 6:45. The retreat concludes with lunch on Saturday. (Daily Holy Eucharist is available at 9:00 a.m.). \nCost for the retreat is $1\,000. The retreat fee includes a single room and all meals. Shared single occupancy bathrooms in the hallways. Register by e-mail or phone with our Guesthouse Manager\, Donna Mallory at 845-384-6660 ext 1 or at guesthouse@hcmnet.org. \nIf you have questions about the retreat content or which track is best for you\, please contact retreat leader: Leslee Terpay at co-leslee@comcast.net. \nLeslee Anne Terpay is a Contemplative Outreach commissioned presenter of Centering Prayer and Lectio Divina\, Leslee shares Fr. Thomas Keating’s teachings on the Christian spiritual journey in workshop and retreat settings. She is part of the service team that stewards Fr. Thomas’ teaching for serving Centering Prayer retreats. She is a spiritual director in Lone Tree\, Colorado and a graduate of The Center for Action and Contemplation Living School \nBr. Bernard Delcourt\, is the Director of Associates of Holy Cross Monastery. Br. Bernard is a Contemplative Outreach commissioned presenter. Bernard has been a monk since 2004. Before becoming a monk\, he was an investment banker and then a life and business skills coach. He is a spiritual director and regularly visits seminarians in New Haven to offer them spiritual direction. \n 
URL:https://www.contemplativeoutreach.org/event/eight-day-centering-prayer-dual-track-intensive-post-intensive-retreat/
LOCATION:Holy Cross Monastery – New York\, 1615 Route 9W\, West Park\, NY\, 12493\, United States
CATEGORIES:Retreat
ATTACH;FMTTYPE=image/jpeg:https://www.contemplativeoutreach.org/wp-content/uploads/2024/11/IMG_4260.jpg
ORGANIZER;CN="Leslee Anne Terpay":MAILTO:co-leslee@comcast.net
END:VEVENT
BEGIN:VEVENT
DTSTART;TZID=UTC:20250929T080000
DTEND;TZID=UTC:20251002T170000
DTSTAMP:20260420T191330
CREATED:20250919T173720Z
LAST-MODIFIED:20250919T173806Z
UID:157414-1759132800-1759424400@www.contemplativeoutreach.org
SUMMARY:BIPOC Centering Prayer Retreat 2025
DESCRIPTION:A 5-day Centering Prayer retreat designed for and by BIPOC (Black\, Indigenous\, People of Color – which includes Latinx and Asian) contemplatives. We gather to practice Centering Prayer\, participate in facilitated dialogue about the changing needs of contemplatives in relation to the BIPOC community\, and nurture and support BIPOC Centering and contemplative prayer retreat leaders within the Contemplative Outreach and the larger Christian contemplative prayer community. \nOur shared intention is to reclaim and reimagine contemplative prayer and teaching through an ethnically inclusive lens and form a contemplative prayer retreat model more culturally sensitive to and inclusive of BIPOC persons’ unique needs and perspectives.
URL:https://www.contemplativeoutreach.org/event/bipoc-centering-prayer-retreat-2025/
LOCATION:Trinity Retreat Center\, 79 Lower River Road\, West Cornwall\, CT\, 06796\, United States
CATEGORIES:Retreat
ATTACH;FMTTYPE=image/jpeg:https://www.contemplativeoutreach.org/wp-content/uploads/2025/09/FullSizeRender.heic-e1758303395726.jpeg
ORGANIZER;CN="Colleen Thomas - COL Diversity Outreach Coordinator":MAILTO:colleen@coutreach.org
END:VEVENT
END:VCALENDAR