BEGIN:VCALENDAR
VERSION:2.0
PRODID:-//Contemplative Outreach, Ltd. - ECPv6.15.17.1//NONSGML v1.0//EN
CALSCALE:GREGORIAN
METHOD:PUBLISH
X-WR-CALNAME:Contemplative Outreach, Ltd.
X-ORIGINAL-URL:https://www.contemplativeoutreach.org
X-WR-CALDESC:Events for Contemplative Outreach, Ltd.
REFRESH-INTERVAL;VALUE=DURATION:PT1H
X-Robots-Tag:noindex
X-PUBLISHED-TTL:PT1H
BEGIN:VTIMEZONE
TZID:America/New_York
BEGIN:DAYLIGHT
TZOFFSETFROM:-0500
TZOFFSETTO:-0400
TZNAME:EDT
DTSTART:20240310T070000
END:DAYLIGHT
BEGIN:STANDARD
TZOFFSETFROM:-0400
TZOFFSETTO:-0500
TZNAME:EST
DTSTART:20241103T060000
END:STANDARD
BEGIN:DAYLIGHT
TZOFFSETFROM:-0500
TZOFFSETTO:-0400
TZNAME:EDT
DTSTART:20250309T070000
END:DAYLIGHT
BEGIN:STANDARD
TZOFFSETFROM:-0400
TZOFFSETTO:-0500
TZNAME:EST
DTSTART:20251102T060000
END:STANDARD
BEGIN:DAYLIGHT
TZOFFSETFROM:-0500
TZOFFSETTO:-0400
TZNAME:EDT
DTSTART:20260308T070000
END:DAYLIGHT
BEGIN:STANDARD
TZOFFSETFROM:-0400
TZOFFSETTO:-0500
TZNAME:EST
DTSTART:20261101T060000
END:STANDARD
END:VTIMEZONE
BEGIN:VTIMEZONE
TZID:UTC
BEGIN:STANDARD
TZOFFSETFROM:+0000
TZOFFSETTO:+0000
TZNAME:UTC
DTSTART:20240101T000000
END:STANDARD
END:VTIMEZONE
BEGIN:VEVENT
DTSTART;VALUE=DATE:20251003
DTEND;VALUE=DATE:20251006
DTSTAMP:20260420T191259
CREATED:20250520T184207Z
LAST-MODIFIED:20250901T190148Z
UID:155453-1759449600-1759708799@www.contemplativeoutreach.org
SUMMARY:Introduction to the Forgiveness Prayer
DESCRIPTION:Contemplative Outreach Pittsburgh invites you to join us as we explore forgiveness through a contemplative lens. Featuring Mary Dwyer as presenter\, we will explore both the Forgiveness Process and Forgiveness Prayer while steeped in silence and Centering Prayer (with extended sits). Prior Centering Prayer experience recommended. \nLocation: Spiritan Retreat Center located south of the city of Pittsburgh in Bethel Park. \nPlease register using the link below  or at https://www.pghcenteringprayer.org/ .
URL:https://www.contemplativeoutreach.org/event/introduction-to-the-forgiveness-prayer-2/
LOCATION:Congregation of the Holy Spirit Province of the United States\, Spiritan Center\, 6230 Brush Run Road\, PA\, 15102\, United States
CATEGORIES:Retreat
ATTACH;FMTTYPE=image/jpeg:https://www.contemplativeoutreach.org/wp-content/uploads/2025/05/SunHost.jpg
ORGANIZER;CN="Contemplative Outreach Pittsburgh":MAILTO:victoriae4copcenteringprayer@gmail.com
END:VEVENT
BEGIN:VEVENT
DTSTART;TZID=UTC:20251005T170000
DTEND;TZID=UTC:20251009T120000
DTSTAMP:20260420T191259
CREATED:20250603T165417Z
LAST-MODIFIED:20250603T165417Z
UID:155702-1759683600-1760011200@www.contemplativeoutreach.org
SUMMARY:A Wisdom School on Wisdom Rhythms & Relationships with Heather Ruce
DESCRIPTION:Online and In-Person at Sorrento Centre\, British Columbia\, Canada. \nOctober 5th (5 pm) – October 9th (12 noon)\, 2025 (Pacific Time). \nIn any moment\, regardless of how significant or insignificant it may seem\, we can offer ourselves as instruments\, vessels\, means by which worlds beyond can enter into this world\, which has often been termed by several traditions ‘mixtus orbis.’ Wisdom teacher Cynthia Bourgeault often reminds us that this world’s dense conditions are not a mistake but a place where the rough material of our lives can be mixed with spiritual substances and nutrients from beyond and in so doing\, something essential is created. \nThere is much to glean from the Wisdom lineages in every tradition\, including Christianity\, about waking up to a different reality and orienting our lives to something more than our everyday circumstances. In the case of the Christian Wisdom lineage\, we can place our gaze towards the world beyond—kingdom of heaven\, the imaginal realm—which is always in our midst when we have eyes to see and ears to hear. When we can attune ourselves to this dimension\, we can begin to draw from an endless wellspring and be of service to God in our day to day lives and relationships. Drawing on the work of Cynthia Bourgeault\, G.I. Gurdjieff\, and others\, this Wisdom School will focus on listening for the Wisdom rhythms that deepen presence in our three centres – intellectual\, emotional\, body – in order that we can perceive and act in accordance with the higher laws of the kingdom of heaven in cosmic servanthood and in particular in conscious relationships. \nJoin us in person or online at the Sorrento Centre. There will be an invitation to a ‘Wisdom way of knowing’ through a daily rhythm with periods of silence\, centring prayer\, teaching\, conscious conversation\, Gurdjieff Exercises and Movements\, chanting\, mindful work\, lectio divina\, and contemplative reflective time. \nOn-site participants must register for both:\n1) flexible and affordable accommodation and meal plans at Sorrento Centre\, and\n2) the program taught by Heather Ruce as organised by TCS. \nCosts vary depending on the in-person or online choices. \nOffered by Heather Ruce. \nPlease see the link below to register.
URL:https://www.contemplativeoutreach.org/event/a-wisdom-school-on-wisdom-rhythms-relationships-with-heather-ruce/
LOCATION:Sorrento Retreat and Conference Centre\, 1159 Passchendaele Road\, Sorrento\, British Columbia\, V0E 2W0\, Canada
CATEGORIES:Retreat
ATTACH;FMTTYPE=image/jpeg:https://www.contemplativeoutreach.org/wp-content/uploads/2025/06/Wisdom-School-Wisdom-Rhythms-Conscious-Relationships-August-2023-for-online-updated.001-e1748969643960.jpeg
END:VEVENT
END:VCALENDAR