BEGIN:VCALENDAR
VERSION:2.0
PRODID:-//Contemplative Outreach, Ltd. - ECPv6.15.17.1//NONSGML v1.0//EN
CALSCALE:GREGORIAN
METHOD:PUBLISH
X-WR-CALNAME:Contemplative Outreach, Ltd.
X-ORIGINAL-URL:https://www.contemplativeoutreach.org
X-WR-CALDESC:Events for Contemplative Outreach, Ltd.
REFRESH-INTERVAL;VALUE=DURATION:PT1H
X-Robots-Tag:noindex
X-PUBLISHED-TTL:PT1H
BEGIN:VTIMEZONE
TZID:America/New_York
BEGIN:DAYLIGHT
TZOFFSETFROM:-0500
TZOFFSETTO:-0400
TZNAME:EDT
DTSTART:20240310T070000
END:DAYLIGHT
BEGIN:STANDARD
TZOFFSETFROM:-0400
TZOFFSETTO:-0500
TZNAME:EST
DTSTART:20241103T060000
END:STANDARD
BEGIN:DAYLIGHT
TZOFFSETFROM:-0500
TZOFFSETTO:-0400
TZNAME:EDT
DTSTART:20250309T070000
END:DAYLIGHT
BEGIN:STANDARD
TZOFFSETFROM:-0400
TZOFFSETTO:-0500
TZNAME:EST
DTSTART:20251102T060000
END:STANDARD
BEGIN:DAYLIGHT
TZOFFSETFROM:-0500
TZOFFSETTO:-0400
TZNAME:EDT
DTSTART:20260308T070000
END:DAYLIGHT
BEGIN:STANDARD
TZOFFSETFROM:-0400
TZOFFSETTO:-0500
TZNAME:EST
DTSTART:20261101T060000
END:STANDARD
END:VTIMEZONE
BEGIN:VTIMEZONE
TZID:America/New_York
BEGIN:DAYLIGHT
TZOFFSETFROM:-0500
TZOFFSETTO:-0400
TZNAME:EDT
DTSTART:20240310T070000
END:DAYLIGHT
BEGIN:STANDARD
TZOFFSETFROM:-0400
TZOFFSETTO:-0500
TZNAME:EST
DTSTART:20241103T060000
END:STANDARD
BEGIN:DAYLIGHT
TZOFFSETFROM:-0500
TZOFFSETTO:-0400
TZNAME:EDT
DTSTART:20250309T070000
END:DAYLIGHT
BEGIN:STANDARD
TZOFFSETFROM:-0400
TZOFFSETTO:-0500
TZNAME:EST
DTSTART:20251102T060000
END:STANDARD
BEGIN:DAYLIGHT
TZOFFSETFROM:-0500
TZOFFSETTO:-0400
TZNAME:EDT
DTSTART:20260308T070000
END:DAYLIGHT
BEGIN:STANDARD
TZOFFSETFROM:-0400
TZOFFSETTO:-0500
TZNAME:EST
DTSTART:20261101T060000
END:STANDARD
END:VTIMEZONE
BEGIN:VEVENT
DTSTART;TZID=America/New_York:20251206T083000
DTEND;TZID=America/New_York:20251206T133000
DTSTAMP:20260420T161615
CREATED:20251024T184431Z
LAST-MODIFIED:20251024T184431Z
UID:157929-1765009800-1765027800@www.contemplativeoutreach.org
SUMMARY:Virtual Silent Saturday Day of Prayer with Julie Saad - via Zoom
DESCRIPTION:Contemplative Outreach of Columbus is offering a Virtual Silent Saturday. A Silent Saturday provides a few hours that are set aside for Centering Prayer\, Lectio Divina\, spiritual teaching and reflection. “Come rest awhile with the Lord” in preparation for Christmas. \nEmbracing Darkness \nAdvent is a season of quiet and darkness where we wait with hopeful anticipation for the coming of the light of the world. We’ll explore how embracing darkness prepares us to embrace the peace\, joy\, and love we anticipate during this holy season. We’ll use some familiar contemplative practices and introduce some new practices for daily life that will help us manifest the fruits of the Spirit during this holy time of year. How can darkness be the place of receptivity to God coming to us as our lives? \nJulie is the author of Contemplative Life: Discovering Our Path into the Heart of God. Julie practices and teaches Centering Prayer and the other contemplative practices outlined in the book. She has been a part of Contemplative Outreach since 1994. Currently\, she teaches a contemplative living course through The Center for Lifelong Learning at Columbia Theological Center in Atlanta. \nExpect that the day will begin at 8:30am and last until 2:30pm. EST \nRegister by sending an email to Bob Gorman at rbrtgorman@protonmail.com.\nand a zoom link will be sent to you a few days in advance.
URL:https://www.contemplativeoutreach.org/event/virtual-silent-saturday-day-of-prayer-with-julie-saad-via-zoom/
LOCATION:Internet – Online
CATEGORIES:Retreat
ORGANIZER;CN="Bob Gorman":MAILTO:rbrtgorman@protonmail.com
END:VEVENT
BEGIN:VEVENT
DTSTART;TZID=America/New_York:20251206T083000
DTEND;TZID=America/New_York:20251206T163000
DTSTAMP:20260420T161615
CREATED:20250610T205653Z
LAST-MODIFIED:20250610T205653Z
UID:155877-1765009800-1765038600@www.contemplativeoutreach.org
SUMMARY:From the Heart of Yeshua: Following the Path of the Aramaic Jesus
DESCRIPTION:Neil Douglas-Klotz\, a renowned Aramaic Jesus scholar and teacher\, dedicated over 40 years uncovering the original meanings of Jesus’s teachings and their modern relevance. His studies reveal deeper meanings and nuances grounded in the Aramaic language and worldview. This retreat\, informed by Douglas-Klotz’s work\, invites us to explore the living words of Jesus. We will journey from a deeper understanding of the heart of Jesus’ native language to experiencing his teachings with renewed depth\, exploring how we might embody these teachings in our daily lives. \nThis event includes sessions of Centering Prayer. \nPlease see the link below for more information and to register.
URL:https://www.contemplativeoutreach.org/event/from-the-heart-of-yeshua-following-the-path-of-the-aramaic-jesus/
LOCATION:Holy Family Passionist Retreat Center\, 303 Tunxis Road\, West Hartford\, CT\, 6107\, United States
CATEGORIES:Workshop
ATTACH;FMTTYPE=image/png:https://www.contemplativeoutreach.org/wp-content/uploads/2025/06/CCE-Lectio-Divina.png
ORGANIZER;CN="Mike  Smoolca":MAILTO:msmoolca@hotmail.com
END:VEVENT
END:VCALENDAR