BEGIN:VCALENDAR
VERSION:2.0
PRODID:-//Contemplative Outreach, Ltd. - ECPv6.15.17.1//NONSGML v1.0//EN
CALSCALE:GREGORIAN
METHOD:PUBLISH
X-WR-CALNAME:Contemplative Outreach, Ltd.
X-ORIGINAL-URL:https://www.contemplativeoutreach.org
X-WR-CALDESC:Events for Contemplative Outreach, Ltd.
REFRESH-INTERVAL;VALUE=DURATION:PT1H
X-Robots-Tag:noindex
X-PUBLISHED-TTL:PT1H
BEGIN:VTIMEZONE
TZID:UTC
BEGIN:STANDARD
TZOFFSETFROM:+0000
TZOFFSETTO:+0000
TZNAME:UTC
DTSTART:20250101T000000
END:STANDARD
END:VTIMEZONE
BEGIN:VTIMEZONE
TZID:America/Denver
BEGIN:DAYLIGHT
TZOFFSETFROM:-0700
TZOFFSETTO:-0600
TZNAME:MDT
DTSTART:20250309T090000
END:DAYLIGHT
BEGIN:STANDARD
TZOFFSETFROM:-0600
TZOFFSETTO:-0700
TZNAME:MST
DTSTART:20251102T080000
END:STANDARD
BEGIN:DAYLIGHT
TZOFFSETFROM:-0700
TZOFFSETTO:-0600
TZNAME:MDT
DTSTART:20260308T090000
END:DAYLIGHT
BEGIN:STANDARD
TZOFFSETFROM:-0600
TZOFFSETTO:-0700
TZNAME:MST
DTSTART:20261101T080000
END:STANDARD
BEGIN:DAYLIGHT
TZOFFSETFROM:-0700
TZOFFSETTO:-0600
TZNAME:MDT
DTSTART:20270314T090000
END:DAYLIGHT
BEGIN:STANDARD
TZOFFSETFROM:-0600
TZOFFSETTO:-0700
TZNAME:MST
DTSTART:20271107T080000
END:STANDARD
END:VTIMEZONE
BEGIN:VTIMEZONE
TZID:America/Chicago
BEGIN:DAYLIGHT
TZOFFSETFROM:-0600
TZOFFSETTO:-0500
TZNAME:CDT
DTSTART:20250309T080000
END:DAYLIGHT
BEGIN:STANDARD
TZOFFSETFROM:-0500
TZOFFSETTO:-0600
TZNAME:CST
DTSTART:20251102T070000
END:STANDARD
BEGIN:DAYLIGHT
TZOFFSETFROM:-0600
TZOFFSETTO:-0500
TZNAME:CDT
DTSTART:20260308T080000
END:DAYLIGHT
BEGIN:STANDARD
TZOFFSETFROM:-0500
TZOFFSETTO:-0600
TZNAME:CST
DTSTART:20261101T070000
END:STANDARD
BEGIN:DAYLIGHT
TZOFFSETFROM:-0600
TZOFFSETTO:-0500
TZNAME:CDT
DTSTART:20270314T080000
END:DAYLIGHT
BEGIN:STANDARD
TZOFFSETFROM:-0500
TZOFFSETTO:-0600
TZNAME:CST
DTSTART:20271107T070000
END:STANDARD
END:VTIMEZONE
BEGIN:VTIMEZONE
TZID:America/New_York
BEGIN:DAYLIGHT
TZOFFSETFROM:-0500
TZOFFSETTO:-0400
TZNAME:EDT
DTSTART:20250309T070000
END:DAYLIGHT
BEGIN:STANDARD
TZOFFSETFROM:-0400
TZOFFSETTO:-0500
TZNAME:EST
DTSTART:20251102T060000
END:STANDARD
BEGIN:DAYLIGHT
TZOFFSETFROM:-0500
TZOFFSETTO:-0400
TZNAME:EDT
DTSTART:20260308T070000
END:DAYLIGHT
BEGIN:STANDARD
TZOFFSETFROM:-0400
TZOFFSETTO:-0500
TZNAME:EST
DTSTART:20261101T060000
END:STANDARD
BEGIN:DAYLIGHT
TZOFFSETFROM:-0500
TZOFFSETTO:-0400
TZNAME:EDT
DTSTART:20270314T070000
END:DAYLIGHT
BEGIN:STANDARD
TZOFFSETFROM:-0400
TZOFFSETTO:-0500
TZNAME:EST
DTSTART:20271107T060000
END:STANDARD
END:VTIMEZONE
BEGIN:VEVENT
DTSTART;TZID=UTC:20260101T000000
DTEND;TZID=UTC:20260126T235900
DTSTAMP:20260420T151241
CREATED:20250721T180722Z
LAST-MODIFIED:20250721T180801Z
UID:156508-1767225600-1769471940@www.contemplativeoutreach.org
SUMMARY:Contemplative Living II: Daily Life as Prayer (Online)
DESCRIPTION:January – April 2026 \nFurther enrich your contemplative living and embrace the practice of living each day as a form of prayer. In Contemplative Living I (CL I\,) the focus was on deepening your interior prayer life\, leading to the awareness of God’s presence in all that is. The interior life cultivated in CL I brings you to greater humility and vulnerability and lowers your defenses. You might think of it as standing naked before the God of Love. \nIn Contemplative Living II (CL II\,) the focus shifts towards increased intentionality in how you are living your daily life. You likely have a better understanding of what blocks you in deepening your relationship with God\, others\, and even with yourself. You are now more capable of looking at your part in relationships and what gets in the way of being and becoming the person God created you to be. Building on the contemplative practice learned in CL I\, in CL II you will assess where you are in your life and how you can make choices aligning with your authentic self. \nCourse Objectives\nTo deepen established daily practice of Centering Prayer\nTo integrate contemplative awareness into everyday activities and interactions\nTo foster contemplative sensibilities and a listening heart in decision-making in daily situations\nTo create contemplative Rule of of Life that supports ongoing transformation\, making daily life as prayer \nPlease see the link below for more information and to register.
URL:https://www.contemplativeoutreach.org/event/contemplative-living-ii-daily-life-as-prayer-online/
LOCATION:Internet – Online
END:VEVENT
BEGIN:VEVENT
DTSTART;TZID=America/Denver:20260110T090000
DTEND;TZID=America/Denver:20260110T120000
DTSTAMP:20260420T151241
CREATED:20211221T165644Z
LAST-MODIFIED:20260102T025959Z
UID:120054-1768035600-1768046400@www.contemplativeoutreach.org
SUMMARY:Introduction to Centering Prayer
DESCRIPTION:Are you looking for a way to explore or deepen your relationship with God? \nIn our introductory workshop to Centering Prayer\, you will discover a centuries-old prayer method. Centering Prayer consists of simply sitting in silence with God—beyond thoughts\, words\, and emotions—and opening our mind\, heart and whole being to the Ultimate Mystery. \nIn this workshop\, you will learn the basics of Centering Prayer\, experience it in a guided setting\, and be able to ask questions and share experiences with the presenter and your fellow initiates. \nCentering Prayer is based on a Christian contemplative practice first described in The Cloud of Unknowing\, written in the latter half of the 14th Century. It calls one to abandon any consideration of God’s attributes and actions\, and to surrender to The Creator’s influence in our lives. \n It is a very personal prayer practice but is also practiced in groups. It opens one to God’s infinite love and power to heal\, and opens the door to other related prayer practices around forgiveness\, and dealing with painful situations and emotions. \nTime listed for the workshop are Mountain Time. \nClick on the link below to register.
URL:https://www.contemplativeoutreach.org/event/introduction-to-centering-prayer-5/
LOCATION:Online Zoom\, Select a Country:
CATEGORIES:Webinar
ATTACH;FMTTYPE=image/jpeg:https://www.contemplativeoutreach.org/wp-content/uploads/2021/12/body_of_water_surrounded_by_trees.jpg
ORGANIZER;CN="Contemplative Outreach of Colorado":MAILTO:staff@centeringprayer.net
END:VEVENT
BEGIN:VEVENT
DTSTART;TZID=UTC:20260110T090000
DTEND;TZID=UTC:20260110T120000
DTSTAMP:20260420T151241
CREATED:20250807T164654Z
LAST-MODIFIED:20250807T164654Z
UID:156784-1768035600-1768046400@www.contemplativeoutreach.org
SUMMARY:New Year Silent Saturday
DESCRIPTION:Begin the new year by deepening your relationship with God. Join us for a quiet morning of Centering Prayer and silence. The day provides time for communal Centering Prayer\, contemplative walks\, private journaling and reflection and ends with a period of Lectio Divina. All are welcome. A brief introduction to Centering Prayer will be offered for those new to the practice. \nPlease arrive by 8:45am. \nA free will offering is gratefully appreciated \nRegistration online at www.hsrcenter.com is appreciated but not required.\nFor more information\, please email Sr. Chris at centeringprayer@hsrcenter.com \n(Photo by Simon Berger\, Unsplash)
URL:https://www.contemplativeoutreach.org/event/new-year-silent-saturday-4/
LOCATION:Holy Spirit Retreat Center\, 4316 Lanai Road\, Encino\, CA\, 91436\, United States
CATEGORIES:Retreat
ATTACH;FMTTYPE=image/jpeg:https://www.contemplativeoutreach.org/wp-content/uploads/2025/08/CPJan1323SS.jpg
ORGANIZER;CN="Sr. Chris Machado SSS":MAILTO:centeringprayer@hsrcenter.com
END:VEVENT
BEGIN:VEVENT
DTSTART;TZID=America/Chicago:20260110T093000
DTEND;TZID=America/Chicago:20260110T224500
DTSTAMP:20260420T151241
CREATED:20251211T221604Z
LAST-MODIFIED:20251211T221604Z
UID:158752-1768037400-1768085100@www.contemplativeoutreach.org
SUMMARY:12-Step Spirituality - weekly Zoom meeting
DESCRIPTION:12StepSpirituality.org hosts a weekly zoom meeting (11th Step) using the practices of Centering Prayer and Welcoming Prayer. The meeting starts with Welcoming Prayer\, a speaker sharing briefly on how Centering Prayer has impacted their life\, a 20-minute sit of Centering Prayer (with teaching Centering Prayer to newcomers as needed)\, small group breakouts\, and the practice of Grateful Heart. \nThis zoom meeting occurs on Saturdays from 9:30am to 10:45am Central Time (every week).\nThe zoom link is: https://tinyurl.com/2p9b4k9r\nMeeting ID: 891 6056 9630\nPasscode: 605838
URL:https://www.contemplativeoutreach.org/event/12-step-spirituality-weekly-zoom-meeting-2/
LOCATION:Internet – Online
CATEGORIES:Webinar
ORGANIZER;CN="12-step Outreach":MAILTO:12StepCP@gmail.com
END:VEVENT
BEGIN:VEVENT
DTSTART;TZID=America/New_York:20260110T110000
DTEND;TZID=America/New_York:20260110T160000
DTSTAMP:20260420T151241
CREATED:20250915T143208Z
LAST-MODIFIED:20250922T151116Z
UID:157305-1768042800-1768060800@www.contemplativeoutreach.org
SUMMARY:Living Flame 1 Program – via Zoom
DESCRIPTION:REGISTRATION IS NOW OPEN FOR LIVING FLAME 1 PROGRAM HAPPENING IN 2026 \nThe first retreat day: January 10 @ 11:00 am – 4:00 pm and then each month on the dates shown below for the next six months. \nDates: 2026 – Jan. 10\, Feb. 14\, Mar. 14\, Apr. 11\, May 9\, June 13\, July 11\nTime: 11:00 AM – 4:00 PM EST (-5 UTC) \nThe Living Flame 1 Program is offered on Zoom for individuals\, and small groups of six people or fewer who gather in-person. This program is hosted by Contemplative Outreach’s Living Flame Service Team. \nLF 1 is open to everyone who has had a consistent daily Centering Prayer practice for a year or more and who has reflectively read Open Mind\, Open Heart by Thomas Keating. This will support a more engaged participation and assimilation of the program content. Additional suggested resources are Keating’s Invitation to Love and Intimacy With God. \nLiving Flame is a seven-day in-depth spiritual formation program presented over seven months by commissioned presenters of Contemplative Outreach\, Ltd. It’s designed to heighten the awareness of the dynamics of Centering Prayer in the context of the spiritual journey. Registration and participation in the program is a commitment to all seven sessions. Topics for the Living Flame Program are noted in the Living Flame brochure \nEach retreat-like day is facilitated in a five-hour scheduled format which includes: two periods of Centering Prayer; two presentations with Q&A; small group sharing; silent breaks and time for a meal.
URL:https://www.contemplativeoutreach.org/event/living-flame-1-program-via-zoom/
LOCATION:Internet – Online
CATEGORIES:Retreat
ORGANIZER;CN="Matt Scrimgeour":MAILTO:matt@coutreach.org
END:VEVENT
END:VCALENDAR