BEGIN:VCALENDAR
VERSION:2.0
PRODID:-//Contemplative Outreach, Ltd. - ECPv6.15.17.1//NONSGML v1.0//EN
CALSCALE:GREGORIAN
METHOD:PUBLISH
X-WR-CALNAME:Contemplative Outreach, Ltd.
X-ORIGINAL-URL:https://www.contemplativeoutreach.org
X-WR-CALDESC:Events for Contemplative Outreach, Ltd.
REFRESH-INTERVAL;VALUE=DURATION:PT1H
X-Robots-Tag:noindex
X-PUBLISHED-TTL:PT1H
BEGIN:VTIMEZONE
TZID:UTC
BEGIN:STANDARD
TZOFFSETFROM:+0000
TZOFFSETTO:+0000
TZNAME:UTC
DTSTART:20250101T000000
END:STANDARD
END:VTIMEZONE
BEGIN:VTIMEZONE
TZID:America/Chicago
BEGIN:DAYLIGHT
TZOFFSETFROM:-0600
TZOFFSETTO:-0500
TZNAME:CDT
DTSTART:20250309T080000
END:DAYLIGHT
BEGIN:STANDARD
TZOFFSETFROM:-0500
TZOFFSETTO:-0600
TZNAME:CST
DTSTART:20251102T070000
END:STANDARD
BEGIN:DAYLIGHT
TZOFFSETFROM:-0600
TZOFFSETTO:-0500
TZNAME:CDT
DTSTART:20260308T080000
END:DAYLIGHT
BEGIN:STANDARD
TZOFFSETFROM:-0500
TZOFFSETTO:-0600
TZNAME:CST
DTSTART:20261101T070000
END:STANDARD
BEGIN:DAYLIGHT
TZOFFSETFROM:-0600
TZOFFSETTO:-0500
TZNAME:CDT
DTSTART:20270314T080000
END:DAYLIGHT
BEGIN:STANDARD
TZOFFSETFROM:-0500
TZOFFSETTO:-0600
TZNAME:CST
DTSTART:20271107T070000
END:STANDARD
END:VTIMEZONE
BEGIN:VTIMEZONE
TZID:Europe/Helsinki
BEGIN:DAYLIGHT
TZOFFSETFROM:+0200
TZOFFSETTO:+0300
TZNAME:EEST
DTSTART:20250330T010000
END:DAYLIGHT
BEGIN:STANDARD
TZOFFSETFROM:+0300
TZOFFSETTO:+0200
TZNAME:EET
DTSTART:20251026T010000
END:STANDARD
BEGIN:DAYLIGHT
TZOFFSETFROM:+0200
TZOFFSETTO:+0300
TZNAME:EEST
DTSTART:20260329T010000
END:DAYLIGHT
BEGIN:STANDARD
TZOFFSETFROM:+0300
TZOFFSETTO:+0200
TZNAME:EET
DTSTART:20261025T010000
END:STANDARD
BEGIN:DAYLIGHT
TZOFFSETFROM:+0200
TZOFFSETTO:+0300
TZNAME:EEST
DTSTART:20270328T010000
END:DAYLIGHT
BEGIN:STANDARD
TZOFFSETFROM:+0300
TZOFFSETTO:+0200
TZNAME:EET
DTSTART:20271031T010000
END:STANDARD
END:VTIMEZONE
BEGIN:VEVENT
DTSTART;TZID=UTC:20260101T000000
DTEND;TZID=UTC:20260126T235900
DTSTAMP:20260420T150633
CREATED:20250721T180722Z
LAST-MODIFIED:20250721T180801Z
UID:156508-1767225600-1769471940@www.contemplativeoutreach.org
SUMMARY:Contemplative Living II: Daily Life as Prayer (Online)
DESCRIPTION:January – April 2026 \nFurther enrich your contemplative living and embrace the practice of living each day as a form of prayer. In Contemplative Living I (CL I\,) the focus was on deepening your interior prayer life\, leading to the awareness of God’s presence in all that is. The interior life cultivated in CL I brings you to greater humility and vulnerability and lowers your defenses. You might think of it as standing naked before the God of Love. \nIn Contemplative Living II (CL II\,) the focus shifts towards increased intentionality in how you are living your daily life. You likely have a better understanding of what blocks you in deepening your relationship with God\, others\, and even with yourself. You are now more capable of looking at your part in relationships and what gets in the way of being and becoming the person God created you to be. Building on the contemplative practice learned in CL I\, in CL II you will assess where you are in your life and how you can make choices aligning with your authentic self. \nCourse Objectives\nTo deepen established daily practice of Centering Prayer\nTo integrate contemplative awareness into everyday activities and interactions\nTo foster contemplative sensibilities and a listening heart in decision-making in daily situations\nTo create contemplative Rule of of Life that supports ongoing transformation\, making daily life as prayer \nPlease see the link below for more information and to register.
URL:https://www.contemplativeoutreach.org/event/contemplative-living-ii-daily-life-as-prayer-online/
LOCATION:Internet – Online
END:VEVENT
BEGIN:VEVENT
DTSTART;TZID=America/Chicago:20260117T093000
DTEND;TZID=America/Chicago:20260117T224500
DTSTAMP:20260420T150633
CREATED:20251211T221642Z
LAST-MODIFIED:20251211T221642Z
UID:158754-1768642200-1768689900@www.contemplativeoutreach.org
SUMMARY:12-Step Spirituality - weekly Zoom meeting
DESCRIPTION:12StepSpirituality.org hosts a weekly zoom meeting (11th Step) using the practices of Centering Prayer and Welcoming Prayer. The meeting starts with Welcoming Prayer\, a speaker sharing briefly on how Centering Prayer has impacted their life\, a 20-minute sit of Centering Prayer (with teaching Centering Prayer to newcomers as needed)\, small group breakouts\, and the practice of Grateful Heart. \nThis zoom meeting occurs on Saturdays from 9:30am to 10:45am Central Time (every week).\nThe zoom link is: https://tinyurl.com/2p9b4k9r\nMeeting ID: 891 6056 9630\nPasscode: 605838
URL:https://www.contemplativeoutreach.org/event/12-step-spirituality-weekly-zoom-meeting-3/
LOCATION:Internet – Online
CATEGORIES:Webinar
ORGANIZER;CN="12-step Outreach":MAILTO:12StepCP@gmail.com
END:VEVENT
BEGIN:VEVENT
DTSTART;TZID=Europe/Helsinki:20260117T123000
DTEND;TZID=Europe/Helsinki:20260117T153000
DTSTAMP:20260420T150633
CREATED:20250902T174223Z
LAST-MODIFIED:20250902T174223Z
UID:157070-1768653000-1768663800@www.contemplativeoutreach.org
SUMMARY:Centering Prayer Introductory Workshop - via Zoom
DESCRIPTION:Are you seeking a path to explore or strengthen your inner connection with God at the centre of your being? Centering Prayer is a practice that leads to contemplation by opening oneself to God’s love\, healing\, and inner goodness; moreover\, it nurtures the soul’s desire to grow in kindness and compassion towards all. \nThe online workshop offers a glimpse into this practice through short inputs on the method of Centering Prayer\, along with times of silent practice together. You are most welcome\, whether you are a beginner or simply desire to refresh your practice. \nPlease see the link below for more information and to register. \n12:30-3:30pm CET (UTC +2)
URL:https://www.contemplativeoutreach.org/event/centering-prayer-introductory-workshop-via-zoom-5/
LOCATION:Internet – Online
CATEGORIES:Webinar
ATTACH;FMTTYPE=image/jpeg:https://www.contemplativeoutreach.org/wp-content/uploads/2025/09/Online-workshop-e1756834662313.jpg
ORGANIZER;CN="Sr. Maria Jose Rebelo%2C SSpS":MAILTO:silence.contemplation.steyl@ssps.de
END:VEVENT
END:VCALENDAR