BEGIN:VCALENDAR
VERSION:2.0
PRODID:-//Contemplative Outreach, Ltd. - ECPv6.15.17.1//NONSGML v1.0//EN
CALSCALE:GREGORIAN
METHOD:PUBLISH
X-ORIGINAL-URL:https://www.contemplativeoutreach.org
X-WR-CALDESC:Events for Contemplative Outreach, Ltd.
REFRESH-INTERVAL;VALUE=DURATION:PT1H
X-Robots-Tag:noindex
X-PUBLISHED-TTL:PT1H
BEGIN:VTIMEZONE
TZID:UTC
BEGIN:STANDARD
TZOFFSETFROM:+0000
TZOFFSETTO:+0000
TZNAME:UTC
DTSTART:20250101T000000
END:STANDARD
END:VTIMEZONE
BEGIN:VEVENT
DTSTART;TZID=UTC:20260124T090000
DTEND;TZID=UTC:20260124T123000
DTSTAMP:20260420T161243
CREATED:20250807T165129Z
LAST-MODIFIED:20250807T165205Z
UID:156790-1769245200-1769257800@www.contemplativeoutreach.org
SUMMARY:Centering Prayer Introductory Workshop
DESCRIPTION:Contemplative Prayer is God’s personal and unique gift to each of us. If we are open to this gift\, it will profoundly affect our lives and relationship with God\, others\, and the world. Centering Prayer is a form of contemplative prayer. It is a method of prayer that opens us to interior transformation and deeper intimacy with God and others. The workshop includes four presentations and the practice of Centering Prayer. \nPlease arrive by 8:45am. \nFor more information\, please contact Sr. Chris at 818-815-4480 or centeringprayer@hsrcenter.com \nRegister at www.hsrcenter.com by January 21st with a non-refundable deposit of $10.00 \n)Photo by Juan Davila\, Unsplash)
URL:https://www.contemplativeoutreach.org/event/centering-prayer-introductory-workshop-22/
LOCATION:Holy Spirit Retreat Center\, 4316 Lanai Road\, Encino\, CA\, 91436\, United States
CATEGORIES:Workshop
ATTACH;FMTTYPE=image/jpeg:https://www.contemplativeoutreach.org/wp-content/uploads/2025/08/CPJan2724Wrkshp.jpg
ORGANIZER;CN="Sr. Chris Machado%2C SSS":MAILTO:centeringprayer@hsrcenter.com
END:VEVENT
END:VCALENDAR