BEGIN:VCALENDAR
VERSION:2.0
PRODID:-//Contemplative Outreach, Ltd. - ECPv6.15.17.1//NONSGML v1.0//EN
CALSCALE:GREGORIAN
METHOD:PUBLISH
X-WR-CALNAME:Contemplative Outreach, Ltd.
X-ORIGINAL-URL:https://www.contemplativeoutreach.org
X-WR-CALDESC:Events for Contemplative Outreach, Ltd.
REFRESH-INTERVAL;VALUE=DURATION:PT1H
X-Robots-Tag:noindex
X-PUBLISHED-TTL:PT1H
BEGIN:VTIMEZONE
TZID:America/Chicago
BEGIN:DAYLIGHT
TZOFFSETFROM:-0600
TZOFFSETTO:-0500
TZNAME:CDT
DTSTART:20250309T080000
END:DAYLIGHT
BEGIN:STANDARD
TZOFFSETFROM:-0500
TZOFFSETTO:-0600
TZNAME:CST
DTSTART:20251102T070000
END:STANDARD
BEGIN:DAYLIGHT
TZOFFSETFROM:-0600
TZOFFSETTO:-0500
TZNAME:CDT
DTSTART:20260308T080000
END:DAYLIGHT
BEGIN:STANDARD
TZOFFSETFROM:-0500
TZOFFSETTO:-0600
TZNAME:CST
DTSTART:20261101T070000
END:STANDARD
BEGIN:DAYLIGHT
TZOFFSETFROM:-0600
TZOFFSETTO:-0500
TZNAME:CDT
DTSTART:20270314T080000
END:DAYLIGHT
BEGIN:STANDARD
TZOFFSETFROM:-0500
TZOFFSETTO:-0600
TZNAME:CST
DTSTART:20271107T070000
END:STANDARD
END:VTIMEZONE
BEGIN:VEVENT
DTSTART;TZID=America/Chicago:20260131T093000
DTEND;TZID=America/Chicago:20260131T224500
DTSTAMP:20260420T134713
CREATED:20251211T221741Z
LAST-MODIFIED:20251211T221741Z
UID:158758-1769851800-1769899500@www.contemplativeoutreach.org
SUMMARY:12-Step Spirituality - weekly Zoom meeting
DESCRIPTION:12StepSpirituality.org hosts a weekly zoom meeting (11th Step) using the practices of Centering Prayer and Welcoming Prayer. The meeting starts with Welcoming Prayer\, a speaker sharing briefly on how Centering Prayer has impacted their life\, a 20-minute sit of Centering Prayer (with teaching Centering Prayer to newcomers as needed)\, small group breakouts\, and the practice of Grateful Heart. \nThis zoom meeting occurs on Saturdays from 9:30am to 10:45am Central Time (every week).\nThe zoom link is: https://tinyurl.com/2p9b4k9r\nMeeting ID: 891 6056 9630\nPasscode: 605838
URL:https://www.contemplativeoutreach.org/event/12-step-spirituality-weekly-zoom-meeting-5/
LOCATION:Internet – Online
CATEGORIES:Webinar
ORGANIZER;CN="12-step Outreach":MAILTO:12StepCP@gmail.com
END:VEVENT
END:VCALENDAR