BEGIN:VCALENDAR
VERSION:2.0
PRODID:-//Contemplative Outreach, Ltd. - ECPv6.15.17.1//NONSGML v1.0//EN
CALSCALE:GREGORIAN
METHOD:PUBLISH
X-ORIGINAL-URL:https://www.contemplativeoutreach.org
X-WR-CALDESC:Events for Contemplative Outreach, Ltd.
REFRESH-INTERVAL;VALUE=DURATION:PT1H
X-Robots-Tag:noindex
X-PUBLISHED-TTL:PT1H
BEGIN:VTIMEZONE
TZID:America/Denver
BEGIN:DAYLIGHT
TZOFFSETFROM:-0700
TZOFFSETTO:-0600
TZNAME:MDT
DTSTART:20250309T090000
END:DAYLIGHT
BEGIN:STANDARD
TZOFFSETFROM:-0600
TZOFFSETTO:-0700
TZNAME:MST
DTSTART:20251102T080000
END:STANDARD
BEGIN:DAYLIGHT
TZOFFSETFROM:-0700
TZOFFSETTO:-0600
TZNAME:MDT
DTSTART:20260308T090000
END:DAYLIGHT
BEGIN:STANDARD
TZOFFSETFROM:-0600
TZOFFSETTO:-0700
TZNAME:MST
DTSTART:20261101T080000
END:STANDARD
BEGIN:DAYLIGHT
TZOFFSETFROM:-0700
TZOFFSETTO:-0600
TZNAME:MDT
DTSTART:20270314T090000
END:DAYLIGHT
BEGIN:STANDARD
TZOFFSETFROM:-0600
TZOFFSETTO:-0700
TZNAME:MST
DTSTART:20271107T080000
END:STANDARD
END:VTIMEZONE
BEGIN:VEVENT
DTSTART;TZID=America/Denver:20260212T103000
DTEND;TZID=America/Denver:20260212T120000
DTSTAMP:20260420T144930
CREATED:20240823T213714Z
LAST-MODIFIED:20260102T023621Z
UID:147177-1770892200-1770897600@www.contemplativeoutreach.org
SUMMARY:Creating Self-Compassion Through Centering Prayer – via Zoom
DESCRIPTION:Presented by Blair Ashby over six Thursday sessions \nA foundational gift of practicing Centering Prayer is that we also begin caring for our mental and emotional well-being during our prayer sits. Fortunately\, this is also one definition of self-compassion. Frequently\, we start noticing this gift with a simple thought like\, “my days feel better since I began Centering Prayer.” Centering Prayer creates self-compassion because it requires us to learn and repeat the process of awareness (being present)\, acceptance\, and letting go while consenting to the presence and action of the Divine within us. \nWhat is happening in our brains biologically as we repeat this process of awareness\, acceptance\, and letting go? How does this process impact our mental and emotional well-being? The good news is when we do Centering Prayer\, the work of the Spirit is teaching us self-compassion\, and this class will help us understand some of the transformations enacted in this process. Finally\, by aiding our developing awareness\, acceptance\, and letting go\, the course will also offer us additional skills to increase compassion toward ourselves and others. \nOver the six weeks\, we will explore the physical changes Centering Prayer brings about in our brains. Then\, we will explore the corresponding mental\, emotional\, and spiritual transformations resulting from those changes. Most importantly\, in every class\, we will practice those tools for creating self-compassion by discussing what we experience; we will learn from each other. Through this weekly repetition\, participants will habituate new ways of caring for themselves. As we practice\, our lives will feel more meaningful\, grounded\, and empowered to share ourselves in the world through God-given grace. This class will include session of Centering Prayer. \nAbout Blair Ashby \nIn 1994\, Contemplative Outreach International asked Blair to transfer the Christian Contemplative Heritage video series to audio cassettes. In the first fifteen minutes of the introductory tape\, Fr. Thomas said so much about God and reality that Blair’s head exploded and unknowingly germinated a desire to experience and eventually teach this God-created reality. In 1997\, Contemplative Outreach of Colorado asked Blair to record Fr. Thomas live\, and Blair has been recording the annual conferences and fall retreats ever since. Through personal relationships with Fr. Thomas Keating and Fr. Tony D’Souza (Anthony DeMello’s apprentice)\, and the dozens of spiritual teachers he has recorded\, Blair has gained deep contemplative insights. He has practiced Centering Prayer and self-compassion for the past twenty-eight years. \nThis is a six-week class\, offered on Thursday mornings\, October 9 – November 13\, 2025\nTimes listed are mountain time (Denver\, CO) \nClick the website link below to learn more and register. Scholarships are available.
URL:https://www.contemplativeoutreach.org/event/creating-self-compassion-through-centering-prayer-via-zoom/
LOCATION:Internet – Online
CATEGORIES:Training,Webinar
ATTACH;FMTTYPE=image/jpeg:https://www.contemplativeoutreach.org/wp-content/uploads/2024/08/body_of_water_during_golden_hour-1.jpg
ORGANIZER;CN="Contemplative Outreach of Colorado":MAILTO:staff@centeringprayer.net
END:VEVENT
END:VCALENDAR