BEGIN:VCALENDAR
VERSION:2.0
PRODID:-//Contemplative Outreach, Ltd. - ECPv6.15.17.1//NONSGML v1.0//EN
CALSCALE:GREGORIAN
METHOD:PUBLISH
X-ORIGINAL-URL:https://www.contemplativeoutreach.org
X-WR-CALDESC:Events for Contemplative Outreach, Ltd.
REFRESH-INTERVAL;VALUE=DURATION:PT1H
X-Robots-Tag:noindex
X-PUBLISHED-TTL:PT1H
BEGIN:VTIMEZONE
TZID:UTC
BEGIN:STANDARD
TZOFFSETFROM:+0000
TZOFFSETTO:+0000
TZNAME:UTC
DTSTART:20250101T000000
END:STANDARD
END:VTIMEZONE
BEGIN:VTIMEZONE
TZID:America/New_York
BEGIN:DAYLIGHT
TZOFFSETFROM:-0500
TZOFFSETTO:-0400
TZNAME:EDT
DTSTART:20250309T070000
END:DAYLIGHT
BEGIN:STANDARD
TZOFFSETFROM:-0400
TZOFFSETTO:-0500
TZNAME:EST
DTSTART:20251102T060000
END:STANDARD
BEGIN:DAYLIGHT
TZOFFSETFROM:-0500
TZOFFSETTO:-0400
TZNAME:EDT
DTSTART:20260308T070000
END:DAYLIGHT
BEGIN:STANDARD
TZOFFSETFROM:-0400
TZOFFSETTO:-0500
TZNAME:EST
DTSTART:20261101T060000
END:STANDARD
BEGIN:DAYLIGHT
TZOFFSETFROM:-0500
TZOFFSETTO:-0400
TZNAME:EDT
DTSTART:20270314T070000
END:DAYLIGHT
BEGIN:STANDARD
TZOFFSETFROM:-0400
TZOFFSETTO:-0500
TZNAME:EST
DTSTART:20271107T060000
END:STANDARD
END:VTIMEZONE
BEGIN:VTIMEZONE
TZID:America/Denver
BEGIN:DAYLIGHT
TZOFFSETFROM:-0700
TZOFFSETTO:-0600
TZNAME:MDT
DTSTART:20250309T090000
END:DAYLIGHT
BEGIN:STANDARD
TZOFFSETFROM:-0600
TZOFFSETTO:-0700
TZNAME:MST
DTSTART:20251102T080000
END:STANDARD
BEGIN:DAYLIGHT
TZOFFSETFROM:-0700
TZOFFSETTO:-0600
TZNAME:MDT
DTSTART:20260308T090000
END:DAYLIGHT
BEGIN:STANDARD
TZOFFSETFROM:-0600
TZOFFSETTO:-0700
TZNAME:MST
DTSTART:20261101T080000
END:STANDARD
BEGIN:DAYLIGHT
TZOFFSETFROM:-0700
TZOFFSETTO:-0600
TZNAME:MDT
DTSTART:20270314T090000
END:DAYLIGHT
BEGIN:STANDARD
TZOFFSETFROM:-0600
TZOFFSETTO:-0700
TZNAME:MST
DTSTART:20271107T080000
END:STANDARD
END:VTIMEZONE
BEGIN:VTIMEZONE
TZID:America/Chicago
BEGIN:DAYLIGHT
TZOFFSETFROM:-0600
TZOFFSETTO:-0500
TZNAME:CDT
DTSTART:20250309T080000
END:DAYLIGHT
BEGIN:STANDARD
TZOFFSETFROM:-0500
TZOFFSETTO:-0600
TZNAME:CST
DTSTART:20251102T070000
END:STANDARD
BEGIN:DAYLIGHT
TZOFFSETFROM:-0600
TZOFFSETTO:-0500
TZNAME:CDT
DTSTART:20260308T080000
END:DAYLIGHT
BEGIN:STANDARD
TZOFFSETFROM:-0500
TZOFFSETTO:-0600
TZNAME:CST
DTSTART:20261101T070000
END:STANDARD
BEGIN:DAYLIGHT
TZOFFSETFROM:-0600
TZOFFSETTO:-0500
TZNAME:CDT
DTSTART:20270314T080000
END:DAYLIGHT
BEGIN:STANDARD
TZOFFSETFROM:-0500
TZOFFSETTO:-0600
TZNAME:CST
DTSTART:20271107T070000
END:STANDARD
END:VTIMEZONE
BEGIN:VEVENT
DTSTART;TZID=UTC:20260209T160000
DTEND;TZID=UTC:20260215T130000
DTSTAMP:20260420T134907
CREATED:20250718T163830Z
LAST-MODIFIED:20250718T163830Z
UID:156483-1770652800-1771160400@www.contemplativeoutreach.org
SUMMARY:Centering Prayer Intensive & Post-Intensive Retreat
DESCRIPTION:An opportunity to deepen the practice of Centering Prayer in an atmosphere of silence and solitude within community. \nThere are two tracks: \n\nThe Intensive – for anyone who hasn’t been on a Centering Prayer Intensive Retreat\, includes video presentations by Fr. Thomas Keating;\nThe Post-Intensive\, for those who have previously attended an Intensive\, offers a deeper silence.\n\nPlease see the link below for more information and to register.
URL:https://www.contemplativeoutreach.org/event/centering-prayer-intensive-post-intensive-retreat/
LOCATION:Knobs Haven Retreat Center\, 515 Nerinx Road\, Nerinx\, KY\, 40049\, United States
CATEGORIES:Retreat
ATTACH;FMTTYPE=image/jpeg:https://www.contemplativeoutreach.org/wp-content/uploads/2025/07/DH000008-e1752856694855.jpeg
ORGANIZER;CN="CO of Louisville":MAILTO:sksallen13@gmail.com
END:VEVENT
BEGIN:VEVENT
DTSTART;TZID=America/New_York:20260210T140000
DTEND;TZID=America/New_York:20260214T133000
DTSTAMP:20260420T134907
CREATED:20251230T225344Z
LAST-MODIFIED:20251230T225344Z
UID:159326-1770732000-1771075800@www.contemplativeoutreach.org
SUMMARY:Centering Prayer Retreat
DESCRIPTION:This retreat\, offered from Tuesday\, February 10 till Friday\, February 13\, 2026\, at Holy Cross Monastery on the Hudson River in New York State\, offers opportunities for both those new to the Centering Prayer and those who have an established practice. During the retreat\, one will experience integrating contemplation and action through silence\, solitude\, community and the rhythm of this Episcopal Benedictine monastic community’s worship and prayer life. \nThe retreat offers two tracks. For those new to Centering Prayer\, the basic essentials of the method and conceptual background of Centering Prayer will be presented. To those who have an established prayer practice\, more time will be available to foster an ever-deepening level of interior silence and awareness of the presence of God in everyday life. This contemplative retreat welcomes both those new to and those comfortable with silence that have a yearning to rediscover this ancient prayer that prepares us to receive the gift of contemplation. \nCheck-in is from 2:00 to 5:00 p.m. Tuesday. Vespers begin at 5:00. Supper then follows. Orientation begins at 6:45. The retreat concludes with lunch on Friday. (Daily Holy Eucharist is available at 9:00 a.m.). The retreat concludes with noon meal on Friday. \nCost for the retreat is $445. The retreat fee includes a single room and all meals. Shared single occupancy bathrooms in the hallways. \nTo register\, please contact our Guesthouse Office by phone at +1-845-384-6660\, ext. 3002 or email guesthouse@hcmnet.org. The guesthouse office is open Tuesday through Friday. \nIf you have questions about the retreat content please contact retreat leader: Leslee Terpay at co-leslee@comcast.net. \nAs a Contemplative Outreach commissioned presenter of Centering Prayer and Lectio Divina\, Leslee shares Fr. Thomas Keating’s teachings on the Christian Spiritual Journey in workshop and retreat settings. She is part of the service team that stewards Fr. Thomas’s teaching for serving Centering Prayer retreats. She is a spiritual director in Lone Tree\, Colorado and a graduate of The Center for Action and Contemplation Living School.
URL:https://www.contemplativeoutreach.org/event/centering-prayer-retreat-59/
LOCATION:Holy Cross Monastery – New York\, 1615 Route 9W\, West Park\, NY\, 12493\, United States
CATEGORIES:Retreat
ATTACH;FMTTYPE=image/jpeg:https://www.contemplativeoutreach.org/wp-content/uploads/2025/12/IMG_3274-e1767135192993.jpg
ORGANIZER;CN="Leslee Anne Terpay":MAILTO:co-leslee@comcast.net
END:VEVENT
BEGIN:VEVENT
DTSTART;TZID=America/New_York:20260213T193000
DTEND;TZID=America/New_York:20260219T123000
DTSTAMP:20260420T134907
CREATED:20260112T192859Z
LAST-MODIFIED:20260112T192859Z
UID:160041-1771011000-1771504200@www.contemplativeoutreach.org
SUMMARY:5-Day Centering Prayer Retreat
DESCRIPTION:This five-day Centering Prayer retreat will be directed by Fr. Bill Sheehan\, OMI. \nIn his book\, That God May be All in All\, Fr. Thomas Keating tells us that what mystics have always said\, scientists are now saying: That all that is comes from One Source. Father Bill would like to explore the meaning of this statement during our time together. May these days of silence\, presentation and Centering Prayer be an opportunity to explore and experience our One Source. \nPlease see the link below for more information and to register.
URL:https://www.contemplativeoutreach.org/event/5-day-centering-prayer-retreat-4/
LOCATION:Dominican Retreat and Conference Center\, 1945 Union Street (Route 7)\, Niskayuna\, NY\, 12309\, United States
CATEGORIES:Retreat
ORGANIZER;CN="Sr. Sue Zemgulis%2C OP":MAILTO:suezop@hotmail.com
END:VEVENT
BEGIN:VEVENT
DTSTART;TZID=America/Denver:20260214T090000
DTEND;TZID=America/Denver:20260214T120000
DTSTAMP:20260420T134907
CREATED:20231211T205015Z
LAST-MODIFIED:20260102T024027Z
UID:139211-1771059600-1771070400@www.contemplativeoutreach.org
SUMMARY:Introduction to the Forgiveness Prayer
DESCRIPTION:Is there someone in your life whom you find difficult to forgive? The Prayer of Forgiveness is a powerful prayer that can help you forgive at the deepest level of your being. During this class\, you will receive instruction on this prayer\, developed by Contemplative Outreach founding member Mary Mrozowski. You will also have an opportunity for Centering Prayer as well as practice of the Prayer of Forgiveness. \nRecording note: This event will be recorded. All registrants will receive a copy of the Zoom recording within 2 weeks of the event. \nTime Listed is Mountain Time (Denver\, Colorado) \nClick the website link below to register.
URL:https://www.contemplativeoutreach.org/event/introduction-to-the-forgiveness-prayer/
LOCATION:Internet – Online
CATEGORIES:Workshop
ATTACH;FMTTYPE=image/jpeg:https://www.contemplativeoutreach.org/wp-content/uploads/2023/12/green_trees_near_snow_covered_mountain_during_daytime-1.jpg
ORGANIZER;CN="Contemplative Outreach of Colorado":MAILTO:staff@centeringprayer.net
END:VEVENT
BEGIN:VEVENT
DTSTART;TZID=America/Chicago:20260214T093000
DTEND;TZID=America/Chicago:20260214T104500
DTSTAMP:20260420T134907
CREATED:20251211T221936Z
LAST-MODIFIED:20251211T221936Z
UID:158761-1771061400-1771065900@www.contemplativeoutreach.org
SUMMARY:12-step Spirituality - weekly meeting via Zoom
DESCRIPTION:12StepSpirituality.org hosts a weekly zoom meeting (11th Step) using the practices of Centering Prayer and Welcoming Prayer. The meeting starts with Welcoming Prayer\, a speaker sharing briefly on how Centering Prayer has impacted their life\, a 20-minute sit of Centering Prayer (with teaching Centering Prayer to newcomers as needed)\, small group breakouts\, and the practice of Grateful Heart. \nThis zoom meeting occurs on Saturdays from 9:30am to 10:45am Central Time (every week).\nThe zoom link is: https://tinyurl.com/2p9b4k9r\nMeeting ID: 891 6056 9630\nPasscode: 605838
URL:https://www.contemplativeoutreach.org/event/12-step-spirituality-weekly-meeting-via-zoom-4/
LOCATION:Internet – Online
CATEGORIES:Webinar
ORGANIZER;CN="12-step Outreach":MAILTO:12StepCP@gmail.com
END:VEVENT
END:VCALENDAR