BEGIN:VCALENDAR
VERSION:2.0
PRODID:-//Contemplative Outreach, Ltd. - ECPv6.15.17.1//NONSGML v1.0//EN
CALSCALE:GREGORIAN
METHOD:PUBLISH
X-ORIGINAL-URL:https://www.contemplativeoutreach.org
X-WR-CALDESC:Events for Contemplative Outreach, Ltd.
REFRESH-INTERVAL;VALUE=DURATION:PT1H
X-Robots-Tag:noindex
X-PUBLISHED-TTL:PT1H
BEGIN:VTIMEZONE
TZID:UTC
BEGIN:STANDARD
TZOFFSETFROM:+0000
TZOFFSETTO:+0000
TZNAME:UTC
DTSTART:20250101T000000
END:STANDARD
END:VTIMEZONE
BEGIN:VEVENT
DTSTART;VALUE=DATE:20260304
DTEND;VALUE=DATE:20260313
DTSTAMP:20260420T122732
CREATED:20241226T181010Z
LAST-MODIFIED:20250627T231431Z
UID:151310-1772582400-1773359999@www.contemplativeoutreach.org
SUMMARY:9 Day Intensive I\, Intensive II\, and Post Intensive Retreat
DESCRIPTION:This retreat offers three tracks simultaneously: Intensive I\, Intensive II\, and Post Intensive.  See flyer for more information.\nThe Post Intensive retreat will be in a separate prayer room with separate staff. \nPre-requisite:\nA daily practice of centering prayer for 6 months or longer. \nSingle rooms with a sink in the room.  Shared bathrooms.
URL:https://www.contemplativeoutreach.org/event/9-day-intensive-and-post-intensive-retreat-5/
LOCATION:Mercy Center Auburn\, 535 Sacramento Street\, Auburn\, CA\, 95603\, United States
CATEGORIES:Retreat
ATTACH;FMTTYPE=image/jpeg:https://www.contemplativeoutreach.org/wp-content/uploads/2024/12/Mar2026.jpg
ORGANIZER;CN="Susan Turpin1":MAILTO:slturpin@me.com
END:VEVENT
END:VCALENDAR