BEGIN:VCALENDAR
VERSION:2.0
PRODID:-//Contemplative Outreach, Ltd. - ECPv6.15.17.1//NONSGML v1.0//EN
CALSCALE:GREGORIAN
METHOD:PUBLISH
X-ORIGINAL-URL:https://www.contemplativeoutreach.org
X-WR-CALDESC:Events for Contemplative Outreach, Ltd.
REFRESH-INTERVAL;VALUE=DURATION:PT1H
X-Robots-Tag:noindex
X-PUBLISHED-TTL:PT1H
BEGIN:VTIMEZONE
TZID:UTC
BEGIN:STANDARD
TZOFFSETFROM:+0000
TZOFFSETTO:+0000
TZNAME:UTC
DTSTART:20250101T000000
END:STANDARD
END:VTIMEZONE
BEGIN:VTIMEZONE
TZID:America/Chicago
BEGIN:DAYLIGHT
TZOFFSETFROM:-0600
TZOFFSETTO:-0500
TZNAME:CDT
DTSTART:20250309T080000
END:DAYLIGHT
BEGIN:STANDARD
TZOFFSETFROM:-0500
TZOFFSETTO:-0600
TZNAME:CST
DTSTART:20251102T070000
END:STANDARD
BEGIN:DAYLIGHT
TZOFFSETFROM:-0600
TZOFFSETTO:-0500
TZNAME:CDT
DTSTART:20260308T080000
END:DAYLIGHT
BEGIN:STANDARD
TZOFFSETFROM:-0500
TZOFFSETTO:-0600
TZNAME:CST
DTSTART:20261101T070000
END:STANDARD
BEGIN:DAYLIGHT
TZOFFSETFROM:-0600
TZOFFSETTO:-0500
TZNAME:CDT
DTSTART:20270314T080000
END:DAYLIGHT
BEGIN:STANDARD
TZOFFSETFROM:-0500
TZOFFSETTO:-0600
TZNAME:CST
DTSTART:20271107T070000
END:STANDARD
END:VTIMEZONE
BEGIN:VEVENT
DTSTART;TZID=UTC:20260312T080000
DTEND;TZID=UTC:20260501T170000
DTSTAMP:20260420T111326
CREATED:20260312T200118Z
LAST-MODIFIED:20260312T200118Z
UID:161384-1773302400-1777654800@www.contemplativeoutreach.org
SUMMARY:Certificate in Contemplative Spiritual Direction
DESCRIPTION:This application is for Cohort 2026 of the Certificate in Contemplative Spiritual Direction program\, a two-year formation and training program for persons who discern a call to the ministry of spiritual direction. Applicants will be notified of the status of their application within two months of completing their submission. The application deadline is May 1\, 2026. \nPlease see the link below.
URL:https://www.contemplativeoutreach.org/event/certificate-in-contemplative-spiritual-direction-2/
LOCATION:Columbia Theological Seminary\, 701 South Columbia Drive\, Decatur\, GA\, 30031\, United States
CATEGORIES:Training
END:VEVENT
BEGIN:VEVENT
DTSTART;TZID=UTC:20260404T090000
DTEND;TZID=UTC:20260404T113000
DTSTAMP:20260420T111326
CREATED:20230606T161245Z
LAST-MODIFIED:20251217T224528Z
UID:135555-1775293200-1775302200@www.contemplativeoutreach.org
SUMMARY:Our Incarnation  Online  Time of Centering Prayer (1st Saturday of every month)
DESCRIPTION: Lent  is the focus for this Online Half Day Centering Prayer/Welcoming Prayer mini-retreat via Hawaiʻi (1st Saturday of every month)\n @ 9:00 am – 11:30 am UTC-10\nFREE \nFirst Saturdays online retreats are a special time where we explore our Centering Prayer practice. We are looking forward to sharing Physio-Divina (Moving) practices\, Visio-Divina (Visual-Art) practices\, Terra-Divina (Nature)\, Lectio-Divina (Sacred Text) practices in addition to the Centering Prayer and Welcoming Prayer practice that are our foundation. Pulelehua\, Liedeke\, and Margie welcome all who wish to join us.\nDates 2025( the zoom link is the same for all these dates): Feb. 1 March 1\, April 5\, May 3\, June 7 July 5\, August 2\, September 6\, October4\, November 1\, December 6 \nWe hope you will join us from wherever & whenever you are! Schedule in Hawai’i Time (UTC -10)\n8:45am Room open to for early connections\n9:00 Welcome and introductions\n9:15 Centering Prayer\n9:40 Break\n9:45 Centering  Prayer\n10:10 Break\n10:20 Practice and Reflections\n11:15  Closing prayer\nhttps://us02web.zoom.us/j/92185854158?pwd=dDJxN0FkRkRvQWhrQURwN29SUTBFUT09\nZoom Meeting ID: 921 8585 4158 Passcode: 730086 \nWebsite: http://www.cohawaii.org\nPhone (628) 400-2644\nEmail: cohawaii@gmail.com \nAll session are freely offered\, donations are welcome\, no registration is needed.
URL:https://www.contemplativeoutreach.org/event/visio-divina-online-half-day-centering-prayer-welcoming-prayer-mini-retreat-1st-saturday-of-every-month/
LOCATION:Internet – Online
CATEGORIES:Retreat,Webcast
ATTACH;FMTTYPE=image/png:https://www.contemplativeoutreach.org/wp-content/uploads/2023/06/Screenshot-2024-02-09-at-2.54.07 PM.png
ORGANIZER;CN="Contemplative Outreach Hawai%CA%BBi":MAILTO:cohawaii@gmail.com
END:VEVENT
BEGIN:VEVENT
DTSTART;TZID=America/Chicago:20260404T093000
DTEND;TZID=America/Chicago:20260404T120000
DTSTAMP:20260420T111326
CREATED:20251211T221022Z
LAST-MODIFIED:20251211T221022Z
UID:158745-1775295000-1775304000@www.contemplativeoutreach.org
SUMMARY:12 Step Spirituality monthly in-person meeting\, Minneapolis\, MN
DESCRIPTION:12StepSpirituality.org hosts an in-person meeting on the first Saturday of the month\, October through May\, in Minneapolis\, Minnesota. The meeting focuses on the 11th Step\, using Centering Prayer meditation to open us to the presence and action of our own Higher Power. The meeting starts with Welcoming Prayer\, a speaker sharing briefly on various topics\, a 20-minute sit of Centering Prayer (teaching Centering Prayer to newcomers as needed)\, small group breakouts\, and large group discussion. \nThere is also a zoom meeting which occurs every Saturday morning. \nIn-Person:\n1st Saturdays\, October through May\n9:30 AM – 12:00 Noon Central Time\n1st Universalist Church\nSocial Hall\n3400 Dupont Avenue South\nMinneapolis\, MN 55408 \nMailing list and questions: 12StepCP@gmail.com
URL:https://www.contemplativeoutreach.org/event/12-step-spirituality-monthly-in-person-meeting-minneapolis-mn-4/
LOCATION:1st Universalist Church\, 3400 Dupont Avenue South\, Minneapolis\, MN\, 55408\, United States
CATEGORIES:Retreat
ORGANIZER;CN="12-step Outreach":MAILTO:12StepCP@gmail.com
END:VEVENT
BEGIN:VEVENT
DTSTART;TZID=America/Chicago:20260404T093000
DTEND;TZID=America/Chicago:20260404T224500
DTSTAMP:20260420T111326
CREATED:20251211T222109Z
LAST-MODIFIED:20251211T222109Z
UID:158768-1775295000-1775342700@www.contemplativeoutreach.org
SUMMARY:12-Step Spirituality - weekly Zoom meeting
DESCRIPTION:12StepSpirituality.org hosts a weekly zoom meeting (11th Step) using the practices of Centering Prayer and Welcoming Prayer. The meeting starts with Welcoming Prayer\, a speaker sharing briefly on how Centering Prayer has impacted their life\, a 20-minute sit of Centering Prayer (with teaching Centering Prayer to newcomers as needed)\, small group breakouts\, and the practice of Grateful Heart. \nThis zoom meeting occurs on Saturdays from 9:30am to 10:45am Central Time (every week).\nThe zoom link is: https://tinyurl.com/2p9b4k9r\nMeeting ID: 891 6056 9630\nPasscode: 605838
URL:https://www.contemplativeoutreach.org/event/12-step-spirituality-weekly-zoom-meeting-7/
LOCATION:Internet – Online
CATEGORIES:Webinar
ORGANIZER;CN="12-step Outreach":MAILTO:12StepCP@gmail.com
END:VEVENT
END:VCALENDAR