BEGIN:VCALENDAR
VERSION:2.0
PRODID:-//Contemplative Outreach, Ltd. - ECPv6.15.17.1//NONSGML v1.0//EN
CALSCALE:GREGORIAN
METHOD:PUBLISH
X-WR-CALNAME:Contemplative Outreach, Ltd.
X-ORIGINAL-URL:https://www.contemplativeoutreach.org
X-WR-CALDESC:Events for Contemplative Outreach, Ltd.
REFRESH-INTERVAL;VALUE=DURATION:PT1H
X-Robots-Tag:noindex
X-PUBLISHED-TTL:PT1H
BEGIN:VTIMEZONE
TZID:UTC
BEGIN:STANDARD
TZOFFSETFROM:+0000
TZOFFSETTO:+0000
TZNAME:UTC
DTSTART:20250101T000000
END:STANDARD
END:VTIMEZONE
BEGIN:VEVENT
DTSTART;TZID=UTC:20260410T160000
DTEND;TZID=UTC:20260412T230000
DTSTAMP:20260420T120057
CREATED:20251211T185049Z
LAST-MODIFIED:20251211T185049Z
UID:158532-1775836800-1776034800@www.contemplativeoutreach.org
SUMMARY:11th-Step Retreat
DESCRIPTION:The retreat will offer an environment of solitude and silence in community with time for reflection\, fellowship\, and 12-Step meetings. We will present an Introduction to Centering Prayer in the context of 12-Step recovery. \nThe vision of 12 Step Outreach is to pass on the gift of Centering Prayer and related Spiritual Practices to improve our conscious contact with a God of our understanding\, wherever there is a desire for deeper healing from anyone in 12-Step recovery. (View their website cp12stepoutreach.org) \nCentering Prayer is a simple method of prayer rooted in ancient Christian practice that opens us to God’s presence and divine healing. Some of the fruits you may experience with a regular practice of Centering Prayer include enrichment of one’s prayer life\, being able to ‘let go’ in the course of daily life\, a non-judgmental attitude toward others\, growth in self-knowledge\, the ability to live in the present moment\, and love and respect for others and all creation. \nPlease see the link below for more information and to register (scroll down for the desire event).
URL:https://www.contemplativeoutreach.org/event/11th-step-retreat-4/
LOCATION:Bethany Retreat Center\, 1031 Germania Rd\, Frenchville\, PA\, 16836\, United States
CATEGORIES:Retreat
ATTACH;FMTTYPE=image/jpeg:https://www.contemplativeoutreach.org/wp-content/uploads/2025/12/steps.jpg
ORGANIZER;CN="Nancy Cord-Baran":MAILTO:ncb612@gmail.com
END:VEVENT
END:VCALENDAR