BEGIN:VCALENDAR
VERSION:2.0
PRODID:-//Contemplative Outreach, Ltd. - ECPv6.15.17.1//NONSGML v1.0//EN
CALSCALE:GREGORIAN
METHOD:PUBLISH
X-WR-CALNAME:Contemplative Outreach, Ltd.
X-ORIGINAL-URL:https://www.contemplativeoutreach.org
X-WR-CALDESC:Events for Contemplative Outreach, Ltd.
REFRESH-INTERVAL;VALUE=DURATION:PT1H
X-Robots-Tag:noindex
X-PUBLISHED-TTL:PT1H
BEGIN:VTIMEZONE
TZID:America/Halifax
BEGIN:DAYLIGHT
TZOFFSETFROM:-0400
TZOFFSETTO:-0300
TZNAME:ADT
DTSTART:20250309T060000
END:DAYLIGHT
BEGIN:STANDARD
TZOFFSETFROM:-0300
TZOFFSETTO:-0400
TZNAME:AST
DTSTART:20251102T050000
END:STANDARD
BEGIN:DAYLIGHT
TZOFFSETFROM:-0400
TZOFFSETTO:-0300
TZNAME:ADT
DTSTART:20260308T060000
END:DAYLIGHT
BEGIN:STANDARD
TZOFFSETFROM:-0300
TZOFFSETTO:-0400
TZNAME:AST
DTSTART:20261101T050000
END:STANDARD
BEGIN:DAYLIGHT
TZOFFSETFROM:-0400
TZOFFSETTO:-0300
TZNAME:ADT
DTSTART:20270314T060000
END:DAYLIGHT
BEGIN:STANDARD
TZOFFSETFROM:-0300
TZOFFSETTO:-0400
TZNAME:AST
DTSTART:20271107T050000
END:STANDARD
END:VTIMEZONE
BEGIN:VTIMEZONE
TZID:UTC
BEGIN:STANDARD
TZOFFSETFROM:+0000
TZOFFSETTO:+0000
TZNAME:UTC
DTSTART:20250101T000000
END:STANDARD
END:VTIMEZONE
BEGIN:VTIMEZONE
TZID:Europe/Helsinki
BEGIN:DAYLIGHT
TZOFFSETFROM:+0200
TZOFFSETTO:+0300
TZNAME:EEST
DTSTART:20250330T010000
END:DAYLIGHT
BEGIN:STANDARD
TZOFFSETFROM:+0300
TZOFFSETTO:+0200
TZNAME:EET
DTSTART:20251026T010000
END:STANDARD
BEGIN:DAYLIGHT
TZOFFSETFROM:+0200
TZOFFSETTO:+0300
TZNAME:EEST
DTSTART:20260329T010000
END:DAYLIGHT
BEGIN:STANDARD
TZOFFSETFROM:+0300
TZOFFSETTO:+0200
TZNAME:EET
DTSTART:20261025T010000
END:STANDARD
BEGIN:DAYLIGHT
TZOFFSETFROM:+0200
TZOFFSETTO:+0300
TZNAME:EEST
DTSTART:20270328T010000
END:DAYLIGHT
BEGIN:STANDARD
TZOFFSETFROM:+0300
TZOFFSETTO:+0200
TZNAME:EET
DTSTART:20271031T010000
END:STANDARD
END:VTIMEZONE
BEGIN:VEVENT
DTSTART;TZID=America/Halifax:20260509T080000
DTEND;TZID=America/Halifax:20260509T120000
DTSTAMP:20260420T132703
CREATED:20260413T153442Z
LAST-MODIFIED:20260413T153442Z
UID:162084-1778313600-1778328000@www.contemplativeoutreach.org
SUMMARY:Sacred Circle Dance as a Form of Embodied Prayer
DESCRIPTION:“God is not remote from us; . . . on the contrary\, at every moment God awaits us in the activity\, the work to be done\, which every moment brings.”\n– Teilhard de Chardin\, Hymn of the Universe \nDuring this in-person half-day retreat we’ll introduce contemplative dances from the Sacred Circle Dance tradition. These simple movements\, done in a group setting\, can help us unite mind\, heart\, and body to deepen our prayer practice. Together we’ll explore how the combination of music and movement can be a companion to Centering Prayer\, in which we open our hearts to consent to God’s presence and action within us. \nPresented by Suzi Kindervatter\, former COMW team member and veteran teacher of Sacred Circle Dance\, and Linda Hall\, co-coordinator of COMW. \nPlease see the link below to register.
URL:https://www.contemplativeoutreach.org/event/sacred-circle-dance-as-a-form-of-embodied-prayer-2/
LOCATION:St. Stephen’s Episcopal Church\, 110 St Stephens Church Rd\, Crownsville\, Maryland\, 21032
CATEGORIES:Retreat
ATTACH;FMTTYPE=image/jpeg:https://www.contemplativeoutreach.org/wp-content/uploads/2026/04/Leaping-water-droplets-e1776094385910.jpg
ORGANIZER;CN="Contemplative Outreach of Maryland and Washington %EF%BB%BF(COMW)":MAILTO:info@ContemplativeOutreachofMarylandandWashington.org
END:VEVENT
BEGIN:VEVENT
DTSTART;TZID=UTC:20260509T090000
DTEND;TZID=UTC:20260509T120000
DTSTAMP:20260420T132703
CREATED:20260216T194623Z
LAST-MODIFIED:20260216T194623Z
UID:160970-1778317200-1778328000@www.contemplativeoutreach.org
SUMMARY:Spring Silent Saturday
DESCRIPTION:In this season of new life and promise\, it is good to take a quiet morning for Centering Prayer and silence. The day is open to beginners as well as those experienced in contemplative prayer or silent meditation. The day provides time for communal prayers with contemplative walks\, and time for private journaling\, reflection\, and an opportunity to enjoy the beautiful grounds of Holy Spirit Retreat Center. All are welcome. A brief introduction to Centering Prayer will be offered for those new to the practice. \nRegistration online at hsrcenter.com is appreciated but not required. A free will offering is gratefully appreciated.\n(Arrival 8:45 am)\nFor more information contact Sr. Chris at centeringprayer@hsrcenter.com or (818) 815-4480
URL:https://www.contemplativeoutreach.org/event/spring-silent-saturday-3/
LOCATION:Holy Spirit Retreat Center\, 4316 Lanai Road\, Encino\, CA\, 91436\, United States
CATEGORIES:Retreat
ORGANIZER;CN="Sr. Chris Machado SSS":MAILTO:centeringprayer@hsrcenter.com
END:VEVENT
BEGIN:VEVENT
DTSTART;TZID=Europe/Helsinki:20260509T123000
DTEND;TZID=Europe/Helsinki:20260509T153000
DTSTAMP:20260420T132703
CREATED:20260327T144817Z
LAST-MODIFIED:20260327T144817Z
UID:161714-1778329800-1778340600@www.contemplativeoutreach.org
SUMMARY:Centering Prayer Introductory Workshop -- via Zoom
DESCRIPTION:Are you seeking a path to explore or strengthen your inner connection with God at the centre of your being? \nCentering Prayer is a practice that leads to contemplation by opening oneself to God’s love\, healing\, and inner goodness; moreover\, it nurtures the soul’s desire to grow in kindness and compassion towards all. \nThe online workshop offers a glimpse into this practice through short inputs on the method of Centering Prayer\, along with times of silent practice together. \nYou are most welcome\, whether you are a beginner or simply desire to refresh your practice. \nPlease see the link below to register.
URL:https://www.contemplativeoutreach.org/event/centering-prayer-introductory-workshop-via-zoom-6/
LOCATION:Internet – Online
CATEGORIES:Workshop
ATTACH;FMTTYPE=image/jpeg:https://www.contemplativeoutreach.org/wp-content/uploads/2026/03/Online-workshop-e1774622863809.jpg
ORGANIZER;CN="Sr. Maria Jose Rebelo%2C SSpS":MAILTO:silence.contemplation.steyl@ssps.de
END:VEVENT
END:VCALENDAR