BEGIN:VCALENDAR
VERSION:2.0
PRODID:-//Contemplative Outreach, Ltd. - ECPv6.15.17.1//NONSGML v1.0//EN
CALSCALE:GREGORIAN
METHOD:PUBLISH
X-WR-CALNAME:Contemplative Outreach, Ltd.
X-ORIGINAL-URL:https://www.contemplativeoutreach.org
X-WR-CALDESC:Events for Contemplative Outreach, Ltd.
REFRESH-INTERVAL;VALUE=DURATION:PT1H
X-Robots-Tag:noindex
X-PUBLISHED-TTL:PT1H
BEGIN:VTIMEZONE
TZID:UTC
BEGIN:STANDARD
TZOFFSETFROM:+0000
TZOFFSETTO:+0000
TZNAME:UTC
DTSTART:20250101T000000
END:STANDARD
END:VTIMEZONE
BEGIN:VEVENT
DTSTART;TZID=UTC:20260605T150000
DTEND;TZID=UTC:20260612T110000
DTSTAMP:20260420T133900
CREATED:20260206T182220Z
LAST-MODIFIED:20260206T182220Z
UID:160764-1780671600-1781262000@www.contemplativeoutreach.org
SUMMARY:Eight Day Centering Prayer Retreat
DESCRIPTION:Join us for eight days of Centering Prayer practice\, experiencing the fellowship of sacred silence. \nThis retreat will be lead by seasoned and trained Centering Prayer facilitators. Participants will have the opportunity to join multiple Centering Prayer sits throughout the day\, Meditation in Motion gentle stretching yoga-type sessions\, BodyWork therapy (gentle touch\, over the clothing\, energy healing by a LMT)\, as well as enjoy the breathtaking bluff views of St. Mary’s Sewanee often covered in winter beauty. \nThe highly rated kitchen staff will offer well balanced\, delicious and nourishing meals throughout the retreat beginning with dinner on the first night and ending with breakfast on the last day. The St. Mary’s Sewanee and the Centering Prayer Staff will be here to support guests in this week long dedication to “God’s first language”. You don’t have to worry about bringing anything except your weary soul to Rest\, Renew and Reconnect. \nPlease see the link below to register.
URL:https://www.contemplativeoutreach.org/event/eight-day-centering-prayer-retreat-7/
LOCATION:St. Mary’s Sewanee\, 770 St. Mary's Lane\, TN\, 37375\, United States
CATEGORIES:Retreat
ATTACH;FMTTYPE=image/jpeg:https://www.contemplativeoutreach.org/wp-content/uploads/2026/02/StMarys_horizontal.small_-1.jpg
END:VEVENT
BEGIN:VEVENT
DTSTART;VALUE=DATE:20260609
DTEND;VALUE=DATE:20260619
DTSTAMP:20260420T133900
CREATED:20250630T160756Z
LAST-MODIFIED:20260219T003614Z
UID:156213-1780963200-1781827199@www.contemplativeoutreach.org
SUMMARY:10-day Contemplative Listening\, aka “Post Post” retreat
DESCRIPTION:This is a retreat for those who have attended multiple intensive and post-intensive 8-10 day retreats and find themselves desiring yet longer sessions of Centering Prayer in community. See flyer for more information. \nPre-requisite: Two or more post-intensive Centering Prayer retreats given by Contemplative Outreach. This is a guideline\, not a rule. Please speak with us if you have questions. \nRooms are single with a sink in the room; bathrooms are shared. \nPlease see the link below for more information and to register.
URL:https://www.contemplativeoutreach.org/event/10-day-contemplative-listening-aka-post-post-retreat/
LOCATION:Mercy Center Auburn\, 535 Sacramento Street\, Auburn\, CA\, 95603\, United States
CATEGORIES:Retreat
ATTACH;FMTTYPE=image/jpeg:https://www.contemplativeoutreach.org/wp-content/uploads/2025/06/Jun2026.jpg
ORGANIZER;CN="Susan Turpin1":MAILTO:slturpin@me.com
END:VEVENT
END:VCALENDAR