BEGIN:VCALENDAR
VERSION:2.0
PRODID:-//Contemplative Outreach, Ltd. - ECPv6.15.17.1//NONSGML v1.0//EN
CALSCALE:GREGORIAN
METHOD:PUBLISH
X-ORIGINAL-URL:https://www.contemplativeoutreach.org
X-WR-CALDESC:Events for Contemplative Outreach, Ltd.
REFRESH-INTERVAL;VALUE=DURATION:PT1H
X-Robots-Tag:noindex
X-PUBLISHED-TTL:PT1H
BEGIN:VTIMEZONE
TZID:Pacific/Honolulu
BEGIN:STANDARD
TZOFFSETFROM:-1000
TZOFFSETTO:-1000
TZNAME:HST
DTSTART:20250101T000000
END:STANDARD
END:VTIMEZONE
BEGIN:VTIMEZONE
TZID:Europe/Paris
BEGIN:DAYLIGHT
TZOFFSETFROM:+0100
TZOFFSETTO:+0200
TZNAME:CEST
DTSTART:20250330T010000
END:DAYLIGHT
BEGIN:STANDARD
TZOFFSETFROM:+0200
TZOFFSETTO:+0100
TZNAME:CET
DTSTART:20251026T010000
END:STANDARD
BEGIN:DAYLIGHT
TZOFFSETFROM:+0100
TZOFFSETTO:+0200
TZNAME:CEST
DTSTART:20260329T010000
END:DAYLIGHT
BEGIN:STANDARD
TZOFFSETFROM:+0200
TZOFFSETTO:+0100
TZNAME:CET
DTSTART:20261025T010000
END:STANDARD
BEGIN:DAYLIGHT
TZOFFSETFROM:+0100
TZOFFSETTO:+0200
TZNAME:CEST
DTSTART:20270328T010000
END:DAYLIGHT
BEGIN:STANDARD
TZOFFSETFROM:+0200
TZOFFSETTO:+0100
TZNAME:CET
DTSTART:20271031T010000
END:STANDARD
END:VTIMEZONE
BEGIN:VEVENT
DTSTART;TZID=Pacific/Honolulu:20260718T090000
DTEND;TZID=Pacific/Honolulu:20260718T113000
DTSTAMP:20260420T144619
CREATED:20250303T204649Z
LAST-MODIFIED:20251217T224923Z
UID:153418-1784365200-1784374200@www.contemplativeoutreach.org
SUMMARY:Morning of Prayer Honolulu\, Hawaii  3rd Saturdays every Month
DESCRIPTION:Morning of Prayer\nThird Saturdays In Person\n9:00 – 11:30 a.m. Hawai’i time (UTC -10)\nCentral Union Church • Women’s Building\n1660 S. Beretania St. Honolulu\, Hawaiʻi \nLet us join together to pause in the presence of the Divine in the sacred silence. An introduction to the method of Centering Prayer is provided. While Centering Prayer is the basis of our teaching\, all meditation paths are welcome. Books on the Spiritual Journey are available for purchase and loan. \nNo registration required\, donations welcome. \nSchedule\n9:00 Welcome\, sign-in\, refreshments\, book browsing\n9:20 Gather in the circle for Introductions\n9:30 Two 30-minute periods of Centering Prayer\nor An Introduction/review to The Method of Centering Prayer\n10:40 Silent break\n11:00 One 30-minutes period of Centering Prayer\n11:30 Depart in silence or stay and chat a bit \nCONTEMPLATIVE OUTREACH OF HAWAI’I\n(628) 400-2644 | cohawaii@gmail.com | www.cohawaii.org\n“Be still and know that I am God.” Psalm 46:10
URL:https://www.contemplativeoutreach.org/event/morning-of-prayer-honolulu-hawaii-3rd-saturdays-every-month-5/
LOCATION:Central Union Church\, 1660 S. Beretania St.\, Honolulu\, HI\, 96826\, United States
CATEGORIES:Retreat
ATTACH;FMTTYPE=image/jpeg:https://www.contemplativeoutreach.org/wp-content/uploads/2025/03/Morning-of-prayer-MOP-cohi-3rd-saturday-2025-1.jpg
ORGANIZER;CN="Contemplative Outreach Hawai%CA%BBi":MAILTO:cohawaii@gmail.com
END:VEVENT
BEGIN:VEVENT
DTSTART;TZID=Europe/Paris:20260718T140000
DTEND;TZID=Europe/Paris:20260718T153000
DTSTAMP:20260420T144619
CREATED:20251219T183534Z
LAST-MODIFIED:20260209T152722Z
UID:158976-1784383200-1784388600@www.contemplativeoutreach.org
SUMMARY:Silence that Connects the World – Session 4 (via Zoom)
DESCRIPTION:Session 4. Living the Contemplative Path \nTheme: Centering Prayer is not just a practice; it shapes how we live. \n“If we are absolutely grounded in the absolute love of God that protects us from nothing even as it sustains us in all things\, then we can face all things with courage and tenderness.”\n— James Finley \nStep into Stillness \nPause from the noise of daily life and reconnect with the divine presence within. Join us for an online gathering of Centering Prayer practitioners—a simple yet profound space for silence\, reflection\, and shared practice within a global community. Together\, we’ll explore stillness\, presence\, and the richness of the practice in community. \nWhat to Expect \nShared silence and practice\nBrief teaching and reflection\nSmall-group sharing\nEncouragement in the contemplative path \n2-3:30 pm UTC +1 (8am Eastern Time) \nPlease see the link below to obtain the Zoom link. \nThis is the fourth of six sessions: \n4.    Living the Contemplative Path – 18 Jul 2026\n5.    Embracing Vulnerability – 5 Sep 2026\n6.    Healing Presence in the World – 14 Nov 2026
URL:https://www.contemplativeoutreach.org/event/silence-that-connects-the-world-session-4-via-zoom/
LOCATION:Internet – Online
CATEGORIES:Workshop
ATTACH;FMTTYPE=image/jpeg:https://www.contemplativeoutreach.org/wp-content/uploads/2025/12/Photo-1-e1766168355310.jpg
ORGANIZER;CN="Sr. Maria Jose Rebelo%2C SSpS":MAILTO:silence.contemplation.steyl@ssps.de
END:VEVENT
END:VCALENDAR