BEGIN:VCALENDAR
VERSION:2.0
PRODID:-//Contemplative Outreach, Ltd. - ECPv6.15.17.1//NONSGML v1.0//EN
CALSCALE:GREGORIAN
METHOD:PUBLISH
X-WR-CALNAME:Contemplative Outreach, Ltd.
X-ORIGINAL-URL:https://www.contemplativeoutreach.org
X-WR-CALDESC:Events for Contemplative Outreach, Ltd.
REFRESH-INTERVAL;VALUE=DURATION:PT1H
X-Robots-Tag:noindex
X-PUBLISHED-TTL:PT1H
BEGIN:VTIMEZONE
TZID:UTC
BEGIN:STANDARD
TZOFFSETFROM:+0000
TZOFFSETTO:+0000
TZNAME:UTC
DTSTART:20250101T000000
END:STANDARD
END:VTIMEZONE
BEGIN:VEVENT
DTSTART;TZID=UTC:20260801T090000
DTEND;TZID=UTC:20260801T113000
DTSTAMP:20260420T161104
CREATED:20230606T161012Z
LAST-MODIFIED:20251217T224726Z
UID:135559-1785574800-1785583800@www.contemplativeoutreach.org
SUMMARY:Visio Divina: Online CenteringPrayer Half-Day Retreat 
DESCRIPTION:Online Half-Day Centering Prayer/Welcoming Prayer mini-retreat (1st Saturday of every month)\nAugust 5th @ 9:00 am – 11:30 am UTC-10\nLead by Pulelehua\, Margie and Liedeke from Hawaiʻi\nFREE \nFirst Saturdays online retreats are a special time where we explore our Centering Prayer practice. We are looking forward to sharing Physio-Divina (Moving) practices\, Visio-Divina (Visual-Art) practices\, Terra-Divina (Nature)\, Lectio-Divina (Sacred Text) practices in addition to the Centering Prayer and Welcoming Prayer practice that are our foundation. Pulelehua\, Liedeke\, and Margie welcome all who wish to join us. \nWe hope you will join us from wherever and; whenever you are! Schedule is in Hawai’i Time (UTC -10)\n8:45am Room open to for early connections\n9:00 Welcome and introductions\n9:15 Centering Prayer Embodied in Nature\n9:45 Welcoming Prayer in Nature\n10:10 Reflections\n10:20 Break\n10:30 Visio Divina – Centering Prayer with Nature\n11:00 reflections\n11:30 Closing prayer\nhttps://us02web.zoom.us/j/92185854158?pwd=dDJxN0FkRkRvQWhrQURwN29SUTBFUT09\nZoom Meeting ID: 921 8585 4158 Passcode: 730086 \nDates 2025( the zoom link is the same for all these dates): Feb. 1 March 1\, April 5\, May 3\, June 7 July 5\, August 2\, September 6\, October4\, November 1\, December 6 \nWebsite: http://www.cohawaii.org\nPhone (628) 400-2644\nEmail: cohawaii@gmail.com \nAll session are freely offered\, donations are welcome\, no registration is needed.
URL:https://www.contemplativeoutreach.org/event/terra-and-physio-divina-online-embodied-centering-and-welcoming-prayer-half-day-retreat/
LOCATION:Internet – Online
CATEGORIES:Retreat,Webinar
ATTACH;FMTTYPE=image/jpeg:https://www.contemplativeoutreach.org/wp-content/uploads/2023/06/Be-still-and-know-image-1-1-e1686067774669.jpg
ORGANIZER;CN="Contemplative Outreach Hawai%CA%BBi":MAILTO:cohawaii@gmail.com
END:VEVENT
END:VCALENDAR