BEGIN:VCALENDAR
VERSION:2.0
PRODID:-//Contemplative Outreach, Ltd. - ECPv6.15.17.1//NONSGML v1.0//EN
CALSCALE:GREGORIAN
METHOD:PUBLISH
X-WR-CALNAME:Contemplative Outreach, Ltd.
X-ORIGINAL-URL:https://www.contemplativeoutreach.org
X-WR-CALDESC:Events for Contemplative Outreach, Ltd.
REFRESH-INTERVAL;VALUE=DURATION:PT1H
X-Robots-Tag:noindex
X-PUBLISHED-TTL:PT1H
BEGIN:VTIMEZONE
TZID:UTC
BEGIN:STANDARD
TZOFFSETFROM:+0000
TZOFFSETTO:+0000
TZNAME:UTC
DTSTART:20250101T000000
END:STANDARD
END:VTIMEZONE
BEGIN:VEVENT
DTSTART;TZID=UTC:20260802T160000
DTEND;TZID=UTC:20260809T110000
DTSTAMP:20260420T144501
CREATED:20251211T185742Z
LAST-MODIFIED:20251211T185742Z
UID:158558-1785686400-1786273200@www.contemplativeoutreach.org
SUMMARY:Centering Prayer Retreat
DESCRIPTION:This 8-day retreat will be an in-depth retreat for those experienced in Centering Prayer. The retreat will facilitate entrance into a more profound level of spiritual practice in an atmosphere of silence\, solitude\, and community\, with an opportunity to spend extended time in deep silence in community to encourage a more intimate union with God. An existing Centering Prayer practice is a prerequisite for attending this retreat. \nPlease click on the link below for more information and to register (scroll down to the desired event).
URL:https://www.contemplativeoutreach.org/event/centering-prayer-retreat-58/
LOCATION:Bethany Retreat Center\, 1031 Germania Rd\, Frenchville\, PA\, 16836\, United States
CATEGORIES:Retreat
ATTACH;FMTTYPE=image/jpeg:https://www.contemplativeoutreach.org/wp-content/uploads/2025/12/Behtany-Retreat-from-the-hill.jpg
ORGANIZER;CN="Sr. Ruth Ann Madera":MAILTO:lisam@anawimministries.org
END:VEVENT
END:VCALENDAR