BEGIN:VCALENDAR
VERSION:2.0
PRODID:-//Contemplative Outreach, Ltd. - ECPv6.15.17.1//NONSGML v1.0//EN
CALSCALE:GREGORIAN
METHOD:PUBLISH
X-ORIGINAL-URL:https://www.contemplativeoutreach.org
X-WR-CALDESC:Events for Contemplative Outreach, Ltd.
REFRESH-INTERVAL;VALUE=DURATION:PT1H
X-Robots-Tag:noindex
X-PUBLISHED-TTL:PT1H
BEGIN:VTIMEZONE
TZID:UTC
BEGIN:STANDARD
TZOFFSETFROM:+0000
TZOFFSETTO:+0000
TZNAME:UTC
DTSTART:20250101T000000
END:STANDARD
END:VTIMEZONE
BEGIN:VEVENT
DTSTART;TZID=UTC:20260805T080000
DTEND;TZID=UTC:20260826T170000
DTSTAMP:20260420T161053
CREATED:20260312T200230Z
LAST-MODIFIED:20260312T200230Z
UID:161388-1785916800-1787763600@www.contemplativeoutreach.org
SUMMARY:Introduction to Contemplative Spirituality: Centering Prayer as a Doorway - via Zoom
DESCRIPTION:Are you seeking a deeper connection with your true self and God? Explore how contemplative spirituality can transform your life by living each moment as a prayer. This immersive course invites you to engage with a community of fellow seekers and discover the transformative power of Centering Prayer. \nPlease see the link below.
URL:https://www.contemplativeoutreach.org/event/introduction-to-contemplative-spirituality-centering-prayer-as-a-doorway-via-zoom/
LOCATION:Internet – Online
CATEGORIES:Training
END:VEVENT
BEGIN:VEVENT
DTSTART;TZID=UTC:20260813T110000
DTEND;TZID=UTC:20260816T120000
DTSTAMP:20260420T161053
CREATED:20260105T202954Z
LAST-MODIFIED:20260105T202954Z
UID:159663-1786618800-1786881600@www.contemplativeoutreach.org
SUMMARY:The Quiet Path of Transformation - a Centering Prayer Retreat
DESCRIPTION:This 4-day retreat will be held at Conception Abbey in Conception\, Missouri. Susan Komis will be our retreat director. Susan is a long time Centering Prayer practitioner\, presenter\, leader. \nRetreat details are in process. Save the date! More to come.
URL:https://www.contemplativeoutreach.org/event/the-quiet-path-of-transformation-a-centering-prayer-retreat/
LOCATION:Conception Abbey\,  Conception\, Missouri\, 37174 State Highway VV\, Conception\, MO\, 64433\, United States
CATEGORIES:Retreat
ORGANIZER;CN="Kathy Dunn%2C Kristina Frank%2C Mary Ellison":MAILTO:maryellison@sbcglobal.net
END:VEVENT
END:VCALENDAR