BEGIN:VCALENDAR
VERSION:2.0
PRODID:-//Contemplative Outreach, Ltd. - ECPv6.15.17.1//NONSGML v1.0//EN
CALSCALE:GREGORIAN
METHOD:PUBLISH
X-WR-CALNAME:Contemplative Outreach, Ltd.
X-ORIGINAL-URL:https://www.contemplativeoutreach.org
X-WR-CALDESC:Events for Contemplative Outreach, Ltd.
REFRESH-INTERVAL;VALUE=DURATION:PT1H
X-Robots-Tag:noindex
X-PUBLISHED-TTL:PT1H
BEGIN:VTIMEZONE
TZID:UTC
BEGIN:STANDARD
TZOFFSETFROM:+0000
TZOFFSETTO:+0000
TZNAME:UTC
DTSTART:20250101T000000
END:STANDARD
END:VTIMEZONE
BEGIN:VEVENT
DTSTART;TZID=UTC:20260919T080000
DTEND;TZID=UTC:20261007T170000
DTSTAMP:20260420T172936
CREATED:20260312T200331Z
LAST-MODIFIED:20260312T200331Z
UID:161392-1789804800-1791392400@www.contemplativeoutreach.org
SUMMARY:Contemplative Living I: Contemplative Practices in Daily Life - via Zoom
DESCRIPTION:This four-month long online course is experiential\, guiding participants to deepen their experience of the abiding presence of God by cultivating their contemplative capacities. Participants will learn and integrate contemplative spiritual practices into daily life within a community of seekers through monthly meetings\, a weekly online prayer chapel\, personal practices\, and monthly Holy Listening Circles (group spiritual direction). \nContemplative practices are the doorway into the gift of contemplative prayer\, where the journey that begins in the silence of our hearts leads us into the heart of God. As we cultivate contemplative practices in ordinary daily life\, we begin to experience oneness with God and all creation. \nPlease see the link below.
URL:https://www.contemplativeoutreach.org/event/contemplative-living-i-contemplative-practices-in-daily-life-via-zoom-2/
LOCATION:Internet – Online
CATEGORIES:Training
END:VEVENT
END:VCALENDAR