BEGIN:VCALENDAR
VERSION:2.0
PRODID:-//Contemplative Outreach, Ltd. - ECPv6.15.17.1//NONSGML v1.0//EN
CALSCALE:GREGORIAN
METHOD:PUBLISH
X-ORIGINAL-URL:https://www.contemplativeoutreach.org
X-WR-CALDESC:Events for Contemplative Outreach, Ltd.
REFRESH-INTERVAL;VALUE=DURATION:PT1H
X-Robots-Tag:noindex
X-PUBLISHED-TTL:PT1H
BEGIN:VTIMEZONE
TZID:UTC
BEGIN:STANDARD
TZOFFSETFROM:+0000
TZOFFSETTO:+0000
TZNAME:UTC
DTSTART:20250101T000000
END:STANDARD
END:VTIMEZONE
BEGIN:VEVENT
DTSTART;TZID=UTC:20261026T080000
DTEND;TZID=UTC:20261030T170000
DTSTAMP:20260420T184818
CREATED:20260316T195827Z
LAST-MODIFIED:20260316T195827Z
UID:161479-1793001600-1793379600@www.contemplativeoutreach.org
SUMMARY:Contemplative Retreat: Five- or Eight-Day Centering Prayer Retreat
DESCRIPTION:Centering Prayer is a form of Christian silent meditation rooted in the self-emptying love that forms the heart of Jesus’ teaching and life. This retreat is an opportunity to deepen one’s contemplative journey in the contemporary world. The retreat offers two tracks: a five-day track\, recommended for individuals with an established and regular practice of Centering Prayer\, and an eight-day track\, intended for those who have maintained a regular practice of Centering Prayer and previously participated in an intensive retreat. The intensive and post-intensive tracks are available for the five-day; only the post-intensive track for the eight-day. The Intensive Retreat includes the human condition teachings of Fr. Thomas Keating. \nThe retreat has two options:\nFive-Day: October 26-30\, 2026\nEight-Day: October 26 – November 2\, 2026 \nPlease see the link below for more information and to register.
URL:https://www.contemplativeoutreach.org/event/contemplative-retreat-five-or-eight-day-centering-prayer-retreat/
LOCATION:Sacred Heart Monastery\, Missiezusters Klooster\, 20\, Steyl\, Venlo\, 5935 BX\, Netherlands
CATEGORIES:Retreat
END:VEVENT
END:VCALENDAR