BEGIN:VCALENDAR
VERSION:2.0
PRODID:-//Contemplative Outreach, Ltd. - ECPv6.15.17.1//NONSGML v1.0//EN
CALSCALE:GREGORIAN
METHOD:PUBLISH
X-ORIGINAL-URL:https://www.contemplativeoutreach.org
X-WR-CALDESC:Events for Contemplative Outreach, Ltd.
REFRESH-INTERVAL;VALUE=DURATION:PT1H
X-Robots-Tag:noindex
X-PUBLISHED-TTL:PT1H
BEGIN:VTIMEZONE
TZID:UTC
BEGIN:STANDARD
TZOFFSETFROM:+0000
TZOFFSETTO:+0000
TZNAME:UTC
DTSTART:20250101T000000
END:STANDARD
END:VTIMEZONE
BEGIN:VEVENT
DTSTART;TZID=UTC:20261217T150000
DTEND;TZID=UTC:20261220T130000
DTSTAMP:20260420T211621
CREATED:20260206T182425Z
LAST-MODIFIED:20260206T182425Z
UID:160774-1797519600-1797771600@www.contemplativeoutreach.org
SUMMARY:Extended Weekend Centering Prayer Retreat
DESCRIPTION:In this extended weekend retreat\, participants will be offered opportunities to practice Centering Prayer\, be in sacred silence\, enjoy the outdoors\, and learn more about Thomas Keating’s teachings. \nPlease see the link below to register.
URL:https://www.contemplativeoutreach.org/event/extended-weekend-centering-prayer-retreat/
LOCATION:St. Mary’s Sewanee\, 770 St. Mary's Lane\, TN\, 37375\, United States
CATEGORIES:Retreat
ATTACH;FMTTYPE=image/jpeg:https://www.contemplativeoutreach.org/wp-content/uploads/2026/02/StMarys_horizontal.small_-3.jpg
END:VEVENT
END:VCALENDAR