BEGIN:VCALENDAR
VERSION:2.0
PRODID:-//Contemplative Outreach, Ltd. - ECPv6.15.17.1//NONSGML v1.0//EN
CALSCALE:GREGORIAN
METHOD:PUBLISH
X-ORIGINAL-URL:https://www.contemplativeoutreach.org
X-WR-CALDESC:Events for Contemplative Outreach, Ltd.
REFRESH-INTERVAL;VALUE=DURATION:PT1H
X-Robots-Tag:noindex
X-PUBLISHED-TTL:PT1H
BEGIN:VTIMEZONE
TZID:America/New_York
BEGIN:DAYLIGHT
TZOFFSETFROM:-0500
TZOFFSETTO:-0400
TZNAME:EDT
DTSTART:20230312T070000
END:DAYLIGHT
BEGIN:STANDARD
TZOFFSETFROM:-0400
TZOFFSETTO:-0500
TZNAME:EST
DTSTART:20231105T060000
END:STANDARD
BEGIN:DAYLIGHT
TZOFFSETFROM:-0500
TZOFFSETTO:-0400
TZNAME:EDT
DTSTART:20240310T070000
END:DAYLIGHT
BEGIN:STANDARD
TZOFFSETFROM:-0400
TZOFFSETTO:-0500
TZNAME:EST
DTSTART:20241103T060000
END:STANDARD
BEGIN:DAYLIGHT
TZOFFSETFROM:-0500
TZOFFSETTO:-0400
TZNAME:EDT
DTSTART:20250309T070000
END:DAYLIGHT
BEGIN:STANDARD
TZOFFSETFROM:-0400
TZOFFSETTO:-0500
TZNAME:EST
DTSTART:20251102T060000
END:STANDARD
END:VTIMEZONE
BEGIN:VEVENT
DTSTART;TZID=America/New_York:20240420T090000
DTEND;TZID=America/New_York:20240420T140000
DTSTAMP:20260422T021328
CREATED:20230925T182931Z
LAST-MODIFIED:20230925T182931Z
UID:137934-1713603600-1713621600@www.contemplativeoutreach.org
SUMMARY:Practices for Contemplative Living: Lectio Divina
DESCRIPTION:Join a group of Centering Prayer practitioners to support each other on the contemplative path. Modeled after what was formerly known as the 9-month course\, the program will be based on Julie Saad’s book\, “Contemplative Life: Discovering Our Path to the Heart of God“. All are welcome. We meet the 3rd Saturdays of October 2023 through April 2024. Overnight accommodations are available. The April session will focus on Lectio Divina. \nExplore a different contemplative practice each month: \n• October 22 – Fundamentals of Centering Prayer and Holy Listening\n• November 18 – Guided Meditation (Stepping Stones)\n• December 16 – Advent Day of Prayer with Fr. Carl Arico\n• January 20 – Logging\n• February 17 – Spiritual Reading\n• March 16 – Going Deeper in Daily Life\n• April 20 – Lectio Divina \nFurther information and registration are available at: https://centeringprayernj.com/events/\, or contact Eileen McCaffrey Schuman at coordinator@centeringprayernj.com.
URL:https://www.contemplativeoutreach.org/event/practices-for-contemplative-living-lectio-divina/
LOCATION:St. Walburga Monastery\, 851 N. Broad Street\, NJ\, 7649\, United States
CATEGORIES:Retreat,Workshop
ORGANIZER;CN="Contemplative Outreach of NJ":MAILTO:coordinator@centeringprayernj.com
END:VEVENT
END:VCALENDAR