BEGIN:VCALENDAR
VERSION:2.0
PRODID:-//Contemplative Outreach, Ltd. - ECPv6.15.17.1//NONSGML v1.0//EN
CALSCALE:GREGORIAN
METHOD:PUBLISH
X-WR-CALNAME:Contemplative Outreach, Ltd.
X-ORIGINAL-URL:https://www.contemplativeoutreach.org
X-WR-CALDESC:Events for Contemplative Outreach, Ltd.
REFRESH-INTERVAL;VALUE=DURATION:PT1H
X-Robots-Tag:noindex
X-PUBLISHED-TTL:PT1H
BEGIN:VTIMEZONE
TZID:UTC
BEGIN:STANDARD
TZOFFSETFROM:+0000
TZOFFSETTO:+0000
TZNAME:UTC
DTSTART:20230101T000000
END:STANDARD
END:VTIMEZONE
BEGIN:VTIMEZONE
TZID:America/New_York
BEGIN:DAYLIGHT
TZOFFSETFROM:-0500
TZOFFSETTO:-0400
TZNAME:EDT
DTSTART:20230312T070000
END:DAYLIGHT
BEGIN:STANDARD
TZOFFSETFROM:-0400
TZOFFSETTO:-0500
TZNAME:EST
DTSTART:20231105T060000
END:STANDARD
BEGIN:DAYLIGHT
TZOFFSETFROM:-0500
TZOFFSETTO:-0400
TZNAME:EDT
DTSTART:20240310T070000
END:DAYLIGHT
BEGIN:STANDARD
TZOFFSETFROM:-0400
TZOFFSETTO:-0500
TZNAME:EST
DTSTART:20241103T060000
END:STANDARD
BEGIN:DAYLIGHT
TZOFFSETFROM:-0500
TZOFFSETTO:-0400
TZNAME:EDT
DTSTART:20250309T070000
END:DAYLIGHT
BEGIN:STANDARD
TZOFFSETFROM:-0400
TZOFFSETTO:-0500
TZNAME:EST
DTSTART:20251102T060000
END:STANDARD
END:VTIMEZONE
BEGIN:VTIMEZONE
TZID:America/Denver
BEGIN:DAYLIGHT
TZOFFSETFROM:-0700
TZOFFSETTO:-0600
TZNAME:MDT
DTSTART:20230312T090000
END:DAYLIGHT
BEGIN:STANDARD
TZOFFSETFROM:-0600
TZOFFSETTO:-0700
TZNAME:MST
DTSTART:20231105T080000
END:STANDARD
BEGIN:DAYLIGHT
TZOFFSETFROM:-0700
TZOFFSETTO:-0600
TZNAME:MDT
DTSTART:20240310T090000
END:DAYLIGHT
BEGIN:STANDARD
TZOFFSETFROM:-0600
TZOFFSETTO:-0700
TZNAME:MST
DTSTART:20241103T080000
END:STANDARD
BEGIN:DAYLIGHT
TZOFFSETFROM:-0700
TZOFFSETTO:-0600
TZNAME:MDT
DTSTART:20250309T090000
END:DAYLIGHT
BEGIN:STANDARD
TZOFFSETFROM:-0600
TZOFFSETTO:-0700
TZNAME:MST
DTSTART:20251102T080000
END:STANDARD
END:VTIMEZONE
BEGIN:VTIMEZONE
TZID:America/Chicago
BEGIN:DAYLIGHT
TZOFFSETFROM:-0600
TZOFFSETTO:-0500
TZNAME:CDT
DTSTART:20230312T080000
END:DAYLIGHT
BEGIN:STANDARD
TZOFFSETFROM:-0500
TZOFFSETTO:-0600
TZNAME:CST
DTSTART:20231105T070000
END:STANDARD
BEGIN:DAYLIGHT
TZOFFSETFROM:-0600
TZOFFSETTO:-0500
TZNAME:CDT
DTSTART:20240310T080000
END:DAYLIGHT
BEGIN:STANDARD
TZOFFSETFROM:-0500
TZOFFSETTO:-0600
TZNAME:CST
DTSTART:20241103T070000
END:STANDARD
BEGIN:DAYLIGHT
TZOFFSETFROM:-0600
TZOFFSETTO:-0500
TZNAME:CDT
DTSTART:20250309T080000
END:DAYLIGHT
BEGIN:STANDARD
TZOFFSETFROM:-0500
TZOFFSETTO:-0600
TZNAME:CST
DTSTART:20251102T070000
END:STANDARD
END:VTIMEZONE
BEGIN:VEVENT
DTSTART;TZID=UTC:20240901T080000
DTEND;TZID=UTC:20241201T170000
DTSTAMP:20260421T174249
CREATED:20240721T025411Z
LAST-MODIFIED:20240721T025411Z
UID:146095-1725177600-1733072400@www.contemplativeoutreach.org
SUMMARY:Contemplative Living I: Contemplative Practices in Daily Life - via Zoom
DESCRIPTION:I will give you a new heart\, and a new spirit I will put within you.\n– Ezekiel 36:26 \n“Contemplative life begins when we take the first step into the silence of our heart. It’s a pilgrimage—a journey that takes us first to the inner reaches of who we really are\, and from there\, into the life we were meant to live.”\n– Julie Saad\, Contemplative Life: Discovering Our Path Into the Heart of God \nThis four-month long online course is experiential\, guiding participants to deepen their experience of the abiding presence of God by cultivating their contemplative capacities. Participants will learn and integrate contemplative spiritual practices into daily life within a community of seekers through monthly meetings\, a weekly online prayer chapel\, personal practices\, and monthly Holy Listening Circles (group spiritual direction). Contemplative practices are the doorway into the gift of contemplative prayer where the journey that begins in the silence of our hearts leads us into the heart of God. As we cultivate contemplative practices in ordinary daily life\, we begin to experience oneness with God and all creation. \nThe design of Contemplative Living I: Contemplative Practices in Daily Life: \nLearning\, cultivating and integrating into daily life the contemplative practices of \n\nCentering Prayer – a silent Christian contemplative (meditation) practice.\nLogging – a form of expressive writing designed to help you understand and deal with thoughts\, memories\, worries\, commentaries\, and afflictive emotions and the resulting behaviors.\nSpiritual Reading – using a spiritual book\, reading for formation rather than information\, listening for how God is speaking to you in the passage.\nThe Active Prayer – a prayer phrase or sentence that you create or take from Scripture or another meaningful reading and repeat throughout your day.\nLectio Divina – praying with Scripture\, allowing the meaning of the text and the experience of God to grow deeper.\nThe Welcoming Prayer – welcoming God into whatever you are experiencing in daily life—thoughts\, emotions\, body sensation\, or commentaries.\nResting in God and Sabbath-keeping – resting is the state of interior silence that you experience in daily life through contemplative prayer. Sabbath-keeping awakens you to this inner state.\nHoly Listening – Cultivating receptivity to attune to your inner wisdom\, to God\, and to the movement of the Divine in others.\n\nPlease see the link below to register.
URL:https://www.contemplativeoutreach.org/event/contemplative-living-i-contemplative-practices-in-daily-life-via-zoom/
LOCATION:Internet – Online
CATEGORIES:Workshop
END:VEVENT
BEGIN:VEVENT
DTSTART;VALUE=DATE:20240907
DTEND;VALUE=DATE:20240908
DTSTAMP:20260421T174249
CREATED:20230130T164237Z
LAST-MODIFIED:20240518T194133Z
UID:131926-1725667200-1725753599@www.contemplativeoutreach.org
SUMMARY:Living Flame 2 Program
DESCRIPTION:September 7\, 2024 @ 11:00 am – 4:00 pm  \nThe Living Flame 2 Program (LF2) offers seven additional topics and is being offered globally on Zoom. Individuals and small in-person groups of five people or fewer are invited to participate. This program is hosted by Contemplative Outreach’s Living Flame Service Team. \nLF 2 is open to everyone who has participated in LF 1 as well as to those who have had a daily Centering Prayer practice for a year or more and who have reflectively read Open Mind\, Open Heart by Thomas Keating. This will support a more engaged participation and assimilation of the program content.  Additional suggested resources are Keating’s Invitation to Love and Intimacy With God. \nLiving Flame is a seven-day in-depth spiritual formation program presented over seven months by commissioned presenters of Contemplative Outreach\, Ltd. It’s designed to heighten the awareness of the dynamics of Centering Prayer in the context of the spiritual journey. Registration and participation in the program is a commitment to all seven sessions. Topics for the Living Flame Program are noted in the Living Flame brochure \nEach retreat-like day is facilitated in a five-hour scheduled format which includes: two periods of Centering Prayer; two presentations with Q&A; small group sharing; silent breaks and time for a meal. \nDates:  2024 – Sept. 7\,  Oct. 5\,  Nov. 2   2025 – Jan. 11\,  Feb. 1\,  Mar. 1\,  Apr. 5\nTime:  11:00 AM – 4:00 PM EST (-5 UTC) \nFee:  $70 USD \nClick here to register. Fee is due with registration. Scholarships are available. \nContact for the Living Flame Service Team:  Judy Sharer jsharer@bbtel.com
URL:https://www.contemplativeoutreach.org/event/living-flame-program/
LOCATION:Internet – Online
CATEGORIES:Retreat,Workshop
ORGANIZER;CN="Judy Sharer":MAILTO:jsharer@bbtel.com
END:VEVENT
BEGIN:VEVENT
DTSTART;TZID=UTC:20240907T090000
DTEND;TZID=UTC:20240907T123000
DTSTAMP:20260421T174249
CREATED:20240817T122338Z
LAST-MODIFIED:20240817T122338Z
UID:146630-1725699600-1725712200@www.contemplativeoutreach.org
SUMMARY:Centering Prayer Introductory Workshop
DESCRIPTION:Contemplative Prayer is God’s personal and unique gift to each of us. If we are open to this gift\, it will profoundly affect our lives and relationship to God\, others\, and the world. Centering Prayer is a form of Contemplative Prayer. It is a method of prayer that opens us to interior transformation and deeper intimacy with God and others. The workshop includes four presentations and the practice of Centering Prayer. \nPresenters: Marilyn Nobori and Contemplative Outreach Team\n(Arrive by 8:45 a.m.) \nFor more information\, please email Marilyn Nobori at centeringprayer@hsrcenter.com.\nRegister online at www.hsrcenter.com by September 3rd with a non-refundable deposit of $10. \n(Photo by Jay Castor\, Unsplash)
URL:https://www.contemplativeoutreach.org/event/centering-prayer-introductory-workshop-19/
LOCATION:Holy Spirit Retreat Center\, 4316 Lanai Road\, Encino\, CA\, 91436\, United States
CATEGORIES:Workshop
ATTACH;FMTTYPE=image/jpeg:https://www.contemplativeoutreach.org/wp-content/uploads/2024/08/CPOct0723Intro.jpg
ORGANIZER;CN="Marilyn Nobori":MAILTO:centeringprayer@hsrcenter.com
END:VEVENT
BEGIN:VEVENT
DTSTART;TZID=America/Denver:20240920T180000
DTEND;TZID=America/Denver:20240921T120000
DTSTAMP:20260421T174249
CREATED:20240819T183739Z
LAST-MODIFIED:20240819T183739Z
UID:147037-1726855200-1726920000@www.contemplativeoutreach.org
SUMMARY:Learn & Pray the Centering Prayer Way
DESCRIPTION:Introductory Centering Prayer Workshop \nWhen:\nFriday\, September 20\, 2024 from 6:00pm to 8:00pm PST\nand\nSaturday\, September 21\, 2024 from 9:00am to 12:00pm PST \nPlease see the link below to register.
URL:https://www.contemplativeoutreach.org/event/learn-pray-the-centering-prayer-way/
LOCATION:Hope Center Covenant Church\, 2275 Morello Ave\, Pleasant Hill\, 94523
CATEGORIES:Workshop
ATTACH;FMTTYPE=image/jpeg:https://www.contemplativeoutreach.org/wp-content/uploads/2024/08/IMG_6837-scaled-e1724092623372.jpeg
ORGANIZER;CN="Bob Kirkham Jr.":MAILTO:lopaka107@yahoo.com
END:VEVENT
BEGIN:VEVENT
DTSTART;TZID=UTC:20240921T083000
DTEND;TZID=UTC:20240921T123000
DTSTAMP:20260421T174249
CREATED:20240611T214528Z
LAST-MODIFIED:20240611T214528Z
UID:145264-1726907400-1726921800@www.contemplativeoutreach.org
SUMMARY:Centering Prayer Introductory Workshop
DESCRIPTION:In this introductory workshop\, you will learn the method and principles of Centering Prayer practice in a quiet\, reflective atmosphere. We will cover the history\, psychology\, and theology of the practice. Two prayer sessions and a question-and-answer session are included. \nPlease see the link below to register.
URL:https://www.contemplativeoutreach.org/event/centering-prayer-introductory-workshop-17/
LOCATION:Holy Family Passionist Retreat Center\, 303 Tunxis Road\, West Hartford\, CT\, 6107\, United States
CATEGORIES:Workshop
ATTACH;FMTTYPE=image/png:https://www.contemplativeoutreach.org/wp-content/uploads/2024/06/CCE-Centering-Prayer.png
ORGANIZER;CN="Mike  Smoolca":MAILTO:msmoolca@hotmail.com
END:VEVENT
BEGIN:VEVENT
DTSTART;TZID=UTC:20240921T090000
DTEND;TZID=UTC:20240921T130000
DTSTAMP:20260421T174249
CREATED:20240626T203842Z
LAST-MODIFIED:20240626T203842Z
UID:145748-1726909200-1726923600@www.contemplativeoutreach.org
SUMMARY:Meet God in a New Way: An Introduction to Centering Prayer
DESCRIPTION:Do you have questions about Centering Prayer and whether it is the right practice for you? Are you ready to begin a practice but need help getting started? Are you interested in deepening your current practice but would like a refresher and connection with other practitioners? Join us for “Meet God in a New Way: An Introduction to Centering Prayer\,” as the next step in your journey of connecting with God through the practice of Centering Prayer. \nLet praying without words\, in deep silence and openness\, draw you closer to God. Come to realize the beauty of holiness in using what modern contemplative Thomas Keating called “God’s first language.” This retreat follows the international Contemplative Outreach Ltd. approach\, combining short presentations\, two Centering Prayer practice sessions\, and ample time for questions and discussion. \nThis retreat is open to anyone\, whether you have a longtime Centering Prayer practice or have never tried this form of prayer. There’s enrichment and insight for everyone. \nDoors open at 8:30 a.m. for coffee\, tea\, and bagels. \nPlease see the link below for more information and to register.
URL:https://www.contemplativeoutreach.org/event/meet-god-in-a-new-way-an-introduction-to-centering-prayer-2/
LOCATION:Cathedral of St. Matthew the Apostle\, 1725 Rhode Island Ave NW\, Washington\, D.C.\, 20036
CATEGORIES:Training,Workshop
ATTACH;FMTTYPE=image/jpeg:https://www.contemplativeoutreach.org/wp-content/uploads/2024/06/The-Holy-Trinity-Rublev-e1719434151708.jpg
ORGANIZER;CN="Contemplative Outreach of Maryland and Washington %EF%BB%BF(COMW)":MAILTO:info@ContemplativeOutreachofMarylandandWashington.org
END:VEVENT
BEGIN:VEVENT
DTSTART;TZID=America/Chicago:20240925T173000
DTEND;TZID=America/Chicago:20240925T203000
DTSTAMP:20260421T174249
CREATED:20240912T150600Z
LAST-MODIFIED:20240912T150600Z
UID:147508-1727285400-1727296200@www.contemplativeoutreach.org
SUMMARY:The Deserts Roots of Contemplative Prayer: Emptiness\, Silence & Hiddenness of Self - in person and via Zoom
DESCRIPTION:Belden C. Lane\, Ph.D. has long been fascinated by the relationship between geography and spirituality—asking how the place we live has an effect on our perception of the spiritual life. The desert\, for example\, is a place of scarcity\, silence\, and the deep solitude of the heart. It’s what drew the Desert Fathers and Mothers to the Egyptian desert in the 4th century. This is where the practice of contemplative prayer had its beginnings. We’ll look at three themes in the stories told by the early desert monks: the simplicity of language\, radical forgiveness\, and hiddenness of the self. \nThis event is in person and via Zoom. It will include a time of Centering Prayer. \nPlease see the link below to register. Donations are welcomed!
URL:https://www.contemplativeoutreach.org/event/the-deserts-roots-of-contemplative-prayer-emptiness-silence-hiddenness-of-self-in-person-and-via-zoom/
LOCATION:Internet – Online
CATEGORIES:Webcast,Webinar,Workshop
ATTACH;FMTTYPE=image/jpeg:https://www.contemplativeoutreach.org/wp-content/uploads/2024/09/Diagonal-Sand-e1726153532307.jpg
ORGANIZER;CN="Contemplative Outreach of St. Louis.":MAILTO:cost.louisinformation@gmail.com
END:VEVENT
END:VCALENDAR