BEGIN:VCALENDAR
VERSION:2.0
PRODID:-//Contemplative Outreach, Ltd. - ECPv6.15.17.1//NONSGML v1.0//EN
CALSCALE:GREGORIAN
METHOD:PUBLISH
X-WR-CALNAME:Contemplative Outreach, Ltd.
X-ORIGINAL-URL:https://www.contemplativeoutreach.org
X-WR-CALDESC:Events for Contemplative Outreach, Ltd.
REFRESH-INTERVAL;VALUE=DURATION:PT1H
X-Robots-Tag:noindex
X-PUBLISHED-TTL:PT1H
BEGIN:VTIMEZONE
TZID:UTC
BEGIN:STANDARD
TZOFFSETFROM:+0000
TZOFFSETTO:+0000
TZNAME:UTC
DTSTART:20240101T000000
END:STANDARD
END:VTIMEZONE
BEGIN:VTIMEZONE
TZID:Europe/Amsterdam
BEGIN:DAYLIGHT
TZOFFSETFROM:+0100
TZOFFSETTO:+0200
TZNAME:CEST
DTSTART:20240331T010000
END:DAYLIGHT
BEGIN:STANDARD
TZOFFSETFROM:+0200
TZOFFSETTO:+0100
TZNAME:CET
DTSTART:20241027T010000
END:STANDARD
BEGIN:DAYLIGHT
TZOFFSETFROM:+0100
TZOFFSETTO:+0200
TZNAME:CEST
DTSTART:20250330T010000
END:DAYLIGHT
BEGIN:STANDARD
TZOFFSETFROM:+0200
TZOFFSETTO:+0100
TZNAME:CET
DTSTART:20251026T010000
END:STANDARD
BEGIN:DAYLIGHT
TZOFFSETFROM:+0100
TZOFFSETTO:+0200
TZNAME:CEST
DTSTART:20260329T010000
END:DAYLIGHT
BEGIN:STANDARD
TZOFFSETFROM:+0200
TZOFFSETTO:+0100
TZNAME:CET
DTSTART:20261025T010000
END:STANDARD
END:VTIMEZONE
BEGIN:VEVENT
DTSTART;TZID=UTC:20250607T083000
DTEND;TZID=UTC:20250607T163000
DTSTAMP:20260421T002942
CREATED:20240612T170144Z
LAST-MODIFIED:20240612T170144Z
UID:145322-1749285000-1749313800@www.contemplativeoutreach.org
SUMMARY:Spiritual Radicals: Interspiritual Wisdom from Franciscan and Buddhist Spirituality - in person and online
DESCRIPTION:The parallel teachings of Christ and the Buddha find a home in the spacious minds and inclusive hearts of Franciscan and Buddhist spirituality. During this contemplative day\, we’ll explore how Christian saints Francis and Clare of Assisi\, and Buddhist Zen Master Thich Nhat Hanh\, invite you into the interspiritual sense that love and compassion\, lifelong learning and growing\, peace and social justice\, and a belief that the transformation of the world begins with our own transformation\, and is at the heart of all contemplative paths. Off \nThis program will be offered both in-person and online via Zoom. Information on how to access the program on Zoom will be sent to participants in advance. \nThis program will include a morning and an afternoon session of Centering Prayer. \nPlease see the link below to register.
URL:https://www.contemplativeoutreach.org/event/spiritual-radicals-interspiritual-wisdom-from-franciscan-and-buddhist-spirituality-in-person-and-online/
LOCATION:Holy Family Passionist Retreat Center\, 303 Tunxis Road\, West Hartford\, CT\, 6107\, United States
CATEGORIES:Retreat,Workshop
ATTACH;FMTTYPE=image/png:https://www.contemplativeoutreach.org/wp-content/uploads/2024/06/CCE-Annual-Reflection.png
ORGANIZER;CN="Mike  Smoolca":MAILTO:msmoolca@hotmail.com
END:VEVENT
BEGIN:VEVENT
DTSTART;TZID=UTC:20250621T090000
DTEND;TZID=UTC:20250621T120000
DTSTAMP:20260421T002942
CREATED:20250611T182457Z
LAST-MODIFIED:20250611T182457Z
UID:155955-1750496400-1750507200@www.contemplativeoutreach.org
SUMMARY:​Benedictine Spirituality & Contemplative Prayer: A Timeless Connection - via Zoom
DESCRIPTION:Join Br. Bernard Delcourt\, OHC\, to explore the roots of Centering Prayer in Benedictine wisdom. Benedictine spirituality cultivates a constant awareness of the Divine in daily life through a continuous dialogue of prayer with God. Centering Prayer opens oneself to God beyond thoughts and words\, moving beyond conversations about God to direct communion with the Divine. Connecting the two enhances our prayer life. \nThe retreat will include two Centering Prayer sessions of twenty minutes each and ample time for discussion and Q&A.
URL:https://www.contemplativeoutreach.org/event/benedictine-spirituality-contemplative-prayer-a-timeless-connection-via-zoom/
LOCATION:Internet – Online
CATEGORIES:Retreat,Workshop
ATTACH;FMTTYPE=image/jpeg:https://www.contemplativeoutreach.org/wp-content/uploads/2025/06/Candles.jpg
ORGANIZER;CN="Contemplative Outreach of Maryland and Washington %EF%BB%BF(COMW)":MAILTO:info@ContemplativeOutreachofMarylandandWashington.org
END:VEVENT
BEGIN:VEVENT
DTSTART;TZID=Europe/Amsterdam:20250628T123000
DTEND;TZID=Europe/Amsterdam:20250628T153000
DTSTAMP:20260421T002942
CREATED:20250529T200439Z
LAST-MODIFIED:20250529T200532Z
UID:155600-1751113800-1751124600@www.contemplativeoutreach.org
SUMMARY:Centering Prayer Introductory Workshop - via Zoom
DESCRIPTION:Are you seeking a path to explore or strengthen your inner connection with God at the centre of your being? Centering Prayer is a practice that leads to contemplation by opening oneself to God’s love\, healing\, and inner goodness; moreover\, it nurtures the soul’s desire to grow in kindness and compassion towards all. \nThe online workshop offers a glimpse into this practice through short inputs on the method of Centering Prayer\, along with times of silent practice together. \nYou are most welcome\, whether you are a beginner or simply desire to refresh your practice. \nPlease register by June 26\, 2025\, following the link below.
URL:https://www.contemplativeoutreach.org/event/centering-prayer-introductory-workshop-via-zoom-4/
LOCATION:Internet – Online
CATEGORIES:Workshop
ATTACH;FMTTYPE=image/jpeg:https://www.contemplativeoutreach.org/wp-content/uploads/2025/05/Photo-1-e1748549068615.jpg
ORGANIZER;CN="Sr. Maria Jose Rebelo%2C SSpS":MAILTO:silence.contemplation.steyl@ssps.de
END:VEVENT
END:VCALENDAR