BEGIN:VCALENDAR
VERSION:2.0
PRODID:-//Contemplative Outreach, Ltd. - ECPv6.15.17.1//NONSGML v1.0//EN
CALSCALE:GREGORIAN
METHOD:PUBLISH
X-WR-CALNAME:Contemplative Outreach, Ltd.
X-ORIGINAL-URL:https://www.contemplativeoutreach.org
X-WR-CALDESC:Events for Contemplative Outreach, Ltd.
REFRESH-INTERVAL;VALUE=DURATION:PT1H
X-Robots-Tag:noindex
X-PUBLISHED-TTL:PT1H
BEGIN:VTIMEZONE
TZID:America/New_York
BEGIN:DAYLIGHT
TZOFFSETFROM:-0500
TZOFFSETTO:-0400
TZNAME:EDT
DTSTART:20240310T070000
END:DAYLIGHT
BEGIN:STANDARD
TZOFFSETFROM:-0400
TZOFFSETTO:-0500
TZNAME:EST
DTSTART:20241103T060000
END:STANDARD
BEGIN:DAYLIGHT
TZOFFSETFROM:-0500
TZOFFSETTO:-0400
TZNAME:EDT
DTSTART:20250309T070000
END:DAYLIGHT
BEGIN:STANDARD
TZOFFSETFROM:-0400
TZOFFSETTO:-0500
TZNAME:EST
DTSTART:20251102T060000
END:STANDARD
BEGIN:DAYLIGHT
TZOFFSETFROM:-0500
TZOFFSETTO:-0400
TZNAME:EDT
DTSTART:20260308T070000
END:DAYLIGHT
BEGIN:STANDARD
TZOFFSETFROM:-0400
TZOFFSETTO:-0500
TZNAME:EST
DTSTART:20261101T060000
END:STANDARD
END:VTIMEZONE
BEGIN:VEVENT
DTSTART;TZID=America/New_York:20250806T120000
DTEND;TZID=America/New_York:20250820T133000
DTSTAMP:20260420T212831
CREATED:20250707T173252Z
LAST-MODIFIED:20250707T173252Z
UID:156305-1754481600-1755696600@www.contemplativeoutreach.org
SUMMARY:Centering Prayer Essentials: 3-week course
DESCRIPTION:Opening to Interior Silence \nWe’ll Explore:​\n​\n• Opening to the Divine within and all around us \n• Silence as the universal language of God \n• The How-Tos of Centering Prayer practice \n• Dealing w/ thoughts during meditation \n• Mystical union with God and why it matters \nWednesdays\, August 6\, 13\, & 20\n12:00-1:30pm ET | 9am PT | 4pm GMT \n“You can’t accomplish or work up to union with God because you’ve already got it.”​\n— Richard Rohr \nTaught by Keith Kristich & Marybeth Redmond from Closer Than Breath \nPlease see the link below to register.
URL:https://www.contemplativeoutreach.org/event/centering-prayer-essentials-3-week-course/
LOCATION:Internet – Online
CATEGORIES:Webcast,Workshop
ATTACH;FMTTYPE=image/png:https://www.contemplativeoutreach.org/wp-content/uploads/2025/07/2025-Events-Images-Also-SEO-Sized-e1751909546924.png
ORGANIZER;CN="Keith Kristich%2C Closer Than Breath Community":MAILTO:keith@keithkristich.com
END:VEVENT
END:VCALENDAR