BEGIN:VCALENDAR
VERSION:2.0
PRODID:-//Contemplative Outreach, Ltd. - ECPv6.15.17.1//NONSGML v1.0//EN
CALSCALE:GREGORIAN
METHOD:PUBLISH
X-WR-CALNAME:Contemplative Outreach, Ltd.
X-ORIGINAL-URL:https://www.contemplativeoutreach.org
X-WR-CALDESC:Events for Contemplative Outreach, Ltd.
REFRESH-INTERVAL;VALUE=DURATION:PT1H
X-Robots-Tag:noindex
X-PUBLISHED-TTL:PT1H
BEGIN:VTIMEZONE
TZID:America/New_York
BEGIN:DAYLIGHT
TZOFFSETFROM:-0500
TZOFFSETTO:-0400
TZNAME:EDT
DTSTART:20240310T070000
END:DAYLIGHT
BEGIN:STANDARD
TZOFFSETFROM:-0400
TZOFFSETTO:-0500
TZNAME:EST
DTSTART:20241103T060000
END:STANDARD
BEGIN:DAYLIGHT
TZOFFSETFROM:-0500
TZOFFSETTO:-0400
TZNAME:EDT
DTSTART:20250309T070000
END:DAYLIGHT
BEGIN:STANDARD
TZOFFSETFROM:-0400
TZOFFSETTO:-0500
TZNAME:EST
DTSTART:20251102T060000
END:STANDARD
BEGIN:DAYLIGHT
TZOFFSETFROM:-0500
TZOFFSETTO:-0400
TZNAME:EDT
DTSTART:20260308T070000
END:DAYLIGHT
BEGIN:STANDARD
TZOFFSETFROM:-0400
TZOFFSETTO:-0500
TZNAME:EST
DTSTART:20261101T060000
END:STANDARD
END:VTIMEZONE
BEGIN:VTIMEZONE
TZID:America/Denver
BEGIN:DAYLIGHT
TZOFFSETFROM:-0700
TZOFFSETTO:-0600
TZNAME:MDT
DTSTART:20240310T090000
END:DAYLIGHT
BEGIN:STANDARD
TZOFFSETFROM:-0600
TZOFFSETTO:-0700
TZNAME:MST
DTSTART:20241103T080000
END:STANDARD
BEGIN:DAYLIGHT
TZOFFSETFROM:-0700
TZOFFSETTO:-0600
TZNAME:MDT
DTSTART:20250309T090000
END:DAYLIGHT
BEGIN:STANDARD
TZOFFSETFROM:-0600
TZOFFSETTO:-0700
TZNAME:MST
DTSTART:20251102T080000
END:STANDARD
BEGIN:DAYLIGHT
TZOFFSETFROM:-0700
TZOFFSETTO:-0600
TZNAME:MDT
DTSTART:20260308T090000
END:DAYLIGHT
BEGIN:STANDARD
TZOFFSETFROM:-0600
TZOFFSETTO:-0700
TZNAME:MST
DTSTART:20261101T080000
END:STANDARD
END:VTIMEZONE
BEGIN:VTIMEZONE
TZID:UTC
BEGIN:STANDARD
TZOFFSETFROM:+0000
TZOFFSETTO:+0000
TZNAME:UTC
DTSTART:20240101T000000
END:STANDARD
END:VTIMEZONE
BEGIN:VEVENT
DTSTART;TZID=America/New_York:20251011T083000
DTEND;TZID=America/New_York:20251011T163000
DTSTAMP:20260420T184559
CREATED:20250610T205533Z
LAST-MODIFIED:20250610T205533Z
UID:155872-1760171400-1760200200@www.contemplativeoutreach.org
SUMMARY:InterSpiritual Praxis in Community: Charis Meditation and Charis Circles
DESCRIPTION:Charis Circles are small communities of interspiritual practice. We will introduce interspirituality and Charis Meditation\, developed for interspiritual settings. The day is for those who embrace one religious tradition\, more than one tradition\, or are “spiritual but not religious.” As the Quaker Rufus Jones noted\, “I pin my hopes to quiet processes and small circles\, in which vital and transforming events take place.” Charis Circles embody this vision\, where transformation and revelation within can unfold. \nThis event includes sessions of Centering Prayer along with others who may be practicing a different form of silent prayer.
URL:https://www.contemplativeoutreach.org/event/interspiritual-praxis-in-community-charis-meditation-and-charis-circles/
LOCATION:Holy Family Passionist Retreat Center\, 303 Tunxis Road\, West Hartford\, CT\, 6107\, United States
CATEGORIES:Workshop
ATTACH;FMTTYPE=image/png:https://www.contemplativeoutreach.org/wp-content/uploads/2025/06/CCE-CharisCircles.png
ORGANIZER;CN="Mike  Smoolca":MAILTO:msmoolca@hotmail.com
END:VEVENT
BEGIN:VEVENT
DTSTART;TZID=America/Denver:20251018T083000
DTEND;TZID=America/Denver:20251018T123000
DTSTAMP:20260420T184559
CREATED:20250910T165546Z
LAST-MODIFIED:20250910T165546Z
UID:157236-1760776200-1760790600@www.contemplativeoutreach.org
SUMMARY:Unchanging – Awakening in the Flow of Hope (via Zoom)
DESCRIPTION:We are living in turbulent times. In the churning\, can you feel an anchor to something that is unchanging? Could it be a deep abiding hope? In this presentation\, Rick Klein offers insight to a path out of the dualistic sociopolitical environments that keep us stuck. \nHow might I continue “Growing Up” on my spiritual journey? \nBuilding on teachings from Cynthia Bourgeault\, Richard Rohr\, Thomas Keating and others\, Rick believes the key to future spiritual growth—individually and collectively—begins with hope. Not the ordinary understanding of hope\, but a deeper understanding: Contemplative Hope. As we awaken to the powerful presence of contemplative hope in our lives\, we reveal the unchanging universal truths hidden in plain sight. \nJoin us as we explore how to weave the threads of universal truth into the fabric of our lives and open to the potential of a quantum leap in spiritual “growing up.” This collective leap is essential if we are to show up in new ways that can diffuse the anger and fear in our world. \nWe will begin this workshop with 20 minutes of Centering Prayer. \nThis presentation—Unchanging—grew out of Rick Klein’s February 2025 presentation\, “Unfinished: A Spirituality of Change\,” which explored Ken Wilber’s developmental “Growing Up” lens and left many of us wondering what is mine to do? In this new presentation\, Rick continues the exploration of our collective and individual journeys. If you missed the Unfinished presentation\, you will be able to watch the February recording as part of your registration for Unchanging. The recording is not necessary\, however\, as Unchanging is a unique presentation that builds on themes raised in the previous presentation. \nHope is an orientation of the spirit\, an orientation of the heart; it transcends the world that is immediately experienced\, and is anchored somewhere beyond its horizons.\n—Václav Have \nTime listed are Mountain daylight time. \nRegister using the Event Website link below.
URL:https://www.contemplativeoutreach.org/event/unchanging-awakening-in-the-flow-of-hope-via-zoom/
LOCATION:Internet – Online
CATEGORIES:Workshop
ATTACH;FMTTYPE=image/jpeg:https://www.contemplativeoutreach.org/wp-content/uploads/2025/09/ocean_waves_crashing_on_rocks_during_daytime.jpg
ORGANIZER;CN="Contemplative Outreach of Colorado":MAILTO:staff@centeringprayer.net
END:VEVENT
BEGIN:VEVENT
DTSTART;TZID=UTC:20251025T083000
DTEND;TZID=UTC:20251025T123000
DTSTAMP:20260420T184559
CREATED:20250610T195512Z
LAST-MODIFIED:20250610T195512Z
UID:155887-1761381000-1761395400@www.contemplativeoutreach.org
SUMMARY:Centering Prayer Introductory Workshop: In person and online
DESCRIPTION:In this introductory workshop\, you will learn the ancient method and principles of Centering Prayer practice in a quiet\, reflective atmosphere. We will cover the history\, psychology\, and theology of the practice. Two prayer sessions and a question-and-answer session are included. \nPlease see the link below to register. $50 offering. Scholarships are available.
URL:https://www.contemplativeoutreach.org/event/centering-prayer-introductory-workshop-in-person-and-online-2/
LOCATION:Holy Family Passionist Retreat Center\, 303 Tunxis Road\, West Hartford\, CT\, 6107\, United States
CATEGORIES:Workshop
ATTACH;FMTTYPE=image/png:https://www.contemplativeoutreach.org/wp-content/uploads/2025/06/CCE-Centering-Prayer.png
ORGANIZER;CN="Mike  Smoolca":MAILTO:msmoolca@hotmail.com
END:VEVENT
BEGIN:VEVENT
DTSTART;TZID=UTC:20251025T090000
DTEND;TZID=UTC:20251025T153000
DTSTAMP:20260420T184559
CREATED:20251013T164701Z
LAST-MODIFIED:20251013T164701Z
UID:157655-1761382800-1761406200@www.contemplativeoutreach.org
SUMMARY:“Contemplative Living in the Modern Age─ How to Keep Your Practice Growing” With Fr. Bill Sheehan
DESCRIPTION:In-Person event featuring Father Bill Sheehan. Will include two sessions of Centering Prayer. \n$25 suggested donation.
URL:https://www.contemplativeoutreach.org/event/contemplative-living-in-the-modern-age%e2%94%80-how-to-keep-your-practice-growing-with-fr-bill-sheehan/
LOCATION:St. Alfred’s Episcopal Church\, 1601 Curlew Road\, Palm Harbor\, FL\, 34683\, United States
CATEGORIES:Workshop
ORGANIZER;CN="Contemplative Outreach of Tampa Bay":MAILTO:mertonmind@gmail.com
END:VEVENT
END:VCALENDAR