BEGIN:VCALENDAR
VERSION:2.0
PRODID:-//Contemplative Outreach, Ltd. - ECPv6.15.17.1//NONSGML v1.0//EN
CALSCALE:GREGORIAN
METHOD:PUBLISH
X-ORIGINAL-URL:https://www.contemplativeoutreach.org
X-WR-CALDESC:Events for Contemplative Outreach, Ltd.
REFRESH-INTERVAL;VALUE=DURATION:PT1H
X-Robots-Tag:noindex
X-PUBLISHED-TTL:PT1H
BEGIN:VTIMEZONE
TZID:Asia/Shanghai
BEGIN:STANDARD
TZOFFSETFROM:+0800
TZOFFSETTO:+0800
TZNAME:CST
DTSTART:20250101T000000
END:STANDARD
END:VTIMEZONE
BEGIN:VTIMEZONE
TZID:Europe/Helsinki
BEGIN:DAYLIGHT
TZOFFSETFROM:+0200
TZOFFSETTO:+0300
TZNAME:EEST
DTSTART:20250330T010000
END:DAYLIGHT
BEGIN:STANDARD
TZOFFSETFROM:+0300
TZOFFSETTO:+0200
TZNAME:EET
DTSTART:20251026T010000
END:STANDARD
BEGIN:DAYLIGHT
TZOFFSETFROM:+0200
TZOFFSETTO:+0300
TZNAME:EEST
DTSTART:20260329T010000
END:DAYLIGHT
BEGIN:STANDARD
TZOFFSETFROM:+0300
TZOFFSETTO:+0200
TZNAME:EET
DTSTART:20261025T010000
END:STANDARD
BEGIN:DAYLIGHT
TZOFFSETFROM:+0200
TZOFFSETTO:+0300
TZNAME:EEST
DTSTART:20270328T010000
END:DAYLIGHT
BEGIN:STANDARD
TZOFFSETFROM:+0300
TZOFFSETTO:+0200
TZNAME:EET
DTSTART:20271031T010000
END:STANDARD
END:VTIMEZONE
BEGIN:VTIMEZONE
TZID:America/New_York
BEGIN:DAYLIGHT
TZOFFSETFROM:-0500
TZOFFSETTO:-0400
TZNAME:EDT
DTSTART:20250309T070000
END:DAYLIGHT
BEGIN:STANDARD
TZOFFSETFROM:-0400
TZOFFSETTO:-0500
TZNAME:EST
DTSTART:20251102T060000
END:STANDARD
BEGIN:DAYLIGHT
TZOFFSETFROM:-0500
TZOFFSETTO:-0400
TZNAME:EDT
DTSTART:20260308T070000
END:DAYLIGHT
BEGIN:STANDARD
TZOFFSETFROM:-0400
TZOFFSETTO:-0500
TZNAME:EST
DTSTART:20261101T060000
END:STANDARD
BEGIN:DAYLIGHT
TZOFFSETFROM:-0500
TZOFFSETTO:-0400
TZNAME:EDT
DTSTART:20270314T070000
END:DAYLIGHT
BEGIN:STANDARD
TZOFFSETFROM:-0400
TZOFFSETTO:-0500
TZNAME:EST
DTSTART:20271107T060000
END:STANDARD
END:VTIMEZONE
BEGIN:VTIMEZONE
TZID:UTC
BEGIN:STANDARD
TZOFFSETFROM:+0000
TZOFFSETTO:+0000
TZNAME:UTC
DTSTART:20250101T000000
END:STANDARD
END:VTIMEZONE
BEGIN:VEVENT
DTSTART;TZID=Asia/Shanghai:20260502T083000
DTEND;TZID=Asia/Shanghai:20260502T120000
DTSTAMP:20260420T121838
CREATED:20260406T191757Z
LAST-MODIFIED:20260406T191757Z
UID:161846-1777710600-1777723200@www.contemplativeoutreach.org
SUMMARY:Centering Prayer Introductory Workshop
DESCRIPTION:Join us for a time of stillness\, reflection\, and deepening in the practice of Centering Prayer. Whether you’re new to contemplative prayer or seeking to refresh your prayer life\, this workshop will offer guidance\, practice\, and fellowship. The workshop will be led by Jill Yamada\, a commissioned presenter of Centering Prayer for Contemplative Outreach. \nTime and Place: Centering Prayer Introductory Workshop May 2\, 2026. 8:30 – 12:00 at Our Lady of Fatima Catholic Church – 105 N. La Esperanza\, San Clemente\, CA \nWhat to Expect\nPresentations introducing the method of Centering Prayer.\nGuided times of prayer and silence in community\nOpportunity for questions and reflection \nWhy Attend?\nCentering Prayer invites you to rest in God’s presence beyond thoughts\, words\, or images. This simple yet profound practice can deepen your prayer life\, nurture inner peace\, and ground your relationship with God in silence and stillness. \nRegistration Required: RSVP by April 30th to Rosa Rama Rrama@olfchurch.net\nSuggested donation $30.00
URL:https://www.contemplativeoutreach.org/event/centering-prayer-introductory-workshop-26/
CATEGORIES:Workshop
ORGANIZER;CN="Jill Yamada":MAILTO:jillprays@aol.com
END:VEVENT
BEGIN:VEVENT
DTSTART;TZID=Europe/Helsinki:20260509T123000
DTEND;TZID=Europe/Helsinki:20260509T153000
DTSTAMP:20260420T121838
CREATED:20260327T144817Z
LAST-MODIFIED:20260327T144817Z
UID:161714-1778329800-1778340600@www.contemplativeoutreach.org
SUMMARY:Centering Prayer Introductory Workshop -- via Zoom
DESCRIPTION:Are you seeking a path to explore or strengthen your inner connection with God at the centre of your being? \nCentering Prayer is a practice that leads to contemplation by opening oneself to God’s love\, healing\, and inner goodness; moreover\, it nurtures the soul’s desire to grow in kindness and compassion towards all. \nThe online workshop offers a glimpse into this practice through short inputs on the method of Centering Prayer\, along with times of silent practice together. \nYou are most welcome\, whether you are a beginner or simply desire to refresh your practice. \nPlease see the link below to register.
URL:https://www.contemplativeoutreach.org/event/centering-prayer-introductory-workshop-via-zoom-6/
LOCATION:Internet – Online
CATEGORIES:Workshop
ATTACH;FMTTYPE=image/jpeg:https://www.contemplativeoutreach.org/wp-content/uploads/2026/03/Online-workshop-e1774622863809.jpg
ORGANIZER;CN="Sr. Maria Jose Rebelo%2C SSpS":MAILTO:silence.contemplation.steyl@ssps.de
END:VEVENT
BEGIN:VEVENT
DTSTART;TZID=America/New_York:20260516T083000
DTEND;TZID=America/New_York:20260516T163000
DTSTAMP:20260420T121838
CREATED:20250610T204445Z
LAST-MODIFIED:20250610T204445Z
UID:155912-1778920200-1778949000@www.contemplativeoutreach.org
SUMMARY:Praying with Creation: Encountering God in a Theophanic Universe
DESCRIPTION:The Ancient Church understood the natural world as an expression of God’s creative love. On this day of enrichment\, we’ll explore a Trinitarian vision of Creation as ‘theophanic’\, or ‘God-revealing’. We’ll engage with prayer practices to enter into the love relationship between Creator and Creation\, including practices of Immanence\, Ascent Transcendence\, and Descent. Participants will learn resources for reimagining their relationship with the natural world\, and developing daily and weekly habits to increase their contact with God in Creation. \nThis event includes sessions of Centering Prayer. \nPlease see the link below for more information and to register.
URL:https://www.contemplativeoutreach.org/event/praying-with-creation-encountering-god-in-a-theophanic-universe/
LOCATION:Holy Family Passionist Retreat Center\, 303 Tunxis Road\, West Hartford\, CT\, 6107\, United States
CATEGORIES:Workshop
ATTACH;FMTTYPE=image/png:https://www.contemplativeoutreach.org/wp-content/uploads/2025/06/CCE-Spirituality-of-the-Earth.png
ORGANIZER;CN="Mike  Smoolca":MAILTO:msmoolca@hotmail.com
END:VEVENT
BEGIN:VEVENT
DTSTART;TZID=UTC:20260516T090000
DTEND;TZID=UTC:20260516T120000
DTSTAMP:20260420T121838
CREATED:20260209T175116Z
LAST-MODIFIED:20260209T175116Z
UID:160709-1778922000-1778932800@www.contemplativeoutreach.org
SUMMARY:Introduction to Centering Prayer Workshop
DESCRIPTION:Join us for the Contemplative Outreach Introduction to Centering Prayer Workshop held on the beautiful shores of Lake Bloomington Illinois. \nPlease see the link below to register.
URL:https://www.contemplativeoutreach.org/event/introduction-to-centering-prayer-workshop-40/
LOCATION:East Bay Camp\, 24248 Ron Smith Memorial Hwy\, HUDSON\, IL\, 61748\, United States
CATEGORIES:Workshop
ORGANIZER;CN="Central Illinois Contemplative Outreach":MAILTO:acolloto@gmail.com
END:VEVENT
BEGIN:VEVENT
DTSTART;TZID=America/New_York:20260530T083000
DTEND;TZID=America/New_York:20260530T123000
DTSTAMP:20260420T121838
CREATED:20250610T194712Z
LAST-MODIFIED:20250610T194712Z
UID:155927-1780129800-1780144200@www.contemplativeoutreach.org
SUMMARY:Centering Prayer Introductory Workshop: In person and online
DESCRIPTION:In this introductory workshop\, you will learn the ancient method and principles of Centering Prayer practice in a quiet\, reflective atmosphere. We will cover the history\, psychology\, and theology of the practice. Two prayer sessions and a question-and-answer session are included. \nPlease see the link below to register. $50 offering. Scholarships are available.
URL:https://www.contemplativeoutreach.org/event/centering-prayer-introductory-workshop-in-person-and-online/
LOCATION:Holy Family Passionist Retreat Center\, 303 Tunxis Road\, West Hartford\, CT\, 6107\, United States
CATEGORIES:Workshop
ATTACH;FMTTYPE=image/png:https://www.contemplativeoutreach.org/wp-content/uploads/2025/06/CCE-Centering-Prayer-1.png
ORGANIZER;CN="Mike Smoolca":MAILTO:msmoolca@hotmail.com
END:VEVENT
END:VCALENDAR