BEGIN:VCALENDAR
VERSION:2.0
PRODID:-//Contemplative Outreach, Ltd. - ECPv6.15.17.1//NONSGML v1.0//EN
CALSCALE:GREGORIAN
METHOD:PUBLISH
X-WR-CALNAME:Contemplative Outreach, Ltd.
X-ORIGINAL-URL:https://www.contemplativeoutreach.org
X-WR-CALDESC:Events for Contemplative Outreach, Ltd.
REFRESH-INTERVAL;VALUE=DURATION:PT1H
X-Robots-Tag:noindex
X-PUBLISHED-TTL:PT1H
BEGIN:VTIMEZONE
TZID:UTC
BEGIN:STANDARD
TZOFFSETFROM:+0000
TZOFFSETTO:+0000
TZNAME:UTC
DTSTART:20240101T000000
END:STANDARD
END:VTIMEZONE
BEGIN:VEVENT
DTSTART;TZID=UTC:20250123T180000
DTEND;TZID=UTC:20250126T140000
DTSTAMP:20260421T125800
CREATED:20241125T190709Z
LAST-MODIFIED:20241125T190709Z
UID:150416-1737655200-1737900000@www.contemplativeoutreach.org
SUMMARY:Retreat in Iceland with Mary Dwyer
DESCRIPTION:Welcoming Forgiveness \nThis retreat will be in silence with extended periods of Centering Prayer (Contemplative Prayer). Information and support will be available for those that do not know Centering Prayer. \nMary Dwyer will explore with us the dance between the Welcoming Prayer practice and Forgiveness. Soul friending will be available. \nThe Welcoming Prayer is a method of consenting to God’s presence and action in our physical and emotional reactions to events and situations in daily life. The purpose of the Welcoming Prayer is to deepen our relationship with God through consenting in the ordinary activities of our day — “consent-on-the-go.” \nCentering Prayer is a receptive method of Christian silent prayer which deepens our relationship with God\, the Indwelling Presence … a prayer in which we can experience God’s presence within us\, closer than breathing\, closer than thinking\, closer than consciousness itself. \nPrice: 110.000 Icelandic kronas – Room for one / 85.000 Icelandic kronas – Room for two. Food is included. \nThe retreat will be at Hotel Kríunes in the capital area in Iceland. It´s a long weekend from the afternoon of the 23rd of January until midday of the 26th of January. Sr. Arndís G. Bernhardsdóttir Linn and Bylgja Dís Gunnarsdóttir will lead the retreat. For more information send an email to Bylgja: kyrrdarbaen@gmail.com.
URL:https://www.contemplativeoutreach.org/event/retreat-in-iceland-with-mary-dwyer/
CATEGORIES:Retreat,Workshop
ATTACH;FMTTYPE=image/jpeg:https://www.contemplativeoutreach.org/wp-content/uploads/2024/11/Kriunes-e1732561615249.jpg
END:VEVENT
END:VCALENDAR