BEGIN:VCALENDAR
VERSION:2.0
PRODID:-//Contemplative Outreach, Ltd. - ECPv6.15.17.1//NONSGML v1.0//EN
CALSCALE:GREGORIAN
METHOD:PUBLISH
X-WR-CALNAME:Contemplative Outreach, Ltd.
X-ORIGINAL-URL:https://www.contemplativeoutreach.org
X-WR-CALDESC:Events for Contemplative Outreach, Ltd.
REFRESH-INTERVAL;VALUE=DURATION:PT1H
X-Robots-Tag:noindex
X-PUBLISHED-TTL:PT1H
BEGIN:VTIMEZONE
TZID:UTC
BEGIN:STANDARD
TZOFFSETFROM:+0000
TZOFFSETTO:+0000
TZNAME:UTC
DTSTART:20240101T000000
END:STANDARD
END:VTIMEZONE
BEGIN:VEVENT
DTSTART;TZID=UTC:20250607T083000
DTEND;TZID=UTC:20250607T163000
DTSTAMP:20260421T020236
CREATED:20240612T170144Z
LAST-MODIFIED:20240612T170144Z
UID:145322-1749285000-1749313800@www.contemplativeoutreach.org
SUMMARY:Spiritual Radicals: Interspiritual Wisdom from Franciscan and Buddhist Spirituality - in person and online
DESCRIPTION:The parallel teachings of Christ and the Buddha find a home in the spacious minds and inclusive hearts of Franciscan and Buddhist spirituality. During this contemplative day\, we’ll explore how Christian saints Francis and Clare of Assisi\, and Buddhist Zen Master Thich Nhat Hanh\, invite you into the interspiritual sense that love and compassion\, lifelong learning and growing\, peace and social justice\, and a belief that the transformation of the world begins with our own transformation\, and is at the heart of all contemplative paths. Off \nThis program will be offered both in-person and online via Zoom. Information on how to access the program on Zoom will be sent to participants in advance. \nThis program will include a morning and an afternoon session of Centering Prayer. \nPlease see the link below to register.
URL:https://www.contemplativeoutreach.org/event/spiritual-radicals-interspiritual-wisdom-from-franciscan-and-buddhist-spirituality-in-person-and-online/
LOCATION:Holy Family Passionist Retreat Center\, 303 Tunxis Road\, West Hartford\, CT\, 6107\, United States
CATEGORIES:Retreat,Workshop
ATTACH;FMTTYPE=image/png:https://www.contemplativeoutreach.org/wp-content/uploads/2024/06/CCE-Annual-Reflection.png
ORGANIZER;CN="Mike  Smoolca":MAILTO:msmoolca@hotmail.com
END:VEVENT
END:VCALENDAR