BEGIN:VCALENDAR
VERSION:2.0
PRODID:-//Contemplative Outreach, Ltd. - ECPv6.15.17.1//NONSGML v1.0//EN
CALSCALE:GREGORIAN
METHOD:PUBLISH
X-WR-CALNAME:Contemplative Outreach, Ltd.
X-ORIGINAL-URL:https://www.contemplativeoutreach.org
X-WR-CALDESC:Events for Contemplative Outreach, Ltd.
REFRESH-INTERVAL;VALUE=DURATION:PT1H
X-Robots-Tag:noindex
X-PUBLISHED-TTL:PT1H
BEGIN:VTIMEZONE
TZID:UTC
BEGIN:STANDARD
TZOFFSETFROM:+0000
TZOFFSETTO:+0000
TZNAME:UTC
DTSTART:20250101T000000
END:STANDARD
END:VTIMEZONE
BEGIN:VEVENT
DTSTART;TZID=UTC:20260112T183000
DTEND;TZID=UTC:20260112T200000
DTSTAMP:20260420T160241
CREATED:20260102T172455Z
LAST-MODIFIED:20260102T172455Z
UID:159455-1768242600-1768248000@www.contemplativeoutreach.org
SUMMARY:Basic Centering Prayer
DESCRIPTION:If you enjoyed the Introductory Workshop and want to make Centering Prayer a daily practice\, this six-week basic course is the next step. Each week\, you will view a video-recorded talk on the Spiritual Journey by Fr. Thomas Keating\, followed by group discussion. \nThe course will cover: \nPrayer as relationship with God\,\nThe four levels of scriptural experience\,\nResting in God\,\nCentering Prayer as method and\,\nProgress in Centering Prayer. \nEach week\, we will begin with Centering Prayer. Your facilitators will provide an introduction to the topic for the week and we will watch the video (20 to 25 minutes) together. Then we will look over the questions to be discussed. Discussion will take place in the break-out groups and we will gather together once again to close out the class. \nTime Listed are Mountain Time (Denver\, Colorado)\nClick the website link below to register. Scholarships are available.
URL:https://www.contemplativeoutreach.org/event/basic-centering-prayer/
LOCATION:Internet – Online
CATEGORIES:Webinar,Workshop
ATTACH;FMTTYPE=image/jpeg:https://www.contemplativeoutreach.org/wp-content/uploads/2026/01/LotusFlower.jpg
ORGANIZER;CN="Contemplative Outreach of Colorado":MAILTO:staff@centeringprayer.net
END:VEVENT
END:VCALENDAR