BEGIN:VCALENDAR
VERSION:2.0
PRODID:-//Contemplative Outreach, Ltd. - ECPv6.15.17.1//NONSGML v1.0//EN
CALSCALE:GREGORIAN
METHOD:PUBLISH
X-WR-CALNAME:Contemplative Outreach, Ltd.
X-ORIGINAL-URL:https://www.contemplativeoutreach.org
X-WR-CALDESC:Events for Contemplative Outreach, Ltd.
REFRESH-INTERVAL;VALUE=DURATION:PT1H
X-Robots-Tag:noindex
X-PUBLISHED-TTL:PT1H
BEGIN:VTIMEZONE
TZID:UTC
BEGIN:STANDARD
TZOFFSETFROM:+0000
TZOFFSETTO:+0000
TZNAME:UTC
DTSTART:20250101T000000
END:STANDARD
END:VTIMEZONE
BEGIN:VTIMEZONE
TZID:America/Los_Angeles
BEGIN:DAYLIGHT
TZOFFSETFROM:-0800
TZOFFSETTO:-0700
TZNAME:PDT
DTSTART:20250309T100000
END:DAYLIGHT
BEGIN:STANDARD
TZOFFSETFROM:-0700
TZOFFSETTO:-0800
TZNAME:PST
DTSTART:20251102T090000
END:STANDARD
BEGIN:DAYLIGHT
TZOFFSETFROM:-0800
TZOFFSETTO:-0700
TZNAME:PDT
DTSTART:20260308T100000
END:DAYLIGHT
BEGIN:STANDARD
TZOFFSETFROM:-0700
TZOFFSETTO:-0800
TZNAME:PST
DTSTART:20261101T090000
END:STANDARD
BEGIN:DAYLIGHT
TZOFFSETFROM:-0800
TZOFFSETTO:-0700
TZNAME:PDT
DTSTART:20270314T100000
END:DAYLIGHT
BEGIN:STANDARD
TZOFFSETFROM:-0700
TZOFFSETTO:-0800
TZNAME:PST
DTSTART:20271107T090000
END:STANDARD
END:VTIMEZONE
BEGIN:VEVENT
DTSTART;TZID=UTC:20260418T083000
DTEND;TZID=UTC:20260418T120000
DTSTAMP:20260420T123726
CREATED:20260311T165437Z
LAST-MODIFIED:20260311T170042Z
UID:161365-1776501000-1776513600@www.contemplativeoutreach.org
SUMMARY:Centering Prayer Introductory Workshop
DESCRIPTION:April 18th\, 2026 at All Saints Episcopal Church in Fort Lauderdale\, Florida.\n8:30am-12noon Eastern Time\nPlease RSVP by emailing Ann Thomas COSEFLA@gmail.com \nFor more information\, see the event link below.
URL:https://www.contemplativeoutreach.org/event/centering-prayer-introductory-workshop-25/
LOCATION:All Saints Episcopal Church (FL)\, 333 Tarpon Drive\, Fort Lauderdale\, FL\, 33301\, United States
CATEGORIES:Workshop
ORGANIZER;CN="CO of SE Florida":MAILTO:cosefla@gmail.com
END:VEVENT
BEGIN:VEVENT
DTSTART;TZID=America/Los_Angeles:20260418T130000
DTEND;TZID=America/Los_Angeles:20260418T170000
DTSTAMP:20260420T123726
CREATED:20260312T201138Z
LAST-MODIFIED:20260313T032202Z
UID:161410-1776517200-1776531600@www.contemplativeoutreach.org
SUMMARY:Introduction to Centering Prayer Workshop
DESCRIPTION:Join us on April 18 from 1:00pm-5:00pm (Pacific) for a time of stillness\, reflection\, and deepening in the practice of Centering Prayer. Whether you’re new to contemplative prayer or seeking to refresh your prayer life\, this workshop will offer guidance\, practice\, and fellowship. The workshop will be led by the Rev. Darryl W. Kozak\, a Commissioned Presenter of Centering Prayer for Contemplative Outreach and a Pastor of the Evangelical Lutheran Church in America (ELCA). \nWhat to Expect:\nPresentations introducing the method of Centering Prayer\nGuided times of prayer and silence in community\nOpportunity for questions and reflection \nWhy Attend?\nCentering Prayer invites you to rest in God’s presence beyond thoughts\, words\, or images. This simple yet profound practice can deepen your prayer life\, nurture inner peace\, and ground your relationship with God in silence and stillness. \nLight snacks and beverages will be available.\nSpace is limited to 25 participants\nRegistration deadline: Wednesday\, April 15
URL:https://www.contemplativeoutreach.org/event/introduction-to-centering-prayer-workshop-41/
LOCATION:Bethany Lutheran Church\, 1609 Hamner Avenue\, Norco\, CA\, 92860\, United States
CATEGORIES:Workshop
ATTACH;FMTTYPE=image/jpeg:https://www.contemplativeoutreach.org/wp-content/uploads/2026/03/IMG_3989-e1773346178439.jpeg
ORGANIZER;CN="Pastor Darryl W. Kozak":MAILTO:RevKozak@gmail.com
END:VEVENT
END:VCALENDAR